BEGIN:VCALENDAR
VERSION:2.0
PRODID:-//Settlers Tavern - ECPv6.15.18//NONSGML v1.0//EN
CALSCALE:GREGORIAN
METHOD:PUBLISH
X-ORIGINAL-URL:https://www.settlerstavern.com
X-WR-CALDESC:Events for Settlers Tavern
REFRESH-INTERVAL;VALUE=DURATION:PT1H
X-Robots-Tag:noindex
X-PUBLISHED-TTL:PT1H
BEGIN:VTIMEZONE
TZID:Australia/Perth
BEGIN:STANDARD
TZOFFSETFROM:+0800
TZOFFSETTO:+0800
TZNAME:AWST
DTSTART:20240101T000000
END:STANDARD
END:VTIMEZONE
BEGIN:VEVENT
DTSTART;TZID=Australia/Perth:20251026T153000
DTEND;TZID=Australia/Perth:20251026T183000
DTSTAMP:20260422T075357
CREATED:20250910T052230Z
LAST-MODIFIED:20250926T044745Z
UID:10001023-1761492600-1761503400@www.settlerstavern.com
SUMMARY:EMJAY
DESCRIPTION:Since embarking on a solo career in early 2018\, Emjay Angeni has melted hearts and captured imaginations throughout Australasia with her relaxed brand of coastal roots/pop and affable nature both on and off stage.\n\n\n\n\n\n\n\n\n\n\n\n\n\n\n\n\n\n\n\n\n\n\nInfluenced by the likes of Jack Johnson\, Ben Harper\, Donavon Frankenwrieter and Norah Jones; Emjay weaves a blend of her own original songs\, interpretations of crowd favourites and spontaneous stories which blend to casually invite her audiences to relax\, smile and engage with each other as well as her performance–and all with an ease you might feel if you were sat for a cup of tea in her living room.\n\n\nThis point of difference has seen her become a sought-after act by many West Australian venues of note\, including residencies playing six nights per week\, for months on end at famous locations such as El Questro Station and Lake Argyle Resort. Emjay has appeared at Nukara\, WAM Fest and Fluffstival music festivals as a solo artist\, supported acts the likes of Saritah\, Juzzie Smith\, Karin Page and Little Quirks\, and also performs as one half of folk duo “Moon & Honey” with her partner Dan White-who opened Good Day Sunshine Festival October 2020\, performing with the likes of John Butler\, XavierRudd\, Eskimo Joe\, and Vicki Thorne. In addition to this Emjay appeared as a feature vocalist with Fluid Groove act “Blue ChildCollective” who were awarded “Best Regional Act” at the 2019 West Australian Music Awards and were regulars on the festival and international touring circuit-recently playing NZ Spirit Fest\, Bendigo Blues and Roots\, Nannup Music Festival\, Nukara Music Festival and having supported such acts as Xavier Rudd\, Sticky Fingers and The Cat Empire.
URL:https://www.settlerstavern.com/event/emjay-5/
LOCATION:Settlers Tavern\, 114 Bussell Hwy\, Margaret River\, WA\, 6285\, Australia
CATEGORIES:Live Music,Live Music Australia,Pop,Roots
ATTACH;FMTTYPE=image/jpeg:https://www.settlerstavern.com/wp-content/uploads/2025/09/EMJAY.jpg
GEO:-33.9498;115.0736
X-APPLE-STRUCTURED-LOCATION;VALUE=URI;X-ADDRESS=Settlers Tavern 114 Bussell Hwy Margaret River WA 6285 Australia;X-APPLE-RADIUS=500;X-TITLE=114 Bussell Hwy:geo:115.0736,-33.9498
END:VEVENT
END:VCALENDAR