BEGIN:VCALENDAR
VERSION:2.0
PRODID:-//Settlers Tavern - ECPv6.15.18//NONSGML v1.0//EN
CALSCALE:GREGORIAN
METHOD:PUBLISH
X-ORIGINAL-URL:https://www.settlerstavern.com
X-WR-CALDESC:Events for Settlers Tavern
REFRESH-INTERVAL;VALUE=DURATION:PT1H
X-Robots-Tag:noindex
X-PUBLISHED-TTL:PT1H
BEGIN:VTIMEZONE
TZID:Australia/Perth
BEGIN:STANDARD
TZOFFSETFROM:+0800
TZOFFSETTO:+0800
TZNAME:AWST
DTSTART:20240101T000000
END:STANDARD
END:VTIMEZONE
BEGIN:VEVENT
DTSTART;TZID=Australia/Perth:20250704T210000
DTEND;TZID=Australia/Perth:20250704T233000
DTSTAMP:20260422T125014
CREATED:20250526T052545Z
LAST-MODIFIED:20250526T052545Z
UID:10000970-1751662800-1751671800@www.settlerstavern.com
SUMMARY:GAUDION + HEIN COOPER
DESCRIPTION:Gaudion and Hein Cooper unite for an unforgettable co-headline tour\, taking the stage together following their support for Ziggy Alberts on his highly anticipated Australia Tour 2025.  \nGaudion\, the rising singer-songwriter from outback New South Wales\, is celebrating the consistent release of music in 2025. Known for his knack for heartfelt storytelling and unforgettable melodies\, Gaudion has captivated audiences worldwide with millions of streams on tracks like Feel Like Clarity and i believe in u. His music beautifully captures the essence of youthful adventure and heartfelt connection.  \nHein Cooper\, inspired by nature and his coastal lifestyle in regional Australia\, blends indie folk and blues influences to craft songs about self-transformation\, authenticity\, and dreaming. With three studio albums and international tours supporting James Bay\, Lukas Graham\, and Hollow Coves\, he has cemented his place in the folk roots scene. His 2016 hit Rusty (via Indica Records) has over 23 million Spotify streams\, and his music has earned high rotation on Triple J\, a Like a Version performance (2019)\, and chart success in French Canada.  \nDon’t miss this rare opportunity to see two of Australia’s finest singer-songwriters as they deliver a performance brimming with passion\, authenticity\, and celebration. 
URL:https://www.settlerstavern.com/event/gaudion-hein-cooper/
LOCATION:Settlers Tavern\, 114 Bussell Hwy\, Margaret River\, WA\, 6285\, Australia
CATEGORIES:Folk,Indie,Live Music,Live Music Australia
ATTACH;FMTTYPE=image/png:https://www.settlerstavern.com/wp-content/uploads/2025/05/Screenshot-2025-05-26-at-1.24.40 PM.png
GEO:-33.9498;115.0736
X-APPLE-STRUCTURED-LOCATION;VALUE=URI;X-ADDRESS=Settlers Tavern 114 Bussell Hwy Margaret River WA 6285 Australia;X-APPLE-RADIUS=500;X-TITLE=114 Bussell Hwy:geo:115.0736,-33.9498
END:VEVENT
END:VCALENDAR