BEGIN:VCALENDAR
VERSION:2.0
PRODID:-//Settlers Tavern - ECPv6.15.18//NONSGML v1.0//EN
CALSCALE:GREGORIAN
METHOD:PUBLISH
X-WR-CALNAME:Settlers Tavern
X-ORIGINAL-URL:https://www.settlerstavern.com
X-WR-CALDESC:Events for Settlers Tavern
REFRESH-INTERVAL;VALUE=DURATION:PT1H
X-Robots-Tag:noindex
X-PUBLISHED-TTL:PT1H
BEGIN:VTIMEZONE
TZID:Australia/Perth
BEGIN:STANDARD
TZOFFSETFROM:+0800
TZOFFSETTO:+0800
TZNAME:AWST
DTSTART:20240101T000000
END:STANDARD
END:VTIMEZONE
BEGIN:VEVENT
DTSTART;TZID=Australia/Perth:20250228T210000
DTEND;TZID=Australia/Perth:20250228T233000
DTSTAMP:20260423T060434
CREATED:20241011T044923Z
LAST-MODIFIED:20250115T080514Z
UID:10000880-1740776400-1740785400@www.settlerstavern.com
SUMMARY:DJ MARCEL
DESCRIPTION:Marcel’s unique blend of summer house and commercial dance features at beach clubs\, late night bars\, night clubs and events\, both in Fremantle and beyond. \nMarcel currently holds seasonal residencies at Coast Beach Club\, Sweetwater Rooftop Bar and Cottesloe Hotel Beach Club. He also performs guest sets at popular venues across Perth\, including The Aviary\, Hugo’s Nightclub\, The Federal Hotel\, Toots Disco\, The Windsor Hotel and more. \nMarcel has supported interstate headline acts including Bag Raiders\, Hayden James\, Confidence Man\, Yolanda Be Cool\, Young Franco and KLP. He has worked internationally in Thailand\, Bali\, the Maldives\, and England\, where he began his career spinning house music in London. \nWith his signature sounds\, passion for music and professionalism\, Marcel remains in demand within the West Australian scene.
URL:https://www.settlerstavern.com/event/dj-marcel/
LOCATION:Settlers Tavern\, 114 Bussell Hwy\, Margaret River\, WA\, 6285\, Australia
CATEGORIES:Dance,DJ,House
ATTACH;FMTTYPE=image/jpeg:https://www.settlerstavern.com/wp-content/uploads/2024/10/Feb-28-Insta.jpg
GEO:-33.9498;115.0736
X-APPLE-STRUCTURED-LOCATION;VALUE=URI;X-ADDRESS=Settlers Tavern 114 Bussell Hwy Margaret River WA 6285 Australia;X-APPLE-RADIUS=500;X-TITLE=114 Bussell Hwy:geo:115.0736,-33.9498
END:VEVENT
END:VCALENDAR