BEGIN:VCALENDAR
VERSION:2.0
PRODID:-//Settlers Tavern - ECPv6.15.18//NONSGML v1.0//EN
CALSCALE:GREGORIAN
METHOD:PUBLISH
X-ORIGINAL-URL:https://www.settlerstavern.com
X-WR-CALDESC:Events for Settlers Tavern
REFRESH-INTERVAL;VALUE=DURATION:PT1H
X-Robots-Tag:noindex
X-PUBLISHED-TTL:PT1H
BEGIN:VTIMEZONE
TZID:Australia/Perth
BEGIN:STANDARD
TZOFFSETFROM:+0800
TZOFFSETTO:+0800
TZNAME:AWST
DTSTART:20240101T000000
END:STANDARD
END:VTIMEZONE
BEGIN:VEVENT
DTSTART;TZID=Australia/Perth:20250215T210000
DTEND;TZID=Australia/Perth:20250215T233000
DTSTAMP:20260423T061618
CREATED:20250124T024629Z
LAST-MODIFIED:20250124T024629Z
UID:10000921-1739653200-1739662200@www.settlerstavern.com
SUMMARY:JADE RICH
DESCRIPTION:West Australian singer-songwriter Jade Rich is back with a brand new single titled “13”\, a hook-heavy pop song signifying a transformative moment in her musical journey.\n“13” follows the widespread support of previous release “Polite” (August 2023) which found its place on Spotify’s coveted ‘Fresh Finds Pop’ Playlist\, garnered over 18K streams\, accolades from respected music media moguls Pilerats and Backseat Mafia\, and a near sold-out live launch in her hometown of Perth.\nCo-written and co-produced in collaboration with songwriter Reece Lenzo (Call Me Karizma\, 44phantom\, CHEZ)\, and mixed and mastered by Gareth Thompson (Wallace\, Tyde Levi)\, new single ’13’ delves into themes of young love and nostalgia\, reminiscing on early adventures with a crush that brought solace during a difficult time\, encapsulating a feeling of freedom that comes with being thirteen.\n“I hit a rough patch\, making decisions based on my reckless mindset. The urge to escape was strong.” says Jade.\n“I found comfort in friendship. The adventures we had\, the memories we made\, the loving support I received; it made everything feel better. Enjoying the simple things\, like mini road trips\, beach sunsets\, rock jumping\, ocean swims\, lazy mornings\, and late movie nights\, made me feel free and young. It was like being thirteen again\, sitting with a crush on Scarborough Beach\, watching the sunset.”\nJade invites the listener into her world in a more intimate way than ever before\, offering insights akin to those appreciated in artists like Holly Humberstone\, coupled with the pop grooves of her inspirations like Griff & the soulful resonance of Renee Rapp.\nJade Rich’s dynamic presence extends beyond the studio\, as she has graced the stages alongside prominent West Australian acts such as Jordy Maxwell\, Coterie\, Supathick\, Teischa\, Death By Denim\, and Riley Pearce\, and in her first 12 months has played live at festivals including FIFA Fan Festival Perth and WAM’s Scarbs Beach Party\, solidifying her status as a rising star in the Australian music scene.\nTo celebrate the release of “13\,” Jade Rich will embark on a tour across Western Australia’s South West\, accompanied by her full band and a lineup of special supports yet to be announced.\n‘13’ will be out on all platforms on Friday\, April 26.\n“Influences are spot on here! JADE RICH’s vocals are crystal clear in ‘Polite’  i loveeee” – Anika Luna\, triple j\n“Felt a real Odette energy with this one! your voice paired with a tender jazzy moment like this is a match made in heaven.” – Abby Butler\, triple j\n\n“Rich’s striking\, layered vocals float ethereally above the mix\, pulling the listener in.” – Will Backler\, Pilerats
URL:https://www.settlerstavern.com/event/jade-rich-3/
LOCATION:Settlers Tavern\, 114 Bussell Hwy\, Margaret River\, WA\, 6285\, Australia
CATEGORIES:Live Music,Live Music Australia,Music,Pop,RnB,Soul
ATTACH;FMTTYPE=image/jpeg:https://www.settlerstavern.com/wp-content/uploads/2024/04/000061-2-scaled-1.jpg
GEO:-33.9498;115.0736
X-APPLE-STRUCTURED-LOCATION;VALUE=URI;X-ADDRESS=Settlers Tavern 114 Bussell Hwy Margaret River WA 6285 Australia;X-APPLE-RADIUS=500;X-TITLE=114 Bussell Hwy:geo:115.0736,-33.9498
END:VEVENT
END:VCALENDAR