BEGIN:VCALENDAR
VERSION:2.0
PRODID:-//Settlers Tavern - ECPv6.15.18//NONSGML v1.0//EN
CALSCALE:GREGORIAN
METHOD:PUBLISH
X-WR-CALNAME:Settlers Tavern
X-ORIGINAL-URL:https://www.settlerstavern.com
X-WR-CALDESC:Events for Settlers Tavern
REFRESH-INTERVAL;VALUE=DURATION:PT1H
X-Robots-Tag:noindex
X-PUBLISHED-TTL:PT1H
BEGIN:VTIMEZONE
TZID:Australia/Perth
BEGIN:STANDARD
TZOFFSETFROM:+0800
TZOFFSETTO:+0800
TZNAME:AWST
DTSTART:20240101T000000
END:STANDARD
END:VTIMEZONE
BEGIN:VEVENT
DTSTART;TZID=Australia/Perth:20250207T210000
DTEND;TZID=Australia/Perth:20250207T233000
DTSTAMP:20260423T060340
CREATED:20241125T082940Z
LAST-MODIFIED:20250110T020444Z
UID:10000892-1738962000-1738971000@www.settlerstavern.com
SUMMARY:RUTS
DESCRIPTION:Get ready to groove with RUTS at Settlers Tavern on Friday\, 7 February. Bringing you the best of house and disco\, RUTS will have the dance floor buzzing all night long with infectious beats and smooth grooves. Whether you’re a house music aficionado or a disco enthusiast\, this night is set to bring the heat and good vibes to Margaret River.
URL:https://www.settlerstavern.com/event/jorge/
LOCATION:Settlers Tavern\, 114 Bussell Hwy\, Margaret River\, WA\, 6285\, Australia
CATEGORIES:DJ,House
ATTACH;FMTTYPE=image/png:https://www.settlerstavern.com/wp-content/uploads/2024/11/Screenshot-2024-11-27-at-12.19.21 PM.png
GEO:-33.9498;115.0736
X-APPLE-STRUCTURED-LOCATION;VALUE=URI;X-ADDRESS=Settlers Tavern 114 Bussell Hwy Margaret River WA 6285 Australia;X-APPLE-RADIUS=500;X-TITLE=114 Bussell Hwy:geo:115.0736,-33.9498
END:VEVENT
END:VCALENDAR