BEGIN:VCALENDAR
VERSION:2.0
PRODID:-//Settlers Tavern - ECPv6.15.18//NONSGML v1.0//EN
CALSCALE:GREGORIAN
METHOD:PUBLISH
X-WR-CALNAME:Settlers Tavern
X-ORIGINAL-URL:https://www.settlerstavern.com
X-WR-CALDESC:Events for Settlers Tavern
REFRESH-INTERVAL;VALUE=DURATION:PT1H
X-Robots-Tag:noindex
X-PUBLISHED-TTL:PT1H
BEGIN:VTIMEZONE
TZID:Australia/Perth
BEGIN:STANDARD
TZOFFSETFROM:+0800
TZOFFSETTO:+0800
TZNAME:AWST
DTSTART:20240101T000000
END:STANDARD
END:VTIMEZONE
BEGIN:VEVENT
DTSTART;TZID=Australia/Perth:20250131T210000
DTEND;TZID=Australia/Perth:20250131T233000
DTSTAMP:20260423T060434
CREATED:20241127T073800Z
LAST-MODIFIED:20241127T073800Z
UID:10000900-1738357200-1738366200@www.settlerstavern.com
SUMMARY:DJ SASH
DESCRIPTION:Get ready for a night of electrifying beats and soulful tunes as award-winning WA songwriter Sash Seabourne takes the stage for an unforgettable DJ set at Settlers Tavern. Known for his captivating folk performances and acclaimed solo career\, Sash is set to bring a unique blend of rhythms\, melodies\, and infectious energy to the dance floor. Join us for a night of musical magic that transcends genres\, showcasing Sash’s versatility as both a celebrated folk artist and a dynamic DJ. \n  \n 
URL:https://www.settlerstavern.com/event/dj-sash-3/
LOCATION:WA
CATEGORIES:DJ,Featured,Music
ATTACH;FMTTYPE=image/png:https://www.settlerstavern.com/wp-content/uploads/2024/11/Screenshot-2024-11-27-at-3.35.29 PM.png
END:VEVENT
END:VCALENDAR