BEGIN:VCALENDAR
VERSION:2.0
PRODID:-//Settlers Tavern - ECPv6.15.18//NONSGML v1.0//EN
CALSCALE:GREGORIAN
METHOD:PUBLISH
X-WR-CALNAME:Settlers Tavern
X-ORIGINAL-URL:https://www.settlerstavern.com
X-WR-CALDESC:Events for Settlers Tavern
REFRESH-INTERVAL;VALUE=DURATION:PT1H
X-Robots-Tag:noindex
X-PUBLISHED-TTL:PT1H
BEGIN:VTIMEZONE
TZID:Australia/Perth
BEGIN:STANDARD
TZOFFSETFROM:+0800
TZOFFSETTO:+0800
TZNAME:AWST
DTSTART:20240101T000000
END:STANDARD
END:VTIMEZONE
BEGIN:VEVENT
DTSTART;TZID=Australia/Perth:20250104T210000
DTEND;TZID=Australia/Perth:20250104T233000
DTSTAMP:20260423T074722
CREATED:20241205T034513Z
LAST-MODIFIED:20241205T034513Z
UID:10000903-1736024400-1736033400@www.settlerstavern.com
SUMMARY:MUFASSA
DESCRIPTION:The loveable Lion is back in WA this Summer with a band show at Settlers Tav!\n\nMUFASSA is your typical laid-back Aussie nomad\, travelling the country with a guitar on his back. Originally from the Sunny Coast in Queensland\, he has established himself in all corners of the country as a talented multi-instrumentalist and gifted songwriter.\n\nMUFASSA’s music is a blend of easy-going\, hazy roots & reggae. His style is deeply rooted in the sounds of the Australian countryside\, drawing inspiration from its natural beauty. MUFASSA’s songs are a depiction of a life\, free from the man.\n\nWith two studio EPs under his belt (reaching no.3 and 5 on the National AMRAP Regional Charts) MUFASSA is touring his third EP ‘Drifting Away’ throughout the Summer of 2023/24 with shows in QLD\, NSW\, SA & WA
URL:https://www.settlerstavern.com/event/mufassa-5/
LOCATION:Settlers Tavern\, 114 Bussell Hwy\, Margaret River\, WA\, 6285\, Australia
CATEGORIES:Live Music,Live Music Australia,Reggae
ATTACH;FMTTYPE=image/png:https://www.settlerstavern.com/wp-content/uploads/2024/12/Screenshot-2024-12-05-at-11.36.17 AM.png
GEO:-33.9498;115.0736
X-APPLE-STRUCTURED-LOCATION;VALUE=URI;X-ADDRESS=Settlers Tavern 114 Bussell Hwy Margaret River WA 6285 Australia;X-APPLE-RADIUS=500;X-TITLE=114 Bussell Hwy:geo:115.0736,-33.9498
END:VEVENT
END:VCALENDAR