BEGIN:VCALENDAR
VERSION:2.0
PRODID:-//Settlers Tavern - ECPv6.15.20//NONSGML v1.0//EN
CALSCALE:GREGORIAN
METHOD:PUBLISH
X-WR-CALNAME:Settlers Tavern
X-ORIGINAL-URL:https://www.settlerstavern.com
X-WR-CALDESC:Events for Settlers Tavern
REFRESH-INTERVAL;VALUE=DURATION:PT1H
X-Robots-Tag:noindex
X-PUBLISHED-TTL:PT1H
BEGIN:VTIMEZONE
TZID:Australia/Perth
BEGIN:STANDARD
TZOFFSETFROM:+0800
TZOFFSETTO:+0800
TZNAME:AWST
DTSTART:20230101T000000
END:STANDARD
END:VTIMEZONE
BEGIN:VEVENT
DTSTART;TZID=Australia/Perth:20241019T210000
DTEND;TZID=Australia/Perth:20241019T233000
DTSTAMP:20260423T120122
CREATED:20240926T000739Z
LAST-MODIFIED:20241011T082613Z
UID:10000872-1729371600-1729380600@www.settlerstavern.com
SUMMARY:KINGSWOOD
DESCRIPTION:KINGSWOOD are an award winning four-piece good times country and good times rock’n’roll band from Melbourne Australia.\nThe release of HOME saw KINGSWOOD re-enter the ARIA Charts\, debuting at #2 on the ARIA Australian Vinyland #1 on the ARIA Australian Country charts – the latter of which stayed atop for an impressive 8 weeks in a row. With their record-breaking ‘Hometowns Tour’ taking in 100+ shows right around the country\, KINGSWOOD have been able to hit venues of all sizes\, in locations in each corner of Australia\, on their purpose-constructed tour bus ‘Peggy’. An experience that has redefined KINGSWOOD’s resolve as a touring unit\, 2023 has been a transformative period for the group. Ten years and six studio albums on\, Kingswood remain one of Australia’s hardest working bands playing festivals nationally and playing with acts like ACDC\, Aerosmith to touring the US and Europe. \n“A lot of bands would like to say they’re the hardest working in Australia\, but Kingswood have a stronger claim than most.”\nTone Deaf
URL:https://www.settlerstavern.com/event/kingswood/
LOCATION:Settlers Tavern\, 114 Bussell Hwy\, Margaret River\, WA\, 6285\, Australia
CATEGORIES:Featured,Live Music,Live Music Australia,Rock,Rock'n'Roll,Special Event,Tickets
ATTACH;FMTTYPE=image/jpeg:https://www.settlerstavern.com/wp-content/uploads/2024/09/MICROWARS-scaled.jpg
GEO:-33.9498;115.0736
X-APPLE-STRUCTURED-LOCATION;VALUE=URI;X-ADDRESS=Settlers Tavern 114 Bussell Hwy Margaret River WA 6285 Australia;X-APPLE-RADIUS=500;X-TITLE=114 Bussell Hwy:geo:115.0736,-33.9498
END:VEVENT
END:VCALENDAR