BEGIN:VCALENDAR
VERSION:2.0
PRODID:-//Settlers Tavern - ECPv6.15.20//NONSGML v1.0//EN
CALSCALE:GREGORIAN
METHOD:PUBLISH
X-WR-CALNAME:Settlers Tavern
X-ORIGINAL-URL:https://www.settlerstavern.com
X-WR-CALDESC:Events for Settlers Tavern
REFRESH-INTERVAL;VALUE=DURATION:PT1H
X-Robots-Tag:noindex
X-PUBLISHED-TTL:PT1H
BEGIN:VTIMEZONE
TZID:Australia/Perth
BEGIN:STANDARD
TZOFFSETFROM:+0800
TZOFFSETTO:+0800
TZNAME:AWST
DTSTART:20230101T000000
END:STANDARD
END:VTIMEZONE
BEGIN:VEVENT
DTSTART;TZID=Australia/Perth:20241012T210000
DTEND;TZID=Australia/Perth:20241012T233000
DTSTAMP:20260423T120215
CREATED:20240926T011808Z
LAST-MODIFIED:20240926T011808Z
UID:10000873-1728766800-1728775800@www.settlerstavern.com
SUMMARY:AIRLINE FOOD
DESCRIPTION:Good evening\, passengers. We hope you are hungry as the long-awaited Airline Food is finally flight-ready and will be served shortly. \nAirline Food will be offering a tasty selection of in-flight meal options\, serving steaming hot tracks from their much-anticipated debut album\, ‘The Deal’ alongside some oldies and goldies. \n \n*Please note\, Airline Food will only be served on select flights to Margaret River\, Brisbane\, Sydney\, Melbourne\, and Perth THIS OCTOBER*\n\npsych-rock/synth-pop
URL:https://www.settlerstavern.com/event/airline-food/
LOCATION:Settlers Tavern\, 114 Bussell Hwy\, Margaret River\, WA\, 6285\, Australia
CATEGORIES:Live Music Australia,Psychedelic,Rock
ATTACH;FMTTYPE=image/jpeg:https://www.settlerstavern.com/wp-content/uploads/2024/09/Airline-Food-scaled.jpg
GEO:-33.9498;115.0736
X-APPLE-STRUCTURED-LOCATION;VALUE=URI;X-ADDRESS=Settlers Tavern 114 Bussell Hwy Margaret River WA 6285 Australia;X-APPLE-RADIUS=500;X-TITLE=114 Bussell Hwy:geo:115.0736,-33.9498
END:VEVENT
END:VCALENDAR