BEGIN:VCALENDAR
VERSION:2.0
PRODID:-//Settlers Tavern - ECPv6.15.20//NONSGML v1.0//EN
CALSCALE:GREGORIAN
METHOD:PUBLISH
X-ORIGINAL-URL:https://www.settlerstavern.com
X-WR-CALDESC:Events for Settlers Tavern
REFRESH-INTERVAL;VALUE=DURATION:PT1H
X-Robots-Tag:noindex
X-PUBLISHED-TTL:PT1H
BEGIN:VTIMEZONE
TZID:Australia/Perth
BEGIN:STANDARD
TZOFFSETFROM:+0800
TZOFFSETTO:+0800
TZNAME:AWST
DTSTART:20230101T000000
END:STANDARD
END:VTIMEZONE
BEGIN:VEVENT
DTSTART;TZID=Australia/Perth:20240908T150000
DTEND;TZID=Australia/Perth:20240908T180000
DTSTAMP:20260423T134056
CREATED:20231127T031424Z
LAST-MODIFIED:20240726T044535Z
UID:10000845-1725807600-1725818400@www.settlerstavern.com
SUMMARY:TANYA RANSOM
DESCRIPTION:Tanya Ransom delivers her signature sound of folk blues and alt country\, painting a vivid narrative amongst ornate melodies. Her powerful vocals inhabit the sweet spot between tough and tender\, effortlessly accompanied by her laid-back rhythm guitar.  \nA regular to the Australian touring circuit\, Tanya has performed at Cygnet Folk Festival\, Nannup Music Festival\, Blues at Bridgetown\, Fairbridge Festival\, North West Fest and supported the likes of Kate Miller-Heidke\, Missy Higgins\, Boy and Bear\, Tim Rogers and John Butler. \nA product of her musical upbringing\, having lived 20 years in the remote northwest town of Broome\, Ransom’s ability to connect with audiences is undeniable\, bringing a deep emotion to her already cavernous feelings carried within her stories and songs. \n\n \n \n \n \n 
URL:https://www.settlerstavern.com/event/tanya-ransom-08sep/
LOCATION:Settlers Tavern\, 114 Bussell Hwy\, Margaret River\, WA\, 6285\, Australia
CATEGORIES:Blues,Country,Folk,Live Music,Live Music Australia,Music
ATTACH;FMTTYPE=image/jpeg:https://www.settlerstavern.com/wp-content/uploads/2024/04/Tanya-Ransom-Promo_Credit_-Tashi-Hall.jpg
GEO:-33.9498;115.0736
X-APPLE-STRUCTURED-LOCATION;VALUE=URI;X-ADDRESS=Settlers Tavern 114 Bussell Hwy Margaret River WA 6285 Australia;X-APPLE-RADIUS=500;X-TITLE=114 Bussell Hwy:geo:115.0736,-33.9498
END:VEVENT
END:VCALENDAR