BEGIN:VCALENDAR
VERSION:2.0
PRODID:-//Settlers Tavern - ECPv6.15.20//NONSGML v1.0//EN
CALSCALE:GREGORIAN
METHOD:PUBLISH
X-WR-CALNAME:Settlers Tavern
X-ORIGINAL-URL:https://www.settlerstavern.com
X-WR-CALDESC:Events for Settlers Tavern
REFRESH-INTERVAL;VALUE=DURATION:PT1H
X-Robots-Tag:noindex
X-PUBLISHED-TTL:PT1H
BEGIN:VTIMEZONE
TZID:Australia/Perth
BEGIN:STANDARD
TZOFFSETFROM:+0800
TZOFFSETTO:+0800
TZNAME:AWST
DTSTART:20230101T000000
END:STANDARD
END:VTIMEZONE
BEGIN:VEVENT
DTSTART;TZID=Australia/Perth:20240907T210000
DTEND;TZID=Australia/Perth:20240907T233000
DTSTAMP:20260423T151157
CREATED:20240823T014942Z
LAST-MODIFIED:20240823T014942Z
UID:10000853-1725742800-1725751800@www.settlerstavern.com
SUMMARY:WESLEY BLACK
DESCRIPTION:Wesley Black presents his debut national headline tour “Us Against The World” for the release of “Kids”. Wesley and his band hit the road showcasing the searing lyrics\, dynamic vocals and fierce\, hard-hitting deliveries\, the prince of Perth\, has become known for. Wesley’s high energy and crowd captivating live performances will be on show across Australia throughout September 2024.
URL:https://www.settlerstavern.com/event/wesley-black/
LOCATION:Settlers Tavern\, 114 Bussell Hwy\, Margaret River\, WA\, 6285\, Australia
CATEGORIES:Live Music,Live Music Australia,Punk
ATTACH;FMTTYPE=image/png:https://www.settlerstavern.com/wp-content/uploads/2024/08/Screenshot-2024-08-23-at-9.43.39 AM.png
GEO:-33.9498;115.0736
X-APPLE-STRUCTURED-LOCATION;VALUE=URI;X-ADDRESS=Settlers Tavern 114 Bussell Hwy Margaret River WA 6285 Australia;X-APPLE-RADIUS=500;X-TITLE=114 Bussell Hwy:geo:115.0736,-33.9498
END:VEVENT
END:VCALENDAR