BEGIN:VCALENDAR
VERSION:2.0
PRODID:-//Settlers Tavern - ECPv6.15.20//NONSGML v1.0//EN
CALSCALE:GREGORIAN
METHOD:PUBLISH
X-ORIGINAL-URL:https://www.settlerstavern.com
X-WR-CALDESC:Events for Settlers Tavern
REFRESH-INTERVAL;VALUE=DURATION:PT1H
X-Robots-Tag:noindex
X-PUBLISHED-TTL:PT1H
BEGIN:VTIMEZONE
TZID:Australia/Perth
BEGIN:STANDARD
TZOFFSETFROM:+0800
TZOFFSETTO:+0800
TZNAME:AWST
DTSTART:20230101T000000
END:STANDARD
END:VTIMEZONE
BEGIN:VEVENT
DTSTART;TZID=Australia/Perth:20240906T210000
DTEND;TZID=Australia/Perth:20240906T233000
DTSTAMP:20260423T151349
CREATED:20230810T230703Z
LAST-MODIFIED:20240726T075429Z
UID:10000846-1725656400-1725665400@www.settlerstavern.com
SUMMARY:DJ LAYERZ
DESCRIPTION:FREE ENTRY \nMARGS I’M BACK!! Expect some house and tech house remixers and let’s not forget some DNB for the late-night go-getters!! It’s been a minute cooking up some fresh tracks for you! That’s right.. grab your friends outta the cold I’m ready for this one.
URL:https://www.settlerstavern.com/event/dj-layerz-6sept/
LOCATION:Settlers Tavern\, 114 Bussell Hwy\, Margaret River\, WA\, 6285\, Australia
CATEGORIES:DJ,Drum and Bass,House,Live Music,Live Music Australia,Music
ATTACH;FMTTYPE=image/png:https://www.settlerstavern.com/wp-content/uploads/2023/08/TAV-POSTER-1920X1080.png
GEO:-33.9498;115.0736
X-APPLE-STRUCTURED-LOCATION;VALUE=URI;X-ADDRESS=Settlers Tavern 114 Bussell Hwy Margaret River WA 6285 Australia;X-APPLE-RADIUS=500;X-TITLE=114 Bussell Hwy:geo:115.0736,-33.9498
END:VEVENT
END:VCALENDAR