BEGIN:VCALENDAR
VERSION:2.0
PRODID:-//Settlers Tavern - ECPv6.15.20//NONSGML v1.0//EN
CALSCALE:GREGORIAN
METHOD:PUBLISH
X-WR-CALNAME:Settlers Tavern
X-ORIGINAL-URL:https://www.settlerstavern.com
X-WR-CALDESC:Events for Settlers Tavern
REFRESH-INTERVAL;VALUE=DURATION:PT1H
X-Robots-Tag:noindex
X-PUBLISHED-TTL:PT1H
BEGIN:VTIMEZONE
TZID:Australia/Perth
BEGIN:STANDARD
TZOFFSETFROM:+0800
TZOFFSETTO:+0800
TZNAME:AWST
DTSTART:20230101T000000
END:STANDARD
END:VTIMEZONE
BEGIN:VEVENT
DTSTART;TZID=Australia/Perth:20240830T210000
DTEND;TZID=Australia/Perth:20240831T000000
DTSTAMP:20260423T133742
CREATED:20240717T021133Z
LAST-MODIFIED:20240724T015231Z
UID:10000841-1725051600-1725062400@www.settlerstavern.com
SUMMARY:WANDERLAND
DESCRIPTION:🔥 WANDERLAND DRUM & BASS TOUR | SETTLERS TAVERN | FRIDAY 30TH AUG 🔥 \n \nMargaret River crew\, brace yourselves! We’re bringing the HEAT this winter with another epic night of Drum & Bass at Settlers Tavern! 🤯 \nYou know how we roll!! Expect BIG production & KILLER sound\, PLUS a handpicked line-up of Perth’s best DJs & your fave locals… every time! \n🎧 Featuring: \n\nFlashcult\nDiminish\nAress\nTempah\nHosted by MC Xsessiv\n\nLimited EARLY BIRD TICKETS from $15 + BF! Don’t sleep—tickets are set to fly!! 🚀 \nWhen: Friday 30th August | 9.00PM – 12.00AM \nWhere: Settlers Tavern\, Margaret River \n– This is an 18+ event. Photo I.D is required for entry  \n 
URL:https://www.settlerstavern.com/event/wanderland-4/
LOCATION:Settlers Tavern\, 114 Bussell Hwy\, Margaret River\, WA\, 6285\, Australia
CATEGORIES:Dance,DJ,Drum and Bass,Electronic,Featured,Live Music,Live Music Australia,Tickets
ATTACH;FMTTYPE=image/png:https://www.settlerstavern.com/wp-content/uploads/2024/07/WL6-1080X1920-STATIC.png
GEO:-33.9498;115.0736
X-APPLE-STRUCTURED-LOCATION;VALUE=URI;X-ADDRESS=Settlers Tavern 114 Bussell Hwy Margaret River WA 6285 Australia;X-APPLE-RADIUS=500;X-TITLE=114 Bussell Hwy:geo:115.0736,-33.9498
END:VEVENT
END:VCALENDAR