BEGIN:VCALENDAR
VERSION:2.0
PRODID:-//Settlers Tavern - ECPv6.15.20//NONSGML v1.0//EN
CALSCALE:GREGORIAN
METHOD:PUBLISH
X-ORIGINAL-URL:https://www.settlerstavern.com
X-WR-CALDESC:Events for Settlers Tavern
REFRESH-INTERVAL;VALUE=DURATION:PT1H
X-Robots-Tag:noindex
X-PUBLISHED-TTL:PT1H
BEGIN:VTIMEZONE
TZID:Australia/Perth
BEGIN:STANDARD
TZOFFSETFROM:+0800
TZOFFSETTO:+0800
TZNAME:AWST
DTSTART:20230101T000000
END:STANDARD
END:VTIMEZONE
BEGIN:VEVENT
DTSTART;TZID=Australia/Perth:20240825T150000
DTEND;TZID=Australia/Perth:20240825T180000
DTSTAMP:20260423T164925
CREATED:20240713T055224Z
LAST-MODIFIED:20250526T051932Z
UID:10000840-1724598000-1724608800@www.settlerstavern.com
SUMMARY:BOODJI CREEK
DESCRIPTION:Recently formed\, Boodji Creek have taken their band name from a local waterway\, Boodjidup Creek\, in the theme of “going with the flow!” \nHailing from Witchcliffe\, Capel and Margaret River in WA\, they are an acoustic bluegrass\, folk\, country rock and Americana five piece band featuring impressive harmony vocals\, upright bass\, mandolins\, fiddle\, guitars\, banjo and dobro. Having played for the inaugural Bunbury Sea Shanty Fest in June\, upcoming events include Settlers Tavern Margaret River\, Froth in Bunbury\, Manjimum Bluegrass weekend and also the Victorian bluegrass festival in Bright.  From rollicking bluegrass tunes to heartfelt balads and some radio hits they always provide something for everyone!
URL:https://www.settlerstavern.com/event/boodji-creek/
LOCATION:Settlers Tavern\, 114 Bussell Hwy\, Margaret River\, WA\, 6285\, Australia
CATEGORIES:Bluegrass,Country,Folk,Indie,Live Music,Live Music Australia
ATTACH;FMTTYPE=image/jpeg:https://www.settlerstavern.com/wp-content/uploads/2024/07/Boodji-Creek-Sept-2023.2.jpg
GEO:-33.9498;115.0736
X-APPLE-STRUCTURED-LOCATION;VALUE=URI;X-ADDRESS=Settlers Tavern 114 Bussell Hwy Margaret River WA 6285 Australia;X-APPLE-RADIUS=500;X-TITLE=114 Bussell Hwy:geo:115.0736,-33.9498
END:VEVENT
END:VCALENDAR