BEGIN:VCALENDAR
VERSION:2.0
PRODID:-//Settlers Tavern - ECPv6.15.20//NONSGML v1.0//EN
CALSCALE:GREGORIAN
METHOD:PUBLISH
X-ORIGINAL-URL:https://www.settlerstavern.com
X-WR-CALDESC:Events for Settlers Tavern
REFRESH-INTERVAL;VALUE=DURATION:PT1H
X-Robots-Tag:noindex
X-PUBLISHED-TTL:PT1H
BEGIN:VTIMEZONE
TZID:Australia/Perth
BEGIN:STANDARD
TZOFFSETFROM:+0800
TZOFFSETTO:+0800
TZNAME:AWST
DTSTART:20230101T000000
END:STANDARD
END:VTIMEZONE
BEGIN:VEVENT
DTSTART;TZID=Australia/Perth:20240823T210000
DTEND;TZID=Australia/Perth:20240823T233000
DTSTAMP:20260423T164926
CREATED:20240816T072009Z
LAST-MODIFIED:20240816T072009Z
UID:10000852-1724446800-1724455800@www.settlerstavern.com
SUMMARY:DJ TERE
DESCRIPTION:Born and bred in Chile’s vibrant music scene\, Tere is a standout DJ renowned for their innovative approach to electronic music. Her style combines dark allure\, minimalist elegance and infectious house beats. \nTere creates dynamic back-to-back sets that blend global influences with their local roots\, offering audiences an immersive and unforgettable musical experience.
URL:https://www.settlerstavern.com/event/djtere/
LOCATION:Settlers Tavern\, 114 Bussell Hwy\, Margaret River\, WA\, 6285\, Australia
CATEGORIES:DJ,Electronic,House,Progressive
ATTACH;FMTTYPE=image/jpeg:https://www.settlerstavern.com/wp-content/uploads/2024/07/nicodemub2btere-scaled.jpg
GEO:-33.9498;115.0736
X-APPLE-STRUCTURED-LOCATION;VALUE=URI;X-ADDRESS=Settlers Tavern 114 Bussell Hwy Margaret River WA 6285 Australia;X-APPLE-RADIUS=500;X-TITLE=114 Bussell Hwy:geo:115.0736,-33.9498
END:VEVENT
END:VCALENDAR