BEGIN:VCALENDAR
VERSION:2.0
PRODID:-//Settlers Tavern - ECPv6.15.20//NONSGML v1.0//EN
CALSCALE:GREGORIAN
METHOD:PUBLISH
X-WR-CALNAME:Settlers Tavern
X-ORIGINAL-URL:https://www.settlerstavern.com
X-WR-CALDESC:Events for Settlers Tavern
REFRESH-INTERVAL;VALUE=DURATION:PT1H
X-Robots-Tag:noindex
X-PUBLISHED-TTL:PT1H
BEGIN:VTIMEZONE
TZID:Australia/Perth
BEGIN:STANDARD
TZOFFSETFROM:+0800
TZOFFSETTO:+0800
TZNAME:AWST
DTSTART:20230101T000000
END:STANDARD
END:VTIMEZONE
BEGIN:VEVENT
DTSTART;TZID=Australia/Perth:20240818T150000
DTEND;TZID=Australia/Perth:20240818T180000
DTSTAMP:20260423T151116
CREATED:20240626T041932Z
LAST-MODIFIED:20240626T042006Z
UID:10000831-1723993200-1724004000@www.settlerstavern.com
SUMMARY:GRAEME & ROBBIE
DESCRIPTION:Rob and Graeme\, musicians deeply immersed in their craft\, are making a dynamic return to the live music scene following the recording of a diverse catalog of songs now in the final mixing stages. Their performances are a fusion of funk\, blues\, rock\, and world music\, complemented by classic covers that bring warmth to winter nights. Joining them are special guests who contributed to the recording process\, promising an afternoon of musical spontaneity and groove-filled rhythms. \nSUNDAY 18TH AUGUST\, 3PM \nFREE ENTRY
URL:https://www.settlerstavern.com/event/graeme-robbie-3/
LOCATION:Settlers Tavern\, 114 Bussell Hwy\, Margaret River\, WA\, 6285\, Australia
CATEGORIES:Blues,Funk,Live Music,Live Music Australia,Rock
ATTACH;FMTTYPE=image/jpeg:https://www.settlerstavern.com/wp-content/uploads/2024/05/exterior-settlers.jpg
GEO:-33.9498;115.0736
X-APPLE-STRUCTURED-LOCATION;VALUE=URI;X-ADDRESS=Settlers Tavern 114 Bussell Hwy Margaret River WA 6285 Australia;X-APPLE-RADIUS=500;X-TITLE=114 Bussell Hwy:geo:115.0736,-33.9498
END:VEVENT
END:VCALENDAR