BEGIN:VCALENDAR
VERSION:2.0
PRODID:-//Settlers Tavern - ECPv6.15.20//NONSGML v1.0//EN
CALSCALE:GREGORIAN
METHOD:PUBLISH
X-WR-CALNAME:Settlers Tavern
X-ORIGINAL-URL:https://www.settlerstavern.com
X-WR-CALDESC:Events for Settlers Tavern
REFRESH-INTERVAL;VALUE=DURATION:PT1H
X-Robots-Tag:noindex
X-PUBLISHED-TTL:PT1H
BEGIN:VTIMEZONE
TZID:Australia/Perth
BEGIN:STANDARD
TZOFFSETFROM:+0800
TZOFFSETTO:+0800
TZNAME:AWST
DTSTART:20230101T000000
END:STANDARD
END:VTIMEZONE
BEGIN:VEVENT
DTSTART;TZID=Australia/Perth:20240816T210000
DTEND;TZID=Australia/Perth:20240816T233000
DTSTAMP:20260423T164641
CREATED:20240608T022140Z
LAST-MODIFIED:20240726T072005Z
UID:10000818-1723842000-1723851000@www.settlerstavern.com
SUMMARY:LATIN PARTY w/ PEDRO
DESCRIPTION:🎶 Latino Night with Pedro on the Decks! 🎶\n🗓 Date: Friday 16 August\n🕘 Time: 9 PM till late \nGet ready for an exhilarating night of Latino rhythms with Pedro on the decks! Whether you’re a salsa superstar or just love to move to the beat\, Pedro’s infectious tunes will have you dancing all night long. \n🕺 Bring your dancing shoes and join the fiesta! With free entry\, there’s no reason to miss out on this vibrant celebration of Latino music. \n 
URL:https://www.settlerstavern.com/event/latin-party-w-pedro/
LOCATION:Settlers Tavern\, 114 Bussell Hwy\, Margaret River\, WA\, 6285\, Australia
CATEGORIES:DJ,Latin
ATTACH;FMTTYPE=image/png:https://www.settlerstavern.com/wp-content/uploads/2024/06/Screen-Shot-2024-06-08-at-10.19.41-am-e1718937209727.png
GEO:-33.9498;115.0736
X-APPLE-STRUCTURED-LOCATION;VALUE=URI;X-ADDRESS=Settlers Tavern 114 Bussell Hwy Margaret River WA 6285 Australia;X-APPLE-RADIUS=500;X-TITLE=114 Bussell Hwy:geo:115.0736,-33.9498
END:VEVENT
END:VCALENDAR