BEGIN:VCALENDAR
VERSION:2.0
PRODID:-//Settlers Tavern - ECPv6.15.20//NONSGML v1.0//EN
CALSCALE:GREGORIAN
METHOD:PUBLISH
X-ORIGINAL-URL:https://www.settlerstavern.com
X-WR-CALDESC:Events for Settlers Tavern
REFRESH-INTERVAL;VALUE=DURATION:PT1H
X-Robots-Tag:noindex
X-PUBLISHED-TTL:PT1H
BEGIN:VTIMEZONE
TZID:Australia/Perth
BEGIN:STANDARD
TZOFFSETFROM:+0800
TZOFFSETTO:+0800
TZNAME:AWST
DTSTART:20230101T000000
END:STANDARD
END:VTIMEZONE
BEGIN:VEVENT
DTSTART;TZID=Australia/Perth:20240804T150000
DTEND;TZID=Australia/Perth:20240804T180000
DTSTAMP:20260423T182419
CREATED:20240528T213718Z
LAST-MODIFIED:20240530T060546Z
UID:10000801-1722783600-1722794400@www.settlerstavern.com
SUMMARY:BIG AL & THE WOLF PACK
DESCRIPTION:WOLF PACK play homage to some of the great blues artists of the 1950s From the raw sounds of Chicago juke joints to the swamp blues out of Baton Rouge\, classic songs by Muddy Waters\, Slim Harpo\, Jimmy Reed\, Magic Sam\, Little Walter\, and more \nSUNDAY 4th August\, 3-6pm\nFree Entry!
URL:https://www.settlerstavern.com/event/big-al-the-wolf-pack/
LOCATION:Settlers Tavern\, 114 Bussell Hwy\, Margaret River\, WA\, 6285\, Australia
CATEGORIES:Blues,Live Music,Live Music Australia,Music
ATTACH;FMTTYPE=image/jpeg:https://www.settlerstavern.com/wp-content/uploads/2024/05/IMG_6433-e1732526648841.jpg
GEO:-33.9498;115.0736
X-APPLE-STRUCTURED-LOCATION;VALUE=URI;X-ADDRESS=Settlers Tavern 114 Bussell Hwy Margaret River WA 6285 Australia;X-APPLE-RADIUS=500;X-TITLE=114 Bussell Hwy:geo:115.0736,-33.9498
END:VEVENT
END:VCALENDAR