BEGIN:VCALENDAR
VERSION:2.0
PRODID:-//Settlers Tavern - ECPv6.15.20//NONSGML v1.0//EN
CALSCALE:GREGORIAN
METHOD:PUBLISH
X-WR-CALNAME:Settlers Tavern
X-ORIGINAL-URL:https://www.settlerstavern.com
X-WR-CALDESC:Events for Settlers Tavern
REFRESH-INTERVAL;VALUE=DURATION:PT1H
X-Robots-Tag:noindex
X-PUBLISHED-TTL:PT1H
BEGIN:VTIMEZONE
TZID:Australia/Perth
BEGIN:STANDARD
TZOFFSETFROM:+0800
TZOFFSETTO:+0800
TZNAME:AWST
DTSTART:20220101T000000
END:STANDARD
END:VTIMEZONE
BEGIN:VEVENT
DTSTART;TZID=Australia/Perth:20230108T153000
DTEND;TZID=Australia/Perth:20230108T183000
DTSTAMP:20260426T115202
CREATED:20221207T180941Z
LAST-MODIFIED:20240530T054825Z
UID:10000796-1673191800-1673202600@www.settlerstavern.com
SUMMARY:Sash Seabourne
DESCRIPTION:FREE ENTRY\nFacebook Event \nWest Australian singer/songwriter Sash Seabourne ushers in a new era of his musical work with a stripped back solo tour of WA to celebrate the release of his new single “Receiver” \n_________________________________________________________\nSash is quickly making a name for himself as one of Australia’s rising Indie artists. His debut single ‘Constant’ won hearts across the country in 2021\, garnering him a sold out launch at Mojos bar and airplay on Triple J. Followed by the striking piano ballad “Hourglass”\, he landed the artist spotlight on Unearthed and an extensive summer regional tour across the state.\nRaised on the pristine coast of the South West\, this emerging songwriter’s work speaks volumes beyond his years. This music digs deep\, conjuring up stories of love and loss\, joy and sorrow in songs that transcend one human soul’s experience. Playing in solo and 5-piece band format\, his live performances have quickly gained momentum. Sash has supported Riley Pearce\, Great Gable\, Michael Dunstan\, Kav Temperley and Paige Valentine.\nSash possesses a writing style that echoes the disarming poignancy of Maggie Rogers and Sam Fender\, laced with timeless inspiration drawn from Bruce Springsteen and Stevie Nicks. Combining his rough-hewn vocals\, intricate compositions and bare-faced lyricism\, Sash is on the path to cementing himself as one of the most exciting songwriters and performers of the West Australian Scene.\n_________________________________________________________\n*I acknowledge this event is taking place on stolen land – Whadjuk Noongar Boodja. This was\, is and always will be Aboriginal land. I pay my respects to the traditional custodians of the land.\n*This is a zero tolerance event\, anti-social or disrespectful behaviour of any kind will not to tolerated and will be acted on immediately. Look after each other.
URL:https://www.settlerstavern.com/event/sash-seabourne-3-3/
LOCATION:Settlers Tavern\, 114 Bussell Hwy\, Margaret River\, WA\, 6285\, Australia
CATEGORIES:Blues,Live Music Australia,Music,Roots
ATTACH;FMTTYPE=image/jpeg:https://www.settlerstavern.com/wp-content/uploads/2024/04/sash-seabourne.jpeg
GEO:-33.9498;115.0736
X-APPLE-STRUCTURED-LOCATION;VALUE=URI;X-ADDRESS=Settlers Tavern 114 Bussell Hwy Margaret River WA 6285 Australia;X-APPLE-RADIUS=500;X-TITLE=114 Bussell Hwy:geo:115.0736,-33.9498
END:VEVENT
END:VCALENDAR