BEGIN:VCALENDAR
VERSION:2.0
PRODID:-//Settlers Tavern - ECPv6.15.20//NONSGML v1.0//EN
CALSCALE:GREGORIAN
METHOD:PUBLISH
X-ORIGINAL-URL:https://www.settlerstavern.com
X-WR-CALDESC:Events for Settlers Tavern
REFRESH-INTERVAL;VALUE=DURATION:PT1H
X-Robots-Tag:noindex
X-PUBLISHED-TTL:PT1H
BEGIN:VTIMEZONE
TZID:Australia/Perth
BEGIN:STANDARD
TZOFFSETFROM:+0800
TZOFFSETTO:+0800
TZNAME:AWST
DTSTART:20210101T000000
END:STANDARD
END:VTIMEZONE
BEGIN:VEVENT
DTSTART;TZID=Australia/Perth:20221230T210000
DTEND;TZID=Australia/Perth:20221230T210000
DTSTAMP:20260426T115606
CREATED:20221027T183004Z
LAST-MODIFIED:20240530T054744Z
UID:10000773-1672434000-1672434000@www.settlerstavern.com
SUMMARY:Siobhan Cotchin
DESCRIPTION:FREE ENTRY\nFacebook event: facebook.com/events/1525427644572998 \nHonest\, raw and real – Siobhan Cotchin has proven herself to be a talented songwriter. Paving the way for the country-grunge genre\, the 22 year old\, multi-award winning musician has a writing style that echoes the effortless musing of Phoebe Bridgers and a live performance as gusty as Joan Jett.\n\nSiobhan Cotchin’s accolades and powerful compositions are reminiscent of a songwriter much deeper into their career. Sharing stages with Leon Bridges\, Bob Evans\, Spacey Jane\, Stella Donelly\, The Whitlams\, Thelma Plum\, The Teskey Brothers and many more\, has allowed her to blossom into a trailblazing artist within her own right.\n\n2022 has seen Cotchin emerge as a nominations leader for this year’s WAM Awards\, picking up nods in the following categories: Best Country Act\, Best Music Video\, Best EP\, Best Vocalist and The Grant Samuels Award for Best Lyrics.\n\nComing off the back of a wildly successful BIGSOUND\, Perth’s Siobhan Cotchin has returned with a stunning new piece of music in ‘How Does It Feel?’. With the release of the single\, Cotchin also shares the news of her national tour taking place in December and January with her full band.\n\nDec 1 – Old Bar\, Melbourne.\nDec 2 – Towradgi Beach Hotel\, Wollongong.\nDec 3 – Low 302\, Sydney.\nDec 4 – Black Bear Lodge\, Brisbane.\nDec 8 – Liberty Alive\, Perth.\nDec 10 – Country Sounds Festival.\nDec 30 – Settlers Tavern\, Margaret River.\nJan 1 – Clancys Fish Pub\, Dunsborough.
URL:https://www.settlerstavern.com/event/siobhan-cotchin/
LOCATION:Settlers Tavern\, 114 Bussell Hwy\, Margaret River\, WA\, 6285\, Australia
CATEGORIES:Country,Grunge,Live Music Australia,Music
GEO:-33.9498;115.0736
X-APPLE-STRUCTURED-LOCATION;VALUE=URI;X-ADDRESS=Settlers Tavern 114 Bussell Hwy Margaret River WA 6285 Australia;X-APPLE-RADIUS=500;X-TITLE=114 Bussell Hwy:geo:115.0736,-33.9498
END:VEVENT
END:VCALENDAR