BEGIN:VCALENDAR
VERSION:2.0
PRODID:-//Settlers Tavern - ECPv6.15.18//NONSGML v1.0//EN
CALSCALE:GREGORIAN
METHOD:PUBLISH
X-WR-CALNAME:Settlers Tavern
X-ORIGINAL-URL:https://www.settlerstavern.com
X-WR-CALDESC:Events for Settlers Tavern
REFRESH-INTERVAL;VALUE=DURATION:PT1H
X-Robots-Tag:noindex
X-PUBLISHED-TTL:PT1H
BEGIN:VTIMEZONE
TZID:Australia/Perth
BEGIN:STANDARD
TZOFFSETFROM:+0800
TZOFFSETTO:+0800
TZNAME:AWST
DTSTART:20240101T000000
END:STANDARD
END:VTIMEZONE
BEGIN:VEVENT
DTSTART;TZID=Australia/Perth:20250809T210000
DTEND;TZID=Australia/Perth:20250809T233000
DTSTAMP:20260423T070027
CREATED:20250708T065611Z
LAST-MODIFIED:20250729T050240Z
UID:10000995-1754773200-1754782200@www.settlerstavern.com
SUMMARY:LIGHTNING JACK ft SACHIN PARKER
DESCRIPTION:Lightnin Jack was quite literally born and raised on a diet of Lynyrd Skynyrd\, Creadence\, Leadbelly and the local bluesman of his youth. An upbringing that undoubtably reflects in his evocative and soulful musical presence while adding a discernible touch of authenticity to everything he does.\n\nLightning Jack is largely undenied as one of the greatest Bluesman in the business and puts on a performance that is most certainly not to be missed.
URL:https://www.settlerstavern.com/event/lightning-jack-ft-sachin-parker/
LOCATION:Settlers Tavern\, 114 Bussell Hwy\, Margaret River\, WA\, 6285\, Australia
CATEGORIES:Blues,Country,Live Music,Live Music Australia,Rock
ATTACH;FMTTYPE=image/jpeg:https://www.settlerstavern.com/wp-content/uploads/2025/07/resize_CAG1849-scaled.jpg
GEO:-33.9498;115.0736
X-APPLE-STRUCTURED-LOCATION;VALUE=URI;X-ADDRESS=Settlers Tavern 114 Bussell Hwy Margaret River WA 6285 Australia;X-APPLE-RADIUS=500;X-TITLE=114 Bussell Hwy:geo:115.0736,-33.9498
END:VEVENT
BEGIN:VEVENT
DTSTART;TZID=Australia/Perth:20250810T150000
DTEND;TZID=Australia/Perth:20250810T180000
DTSTAMP:20260423T070027
CREATED:20250708T070325Z
LAST-MODIFIED:20250729T050447Z
UID:10000996-1754838000-1754848800@www.settlerstavern.com
SUMMARY:LIGHTNING JACK
DESCRIPTION:Lightnin Jack was literally born for the music\, brought up on small holdings in a Jarrah Milling Town of Southwest Western Australia\, raised on a diet of Lynyrd Skynyrd\, Creedence\, Lead Belly and local bluesmen\, an upbringing that’s reflected in his evocative\, soulful music and adds a discernible touch of authenticity to everything he does. \nBusking and bootlegging CD’s were just the beginning\, with Jacks career spanning the last 3 decades and bringing the release of three studio albums\, a rollicking LIVE recording\, and this years highly anticipated full band Album Tone River due for release in November. A live sound that brings energy and tone far beyond the one man that sits on stage has seen him work in the studio\, in support of\, or alongside a list of artists that would make your head spin – The Angels\, Phil Emmanuel\, Roshani\, Blue Shaddy\, Tony Joe White\, Ash Grunwald\, and The Southern River Band to name a few. \nJack is not one to sit still\, notching up an incredible average of over 120 live performances every year\, with audiences witnessing the breadth of his repertoire\, ranging from intimate acoustic shows featuring lap steel\, resonator and crooning lyrics\, to the high energy sets at festivals like Nannup Music Festival & Blues on Broadbeach\, where his valve amp tones\, heavy electric grind and percussive performance capture the Blues Roots Grunge style that is very much his own. \nWhether you have been following Lightnin Jack for the duration or are a newcomer to his incredible music\, it doesn’t matter – come along and witness the full force of this 3rd generation musician as he is joined on stage by his musical brother Sachin Parker on Drums.
URL:https://www.settlerstavern.com/event/lightning-jack/
LOCATION:Settlers Tavern\, 114 Bussell Hwy\, Margaret River\, WA\, 6285\, Australia
CATEGORIES:Acoustic,Blues,Country,Live Music,Live Music Australia,Rock
ATTACH;FMTTYPE=image/jpeg:https://www.settlerstavern.com/wp-content/uploads/2025/07/resize_CAG1849-scaled.jpg
GEO:-33.9498;115.0736
X-APPLE-STRUCTURED-LOCATION;VALUE=URI;X-ADDRESS=Settlers Tavern 114 Bussell Hwy Margaret River WA 6285 Australia;X-APPLE-RADIUS=500;X-TITLE=114 Bussell Hwy:geo:115.0736,-33.9498
END:VEVENT
BEGIN:VEVENT
DTSTART;TZID=Australia/Perth:20250831T150000
DTEND;TZID=Australia/Perth:20250831T180000
DTSTAMP:20260423T070027
CREATED:20250620T080009Z
LAST-MODIFIED:20250812T054936Z
UID:10000987-1756652400-1756663200@www.settlerstavern.com
SUMMARY:OLIVE MAE
DESCRIPTION:Olive Mae is an exciting emerging folk/ country singer songwriter from southwest WA. She hit the Australian country music scene with a bang in 2023 with the release of her single “Rainy Days” and she is one to watch for the future. \nHer sound has been likened to artists including Paul Kelly\, Frente\, Sara Storer and The Waifs. She has shared lineups and stages with the likes of Vika and Linda Bull\, Clare Bowditch\, Joan and the Giants\, Gina Williams and Guy Ghouse and Jack Davies. Off the back of a dual 2023 WAM Song of the Year nomination (Country & Outstanding Regional)\, with her song “Girls Like You” she set out on a 6 month east coast tour\, playing festivals and shows in every state. \nOlive is looking forward to the release of her debut EP\, Hit The Road\, and plans to spend the rest of 2024 settling back into life in WA and playing as many shows and festivals as she can.
URL:https://www.settlerstavern.com/event/olive-mae-3/
LOCATION:Settlers Tavern\, 114 Bussell Hwy\, Margaret River\, WA\, 6285\, Australia
CATEGORIES:Acoustic,Country,Folk,Live Music,Live Music Australia,Music
ATTACH;FMTTYPE=image/jpeg:https://www.settlerstavern.com/wp-content/uploads/2025/06/olivemar-HR-11-scaled.jpg
GEO:-33.9498;115.0736
X-APPLE-STRUCTURED-LOCATION;VALUE=URI;X-ADDRESS=Settlers Tavern 114 Bussell Hwy Margaret River WA 6285 Australia;X-APPLE-RADIUS=500;X-TITLE=114 Bussell Hwy:geo:115.0736,-33.9498
END:VEVENT
END:VCALENDAR