BEGIN:VCALENDAR
VERSION:2.0
PRODID:-//Settlers Tavern - ECPv6.15.18//NONSGML v1.0//EN
CALSCALE:GREGORIAN
METHOD:PUBLISH
X-ORIGINAL-URL:https://www.settlerstavern.com
X-WR-CALDESC:Events for Settlers Tavern
REFRESH-INTERVAL;VALUE=DURATION:PT1H
X-Robots-Tag:noindex
X-PUBLISHED-TTL:PT1H
BEGIN:VTIMEZONE
TZID:Australia/Perth
BEGIN:STANDARD
TZOFFSETFROM:+0800
TZOFFSETTO:+0800
TZNAME:AWST
DTSTART:20240101T000000
END:STANDARD
END:VTIMEZONE
BEGIN:VEVENT
DTSTART;TZID=Australia/Perth:20250727T120000
DTEND;TZID=Australia/Perth:20250727T180000
DTSTAMP:20260423T084231
CREATED:20250618T052716Z
LAST-MODIFIED:20250704T035640Z
UID:10000979-1753617600-1753639200@www.settlerstavern.com
SUMMARY:CABIN FEVER CLOSING PARTY
DESCRIPTION:Yehawwww!!! Lace up your boots and truck on down to Settlers Tavern for Cabin Fever’s official closing party\, live music\, and Country Hoedown!\, \n Country legends Bluegrass Parkway will throw down the best boot scootin’\, knee-slapping Bluegrass south of Kentucky\, while the one and only Lucky Oceans\, with Dave and Howie\, dish up the sweet twang of Reeeeel country music. Luca Gatti and his Honky Tonk band will belt out boot stompin tunes hotter than a fry pan\, and Margaret River’s own Scott Wise joins the party with his red-hot country harp to seal the deal. \nSaddle up and bring along your kinfolk to dig into some smokin’ American BBQ\, line dancing\, and plenty of games for the young’ns. High noon till sundown. \n\nThis is a FREE familly friendly event! For more information\, head to https://cabinfeverfest.com.au/events/the-settlers-cabin-fever-closer/
URL:https://www.settlerstavern.com/event/the-settlers-cabin-fever-closer/
LOCATION:Settlers Tavern\, 114 Bussell Hwy\, Margaret River\, WA\, 6285\, Australia
CATEGORIES:Country,Featured,Live Music
ATTACH;FMTTYPE=image/jpeg:https://www.settlerstavern.com/wp-content/uploads/2025/06/TV-Size-1920-x-1080-scaled.jpg
GEO:-33.9498;115.0736
X-APPLE-STRUCTURED-LOCATION;VALUE=URI;X-ADDRESS=Settlers Tavern 114 Bussell Hwy Margaret River WA 6285 Australia;X-APPLE-RADIUS=500;X-TITLE=114 Bussell Hwy:geo:115.0736,-33.9498
END:VEVENT
END:VCALENDAR