BEGIN:VCALENDAR
VERSION:2.0
PRODID:-//Settlers Tavern - ECPv6.15.20//NONSGML v1.0//EN
CALSCALE:GREGORIAN
METHOD:PUBLISH
X-WR-CALNAME:Settlers Tavern
X-ORIGINAL-URL:https://www.settlerstavern.com
X-WR-CALDESC:Events for Settlers Tavern
REFRESH-INTERVAL;VALUE=DURATION:PT1H
X-Robots-Tag:noindex
X-PUBLISHED-TTL:PT1H
BEGIN:VTIMEZONE
TZID:Australia/Perth
BEGIN:STANDARD
TZOFFSETFROM:+0800
TZOFFSETTO:+0800
TZNAME:AWST
DTSTART:20190101T000000
END:STANDARD
END:VTIMEZONE
BEGIN:VEVENT
DTSTART;TZID=Australia/Perth:20221127T030000
DTEND;TZID=Australia/Perth:20221127T180000
DTSTAMP:20260423T173623
CREATED:20221116T192452Z
LAST-MODIFIED:20240530T054807Z
UID:10000786-1669518000-1669572000@www.settlerstavern.com
SUMMARY:Infinity Sisters
DESCRIPTION:FREE ENTRY\nFacebook event: facebook.com/events/1194286034770960 \n\nAs part of the JaZaza Collective this Dynamic Duo of Sisters will bring you original and cover songs for your chill Sunday in the beer garden of the Settlers Tavern in Margaret River!\nCome and vibe with us\,\nSee you Sunday x
URL:https://www.settlerstavern.com/event/jazaza-collective-2/
LOCATION:Settlers Tavern\, 114 Bussell Hwy\, Margaret River\, WA\, 6285\, Australia
CATEGORIES:Bossa Nova,Flamenco,Funk,Live Music Australia,Music,Reggae
ATTACH;FMTTYPE=image/jpeg:https://www.settlerstavern.com/wp-content/uploads/2024/04/infinity-sisters.jpeg
GEO:-33.9498;115.0736
X-APPLE-STRUCTURED-LOCATION;VALUE=URI;X-ADDRESS=Settlers Tavern 114 Bussell Hwy Margaret River WA 6285 Australia;X-APPLE-RADIUS=500;X-TITLE=114 Bussell Hwy:geo:115.0736,-33.9498
END:VEVENT
BEGIN:VEVENT
DTSTART;TZID=Australia/Perth:20221126T210000
DTEND;TZID=Australia/Perth:20221126T210000
DTSTAMP:20260423T173623
CREATED:20221116T171802Z
LAST-MODIFIED:20240530T054807Z
UID:10000785-1669496400-1669496400@www.settlerstavern.com
SUMMARY:JaZaza Collective
DESCRIPTION:FREE ENTRY\nFacebook event: facebook.com/events/881897869478056/ \nThe JaZaza Collective is visiting the South! Margaret River are you ready?\nJump on board of our fantastic Pirateship ready to sail the seven seas with fabulous team of Gypsy Clowns extraordinaire.\n\nPlaying two shows: Saturday 26 November from 9PM and Sunday 27 November from 3pm!\n\nThis Perth based Collective of talented\, conscious musicians is not your everyday kind of act.\nRhythms of Reggea\, from Funk to Flamenco\, Bossa to Drum and Base and Originals with the feel of the Carnival International they are out to get the crowd pumping.\nBe inspired by the magnificent Danidoo Butterfly  as she’ll be sprinkling fairy dust and open the door to the other side with her magical keys.\nBe guided by the One and Only (C)Admiral Cat Meowsic  who will pluck the heart strings and bring the sexy swagger of a funky feline.\nBe Uplifted into another dimension by the ravishing Rainbow Racoon JamieMac  with her slappable Bass and Heavenly Harmonies.\nThe Heartbeat of the Collective will be pumping with the Elvish Crown prince Captain Karlos Kalle the Hunter  as he joins the band for this special reunion after his adventures in the far north of WA.\nWe’re bringing the Heat of the North\, The Dreams of the South \,\nThe Heartseeds of the East  and\nThe Musical Storyline from the West \nBe prepared for an evening of mysterious tales which will take you from the Here and Now into the space beyond where Cosmic Jesters dwell!\nAre you ready to put on your Dancing shoes and dress in your Rainbow colours to come with us on to journey to celebrate the Joy of your inner Child?\nIt will be a night to remember!
URL:https://www.settlerstavern.com/event/jazaza-collective/
LOCATION:Settlers Tavern\, 114 Bussell Hwy\, Margaret River\, WA\, 6285\, Australia
CATEGORIES:Bossa Nova,Flamenco,Funk,Live Music Australia,Music,Reggae
ATTACH;FMTTYPE=image/jpeg:https://www.settlerstavern.com/wp-content/uploads/2024/04/WebJaZazaPoster.jpg
GEO:-33.9498;115.0736
X-APPLE-STRUCTURED-LOCATION;VALUE=URI;X-ADDRESS=Settlers Tavern 114 Bussell Hwy Margaret River WA 6285 Australia;X-APPLE-RADIUS=500;X-TITLE=114 Bussell Hwy:geo:115.0736,-33.9498
END:VEVENT
BEGIN:VEVENT
DTSTART;TZID=Australia/Perth:20200308T150000
DTEND;TZID=Australia/Perth:20200308T150000
DTSTAMP:20260423T173623
CREATED:20200204T175059Z
LAST-MODIFIED:20240530T054216Z
UID:10000547-1583679600-1583679600@www.settlerstavern.com
SUMMARY:The River Bugs
DESCRIPTION:From a wide range of musical backgrounds\, Margaret River’s RiverBugs share a common love of swing era jazz standards with a sprinkling of rhythm and blues.  Since forming in 2017 they have a great following in the south west. \nSinger Janine Andrews came from a professional jazz background in Paris before settling in Margaret River.  Bassist Viv Booker is a veteran of the Perth Jazz scene and Scott Wise on guitar\, vocals and occasional blues harmonica is a newcomer to the band’s jazz repertoire but has a long history in blues\, rock and folk music circles.  Together they make a unique combination as a trio and whenever they can\, they pull in Louise Marsh on saxophone and drummer Gary Larkin. \nThe RiveBugs really enjoy their shows and their audiences do too!
URL:https://www.settlerstavern.com/event/the-river-bugs/
LOCATION:Settlers Tavern\, 114 Bussell Hwy\, Margaret River\, WA\, 6285\, Australia
CATEGORIES:Bossa Nova,Jazz,Music,Swing
ATTACH;FMTTYPE=image/jpeg:https://www.settlerstavern.com/wp-content/uploads/2024/04/riverbugs-web.jpg
GEO:-33.9498;115.0736
X-APPLE-STRUCTURED-LOCATION;VALUE=URI;X-ADDRESS=Settlers Tavern 114 Bussell Hwy Margaret River WA 6285 Australia;X-APPLE-RADIUS=500;X-TITLE=114 Bussell Hwy:geo:115.0736,-33.9498
END:VEVENT
END:VCALENDAR