BEGIN:VCALENDAR
VERSION:2.0
PRODID:-//Settlers Tavern - ECPv6.15.18//NONSGML v1.0//EN
CALSCALE:GREGORIAN
METHOD:PUBLISH
X-ORIGINAL-URL:https://www.settlerstavern.com
X-WR-CALDESC:Events for Settlers Tavern
REFRESH-INTERVAL;VALUE=DURATION:PT1H
X-Robots-Tag:noindex
X-PUBLISHED-TTL:PT1H
BEGIN:VTIMEZONE
TZID:Australia/Perth
BEGIN:STANDARD
TZOFFSETFROM:+0800
TZOFFSETTO:+0800
TZNAME:AWST
DTSTART:20240101T000000
END:STANDARD
END:VTIMEZONE
BEGIN:VEVENT
DTSTART;TZID=Australia/Perth:20250920T210000
DTEND;TZID=Australia/Perth:20250920T233000
DTSTAMP:20260422T093859
CREATED:20250803T042436Z
LAST-MODIFIED:20250816T053126Z
UID:10001002-1758402000-1758411000@www.settlerstavern.com
SUMMARY:ART OF DYSFUNCTION
DESCRIPTION:Art Of Dysfunction are back at Settlers Tavern with a brand spanking new lineup\, and some brand spanking new songs. Fresh off their appearance at the Ravenswood Blues & Roots Festival\, supporting the likes of “The Black Sorrows” “19Twenty” and “Dave Hole” they’ll be celebrating the release of their third single with the new lineup\, “No Good” the third track released throughout 2025. The band have previously cut their teeth\, playing with Australian Rock mainstays\, “Electric Mary” and “The Radiators” to name a couple. Also completing a European tour in 2022\, supporting another Australian Blues Icon\, “Vdelli” There’s gonna be some serious jams going on\, who knows where they’ll go? 
URL:https://www.settlerstavern.com/event/art-of-dysfunction/
LOCATION:Settlers Tavern\, 114 Bussell Hwy\, Margaret River\, WA\, 6285\, Australia
CATEGORIES:Blues,Live Music,Live Music Australia,Rock'n'Roll
ATTACH;FMTTYPE=image/jpeg:https://www.settlerstavern.com/wp-content/uploads/2025/08/IMG_3782-scaled.jpg
GEO:-33.9498;115.0736
X-APPLE-STRUCTURED-LOCATION;VALUE=URI;X-ADDRESS=Settlers Tavern 114 Bussell Hwy Margaret River WA 6285 Australia;X-APPLE-RADIUS=500;X-TITLE=114 Bussell Hwy:geo:115.0736,-33.9498
END:VEVENT
END:VCALENDAR