BEGIN:VCALENDAR
VERSION:2.0
PRODID:-//Settlers Tavern - ECPv6.15.18//NONSGML v1.0//EN
CALSCALE:GREGORIAN
METHOD:PUBLISH
X-ORIGINAL-URL:https://www.settlerstavern.com
X-WR-CALDESC:Events for Settlers Tavern
REFRESH-INTERVAL;VALUE=DURATION:PT1H
X-Robots-Tag:noindex
X-PUBLISHED-TTL:PT1H
BEGIN:VTIMEZONE
TZID:Australia/Perth
BEGIN:STANDARD
TZOFFSETFROM:+0800
TZOFFSETTO:+0800
TZNAME:AWST
DTSTART:20240101T000000
END:STANDARD
END:VTIMEZONE
BEGIN:VEVENT
DTSTART;TZID=Australia/Perth:20250330T153000
DTEND;TZID=Australia/Perth:20250330T183000
DTSTAMP:20260423T064448
CREATED:20250213T061009Z
LAST-MODIFIED:20250213T061009Z
UID:10000934-1743348600-1743359400@www.settlerstavern.com
SUMMARY:MEGAN CORE
DESCRIPTION:Megan is a vibrant soloist singer-songwriter originally from rural Northern NSW\, and now living in South West WA. Drawing on her upbringing of folk and blues\, Megan uses acoustic guitar\, vocals\, harmonica and percussion to create a warm and fun atmosphere. Megan performs her own folk rock originals\, as well as a range of covers from artists she is inspired by. With years of experience playing live music\, Megan is a dynamic performer who can adapt to a variety of occasions.
URL:https://www.settlerstavern.com/event/megan-core-2/
LOCATION:Settlers Tavern\, 114 Bussell Hwy\, Margaret River\, WA\, 6285\, Australia
CATEGORIES:Acoustic,Blues,Folk,Live Music,Live Music Australia
ATTACH;FMTTYPE=image/jpeg:https://www.settlerstavern.com/wp-content/uploads/2024/09/TM1_5484-scaled.jpg
GEO:-33.9498;115.0736
X-APPLE-STRUCTURED-LOCATION;VALUE=URI;X-ADDRESS=Settlers Tavern 114 Bussell Hwy Margaret River WA 6285 Australia;X-APPLE-RADIUS=500;X-TITLE=114 Bussell Hwy:geo:115.0736,-33.9498
END:VEVENT
END:VCALENDAR