BEGIN:VCALENDAR
VERSION:2.0
PRODID:-//Settlers Tavern - ECPv6.15.18//NONSGML v1.0//EN
CALSCALE:GREGORIAN
METHOD:PUBLISH
X-ORIGINAL-URL:https://www.settlerstavern.com
X-WR-CALDESC:Events for Settlers Tavern
REFRESH-INTERVAL;VALUE=DURATION:PT1H
X-Robots-Tag:noindex
X-PUBLISHED-TTL:PT1H
BEGIN:VTIMEZONE
TZID:Australia/Perth
BEGIN:STANDARD
TZOFFSETFROM:+0800
TZOFFSETTO:+0800
TZNAME:AWST
DTSTART:20240101T000000
END:STANDARD
END:VTIMEZONE
BEGIN:VEVENT
DTSTART;TZID=Australia/Perth:20250329T210000
DTEND;TZID=Australia/Perth:20250329T233000
DTSTAMP:20260423T064448
CREATED:20240521T175013Z
LAST-MODIFIED:20250322T072838Z
UID:10000802-1743282000-1743291000@www.settlerstavern.com
SUMMARY:LIGHTNIN JACK DUO
DESCRIPTION:Lightnin Jack DUO \nLightnin Jack was literally born for the music\, brought up on small holdings in a Jarrah Milling Town of Southwest Western Australia\, raised on a diet of Lynyrd Skynyrd\, Creedence\, Lead Belly and local bluesmen\, an upbringing that’s reflected in his evocative\, soulful music and adds a discernible touch of authenticity to everything he does. \nBusking and bootlegging CD’s were just the beginning\, with Jacks career spanning the last 3 decades and bringing the release of three studio albums\, and 2023’s rollicking Live recording featuring Callum Kramer (The Southern River Band) on drums.  A live sound that brings energy and tone far beyond the one man that sits on stage has seen him work in the studio\, in support of\, or alongside a list of artists that would make your head spin – The Angels\, Phil Emmanuel\, Roshani\, Blue Shaddy\, Tony Joe White\, Ash Grunwald\, and The Southern River Band to name a few. \nJack is not one to sit still\, notching up an incredible average of over 120 live performances every year\, with audiences witnessing the breadth of his repertoire\, ranging from intimate acoustic shows featuring lap steel\, resonator and crooning lyrics\, to the high energy sets at festivals like Nannup Music Festival & Blues on Broadbeach\, where his valve amp tones\, heavy electric grind and percussive performance capture the Blues Roots Grunge style that is very much his own. \nWhether you have been following Lightnin Jack for the duration or are a newcomer to his incredible music\, it doesn’t matter – come along and witness the full force of this 3rd generation musician
URL:https://www.settlerstavern.com/event/lightnin-jack-duo/
LOCATION:Settlers Tavern\, 114 Bussell Hwy\, Margaret River\, WA\, 6285\, Australia
CATEGORIES:Blues,Grunge,Music,Roots
ATTACH;FMTTYPE=image/jpeg:https://www.settlerstavern.com/wp-content/uploads/2024/12/Settlers_Tavern_Food_OBJ887492.jpg
GEO:-33.9498;115.0736
X-APPLE-STRUCTURED-LOCATION;VALUE=URI;X-ADDRESS=Settlers Tavern 114 Bussell Hwy Margaret River WA 6285 Australia;X-APPLE-RADIUS=500;X-TITLE=114 Bussell Hwy:geo:115.0736,-33.9498
END:VEVENT
END:VCALENDAR