BEGIN:VCALENDAR
VERSION:2.0
PRODID:-//Settlers Tavern - ECPv6.15.20//NONSGML v1.0//EN
CALSCALE:GREGORIAN
METHOD:PUBLISH
X-WR-CALNAME:Settlers Tavern
X-ORIGINAL-URL:https://www.settlerstavern.com
X-WR-CALDESC:Events for Settlers Tavern
REFRESH-INTERVAL;VALUE=DURATION:PT1H
X-Robots-Tag:noindex
X-PUBLISHED-TTL:PT1H
BEGIN:VTIMEZONE
TZID:Australia/Perth
BEGIN:STANDARD
TZOFFSETFROM:+0800
TZOFFSETTO:+0800
TZNAME:AWST
DTSTART:20210101T000000
END:STANDARD
END:VTIMEZONE
BEGIN:VEVENT
DTSTART;TZID=Australia/Perth:20221211T150000
DTEND;TZID=Australia/Perth:20221211T180000
DTSTAMP:20260426T001214
CREATED:20221114T201858Z
LAST-MODIFIED:20240530T054806Z
UID:10000784-1670770800-1670781600@www.settlerstavern.com
SUMMARY:Brandie & Wise
DESCRIPTION:FREE ENTRY\nFacebook event: facebook.com/events/854865012215703/ \nYay! Here’s a chance to share a Chrissy drink with us and a few friends on the deck at Settler’s Tav in Margs! We’ll have the lovely Viv Booker with us too on double bass…should be fun! Seeya there! \n#settlerstavern #brandieandwise #summerfun2022
URL:https://www.settlerstavern.com/event/brandie-wise/
LOCATION:Settlers Tavern\, 114 Bussell Hwy\, Margaret River\, WA\, 6285\, Australia
CATEGORIES:Blues,Jazz,Live Music Australia,Music
ATTACH;FMTTYPE=image/jpeg:https://www.settlerstavern.com/wp-content/uploads/2024/04/brandieandwise.jpg
GEO:-33.9498;115.0736
X-APPLE-STRUCTURED-LOCATION;VALUE=URI;X-ADDRESS=Settlers Tavern 114 Bussell Hwy Margaret River WA 6285 Australia;X-APPLE-RADIUS=500;X-TITLE=114 Bussell Hwy:geo:115.0736,-33.9498
END:VEVENT
END:VCALENDAR