BEGIN:VCALENDAR
VERSION:2.0
PRODID:-//Settlers Tavern - ECPv6.15.20//NONSGML v1.0//EN
CALSCALE:GREGORIAN
METHOD:PUBLISH
X-WR-CALNAME:Settlers Tavern
X-ORIGINAL-URL:https://www.settlerstavern.com
X-WR-CALDESC:Events for Settlers Tavern
REFRESH-INTERVAL;VALUE=DURATION:PT1H
X-Robots-Tag:noindex
X-PUBLISHED-TTL:PT1H
BEGIN:VTIMEZONE
TZID:Australia/Perth
BEGIN:STANDARD
TZOFFSETFROM:+0800
TZOFFSETTO:+0800
TZNAME:AWST
DTSTART:20210101T000000
END:STANDARD
END:VTIMEZONE
BEGIN:VEVENT
DTSTART;TZID=Australia/Perth:20221124T200000
DTEND;TZID=Australia/Perth:20221124T223000
DTSTAMP:20260425T224432
CREATED:20220919T190931Z
LAST-MODIFIED:20240530T054731Z
UID:10000764-1669320000-1669329000@www.settlerstavern.com
SUMMARY:The Human Highway play Neil Young
DESCRIPTION:Facebook event: facebook.com/events/1174758199918591/ \n8pm DOORS\nTHE HUMAN HIGHWAY – CELEBRATING 50 YEARS OF NEIL YOUNGS ‘HARVEST ‘\nJoin the Human Highway to celebrate 50 years of the Harvest album\, with the 6-piece band playing m the album in its entirety\, along with the Human Highway mix of songs which covers music from the beginning of Young’s solo career in the late ’60s\, right through to the 21st century. The band is equally adept at capturing the essence of Young’s two primary styles: from the gentle folk and country-rock of albums like “Comes A Time” and “Harvest”\, to the electric guitar-driven rock of the Crazy Horse days.\nThe ‘Human Highway’ is fronted by long-time lovers of Neil Young\, David Hyams and Rose Parker and the 6 piece line up also includes some of Australia’s finest – Roy Martinez on bass and keyboards\, Russell Wilson on drums\, fiddler Adam Gare\, and Jeremy Threlfall on the pedal steel and guitar.\n1972 was a year memorable for the Munich Olympics\, a landslide victory for US President Richard Nixon and later\, the Watergate scandal coming to light. Closer to home\, Gough Whitlam became the first labour Prime Minister in 23 years\, while that year’s Ashes series saw the emergence of Dennis Lillee as a giant of the game.\nJohn Lennon and Carole King topped US album charts before Neil Young landed at no.1 on the Billboard’s album charts with ‘Harvest’. It was eventually the biggest seller of 1972 and his most commercially successful album\, spawning the no.1. hit “Heart of Gold”. Harvest was also remarkable for the collaboration with the London Symphony Orchestra on the\ntracks “A Man Needs a Maid” and “There’s a World”
URL:https://www.settlerstavern.com/event/the-human-highway-play-neil-young/
LOCATION:Settlers Tavern\, 114 Bussell Hwy\, Margaret River\, WA\, 6285\, Australia
CATEGORIES:Blues,Live Music Australia,Music,Tickets,Tribute
ATTACH;FMTTYPE=image/jpeg:https://www.settlerstavern.com/wp-content/uploads/2024/04/HumanHighwayInstaSquare2.jpg
GEO:-33.9498;115.0736
X-APPLE-STRUCTURED-LOCATION;VALUE=URI;X-ADDRESS=Settlers Tavern 114 Bussell Hwy Margaret River WA 6285 Australia;X-APPLE-RADIUS=500;X-TITLE=114 Bussell Hwy:geo:115.0736,-33.9498
END:VEVENT
END:VCALENDAR