BEGIN:VCALENDAR
VERSION:2.0
PRODID:-//Settlers Tavern - ECPv6.15.20//NONSGML v1.0//EN
CALSCALE:GREGORIAN
METHOD:PUBLISH
X-ORIGINAL-URL:https://www.settlerstavern.com
X-WR-CALDESC:Events for Settlers Tavern
REFRESH-INTERVAL;VALUE=DURATION:PT1H
X-Robots-Tag:noindex
X-PUBLISHED-TTL:PT1H
BEGIN:VTIMEZONE
TZID:Australia/Perth
BEGIN:STANDARD
TZOFFSETFROM:+0800
TZOFFSETTO:+0800
TZNAME:AWST
DTSTART:20210101T000000
END:STANDARD
END:VTIMEZONE
BEGIN:VEVENT
DTSTART;TZID=Australia/Perth:20221111T210000
DTEND;TZID=Australia/Perth:20221111T210000
DTSTAMP:20260425T211602
CREATED:20220914T224135Z
LAST-MODIFIED:20240530T054726Z
UID:10000761-1668200400-1668200400@www.settlerstavern.com
SUMMARY:Hussy Hicks
DESCRIPTION:FREE EVENT\nFacebook event: facebook.com/events/3187029888175357\n\n\nStraddling the line between Folk\, Blues\, Country\, and Roots\, HussyHicks have earned themselves a mighty reputation\, growing\, from festival openers to festival favourites\, seeing the group now appear at the biggest blues and roots festivals in Australia\, The USA and across Europe while selling out their own tours across the three continents.\nThe band led by the duo of Leesa Gentz’ (vocals)\, Julz Parker (guitar) have spent the last fourteen years touring and forging their place as one the most treasured and celebrated working musical duos\, whilst also being equally comfortable performing as a trio or in full band format\, having taken home the Gold Coast Artist of the Year and Album of the Year honours. The band have released seven studio albums and played 1000’s of gigs\, and festivals\, carving out a global reputation for their emotive lyricism\, energetic live shows and fiery\, frenetic instrumentation.\nHussy Hicks are not without adversary\, Leesa and Julz\, from the group had their studio and home destroyed in the devastating 2022 Northern Rivers Floods\, which was off the back of two years of industry shutdown from COVID. Onwards and upwards the group strives forward\, with their notorious mischievous streak whilst pushing against the odds as they carve greatness from adversary\, into 2023 and beyond as they prepare to release new material\, apps and even try their hands at a video game.
URL:https://www.settlerstavern.com/event/hussy-hicks/
LOCATION:Settlers Tavern\, 114 Bussell Hwy\, Margaret River\, WA\, 6285\, Australia
CATEGORIES:Blues,Country,Folk,Live Music Australia,Music,Roots
ATTACH;FMTTYPE=image/jpeg:https://www.settlerstavern.com/wp-content/uploads/2024/03/hussyhicks.jpg
GEO:-33.9498;115.0736
X-APPLE-STRUCTURED-LOCATION;VALUE=URI;X-ADDRESS=Settlers Tavern 114 Bussell Hwy Margaret River WA 6285 Australia;X-APPLE-RADIUS=500;X-TITLE=114 Bussell Hwy:geo:115.0736,-33.9498
END:VEVENT
END:VCALENDAR