BEGIN:VCALENDAR
VERSION:2.0
PRODID:-//Settlers Tavern - ECPv6.15.20//NONSGML v1.0//EN
CALSCALE:GREGORIAN
METHOD:PUBLISH
X-WR-CALNAME:Settlers Tavern
X-ORIGINAL-URL:https://www.settlerstavern.com
X-WR-CALDESC:Events for Settlers Tavern
REFRESH-INTERVAL;VALUE=DURATION:PT1H
X-Robots-Tag:noindex
X-PUBLISHED-TTL:PT1H
BEGIN:VTIMEZONE
TZID:Australia/Perth
BEGIN:STANDARD
TZOFFSETFROM:+0800
TZOFFSETTO:+0800
TZNAME:AWST
DTSTART:20210101T000000
END:STANDARD
END:VTIMEZONE
BEGIN:VEVENT
DTSTART;TZID=Australia/Perth:20221023T150000
DTEND;TZID=Australia/Perth:20221023T170000
DTSTAMP:20260426T032437
CREATED:20221017T215522Z
LAST-MODIFIED:20240530T054737Z
UID:10000710-1666537200-1666544400@www.settlerstavern.com
SUMMARY:Sunbird
DESCRIPTION:FREE ENTRY\nFacebook event: facebook.com/events/785893269355628 \nDave is bringing all his toys to Settlers this Sunday\, October 23\, to be joined by local luminary Kev McDonald on bass. Luscious layers of keys\, guitars\, banjo and percussion are all bound together by Kev’s magical skills on the phat strings. Get along!!!
URL:https://www.settlerstavern.com/event/sunbird-2-3/
LOCATION:Settlers Tavern\, 114 Bussell Hwy\, Margaret River\, WA\, 6285\, Australia
CATEGORIES:Blues,Music
ATTACH;FMTTYPE=image/jpeg:https://www.settlerstavern.com/wp-content/uploads/2024/04/SunbirdPromo.jpg
GEO:-33.9498;115.0736
X-APPLE-STRUCTURED-LOCATION;VALUE=URI;X-ADDRESS=Settlers Tavern 114 Bussell Hwy Margaret River WA 6285 Australia;X-APPLE-RADIUS=500;X-TITLE=114 Bussell Hwy:geo:115.0736,-33.9498
END:VEVENT
END:VCALENDAR