BEGIN:VCALENDAR
VERSION:2.0
PRODID:-//Settlers Tavern - ECPv6.15.20//NONSGML v1.0//EN
CALSCALE:GREGORIAN
METHOD:PUBLISH
X-WR-CALNAME:Settlers Tavern
X-ORIGINAL-URL:https://www.settlerstavern.com
X-WR-CALDESC:Events for Settlers Tavern
REFRESH-INTERVAL;VALUE=DURATION:PT1H
X-Robots-Tag:noindex
X-PUBLISHED-TTL:PT1H
BEGIN:VTIMEZONE
TZID:Australia/Perth
BEGIN:STANDARD
TZOFFSETFROM:+0800
TZOFFSETTO:+0800
TZNAME:AWST
DTSTART:20210101T000000
END:STANDARD
END:VTIMEZONE
BEGIN:VEVENT
DTSTART;TZID=Australia/Perth:20220717T150000
DTEND;TZID=Australia/Perth:20220717T180000
DTSTAMP:20260426T101823
CREATED:20220711T184257Z
LAST-MODIFIED:20240530T054646Z
UID:10000734-1658070000-1658080800@www.settlerstavern.com
SUMMARY:Rob and Graeme
DESCRIPTION:Free Entry\nFacebook event: https://www.facebook.com/events/5409672395757238/ \nOn Sunday Rob and Graeme will bring a spread of blues\, funk and world music\, from the Mississippi to the Ganges\, Mali to Marley.\nBetween them\, they have done a thousand plus gigs\, played in multiple lineups and have an endless repertoire. With Graeme Dickinson on vocals\, guitars\, stomp and Rob Bruce on sax and harp you will hear originals\, covers\, fun and grooves.
URL:https://www.settlerstavern.com/event/rob-and-graeme/
LOCATION:Settlers Tavern\, 114 Bussell Hwy\, Margaret River\, WA\, 6285\, Australia
CATEGORIES:Blues,Funk,Live Music Australia,Music
ATTACH;FMTTYPE=image/jpeg:https://www.settlerstavern.com/wp-content/uploads/2024/04/graeme_dickinson.jpeg
GEO:-33.9498;115.0736
X-APPLE-STRUCTURED-LOCATION;VALUE=URI;X-ADDRESS=Settlers Tavern 114 Bussell Hwy Margaret River WA 6285 Australia;X-APPLE-RADIUS=500;X-TITLE=114 Bussell Hwy:geo:115.0736,-33.9498
END:VEVENT
END:VCALENDAR