BEGIN:VCALENDAR
VERSION:2.0
PRODID:-//Settlers Tavern - ECPv6.15.20//NONSGML v1.0//EN
CALSCALE:GREGORIAN
METHOD:PUBLISH
X-ORIGINAL-URL:https://www.settlerstavern.com
X-WR-CALDESC:Events for Settlers Tavern
REFRESH-INTERVAL;VALUE=DURATION:PT1H
X-Robots-Tag:noindex
X-PUBLISHED-TTL:PT1H
BEGIN:VTIMEZONE
TZID:Australia/Perth
BEGIN:STANDARD
TZOFFSETFROM:+0800
TZOFFSETTO:+0800
TZNAME:AWST
DTSTART:20210101T000000
END:STANDARD
END:VTIMEZONE
BEGIN:VEVENT
DTSTART;TZID=Australia/Perth:20220610T210000
DTEND;TZID=Australia/Perth:20220610T210000
DTSTAMP:20260426T084512
CREATED:20220505T195301Z
LAST-MODIFIED:20240530T054605Z
UID:10000714-1654894800-1654894800@www.settlerstavern.com
SUMMARY:Bambuseae Rythmn Section
DESCRIPTION:FREE ENTRY\nFacebook event: https://www.facebook.com/events/733210667678875/ \nMultiple WAM Award nominees The Bambuseae Rhythm Section bring their stylish brand of Psych infused Disco\, Rock\, Rhythm & Blues to Settlers Tavern\, Margaret River Friday June 10th.\nHaving supported national treasures such as The Waifs\, Dan Sultan and The Cat Empire in recent years this Fremantle based party band are all for the good vibes and centre their performance around dancing your worries into oblivion.\nBe moved by the ebb and flow of their dynamic and enthralling party grooves as you loose yourself to the music and forget all about your troubles.\nIt’s #THEPEOPLEMUSTDANCE from start to finish and TBRS are here to party with you into the late hours of the evening.\nFREE LOVE FREE ENTRY\nMUSIC FROM 9:30PM\nSETTLERS TAVERN\nMARGARET RIVER\nWWW.THEPEOPLEMUSTDANCE.COM
URL:https://www.settlerstavern.com/event/bambuseae-rythmn-section/
LOCATION:Settlers Tavern\, 114 Bussell Hwy\, Margaret River\, WA\, 6285\, Australia
CATEGORIES:Afrobeat,Blues,Funk,Jazz,Live Music Australia,Music,Reggae,World
ATTACH;FMTTYPE=image/jpeg:https://www.settlerstavern.com/wp-content/uploads/2024/04/web-settlers-A3.jpg
GEO:-33.9498;115.0736
X-APPLE-STRUCTURED-LOCATION;VALUE=URI;X-ADDRESS=Settlers Tavern 114 Bussell Hwy Margaret River WA 6285 Australia;X-APPLE-RADIUS=500;X-TITLE=114 Bussell Hwy:geo:115.0736,-33.9498
END:VEVENT
END:VCALENDAR