BEGIN:VCALENDAR
VERSION:2.0
PRODID:-//Settlers Tavern - ECPv6.15.20//NONSGML v1.0//EN
CALSCALE:GREGORIAN
METHOD:PUBLISH
X-WR-CALNAME:Settlers Tavern
X-ORIGINAL-URL:https://www.settlerstavern.com
X-WR-CALDESC:Events for Settlers Tavern
REFRESH-INTERVAL;VALUE=DURATION:PT1H
X-Robots-Tag:noindex
X-PUBLISHED-TTL:PT1H
BEGIN:VTIMEZONE
TZID:Australia/Perth
BEGIN:STANDARD
TZOFFSETFROM:+0800
TZOFFSETTO:+0800
TZNAME:AWST
DTSTART:20210101T000000
END:STANDARD
END:VTIMEZONE
BEGIN:VEVENT
DTSTART;TZID=Australia/Perth:20220521T210000
DTEND;TZID=Australia/Perth:20220521T210000
DTSTAMP:20260426T115649
CREATED:20220502T220126Z
LAST-MODIFIED:20240530T054600Z
UID:10000711-1653166800-1653166800@www.settlerstavern.com
SUMMARY:Moonlighter
DESCRIPTION:FREE ENTRY\nFacebook event: https://www.facebook.com/events/685641582674507/685641589341173 \nWest Australian Blues-Rock powerhouse Moonlighter are back on the road in May to deliver their signature blend of pounding drums and soaring guitars across the state. Moonlighter return to Margaret River for a special 2 night run at The Settlers Tavern.\n8PM || SAT MAY 21\n3PM || SUN MAY 22\nFREE ENTRY\n_________________________________________________________\nMoonlighter is a Psychedelic Blues band from Fremantle\, Western Australia consisting of guitarist Sascha Seabourne-Carlin\, bassist Connor Hart and drummer David James Brennan. Formed in 2016\, the music is a raucous blend of energetic rock and immersive psychedelia that is steeped in long semi-improvised jams.\nFollowing a two year hiatus\, while the members pursued other projects\, 2021 will see the band hit the ground running. Their new single “Epinephrine” alludes to a new direction: a loose and wildly expressive melting pot of garage rock\, heavy psych and electric blues music\, intrinsically connected to their homeland of the remote Australian coast.\nUpon their new single release in November 2021 will see Moonlighter touring extensively and preparing further releases of this potent sonic blend. A band continuing to hone its sonic fingerprint and solidify it’s formidable live show\, Moonlighter will be an exciting band to watch this year.\n_________________________________________________________\n*I acknowledge this event is taking place on stolen land – Whadjuk Noongar Boodja. This was\, is and always will be Aboriginal land. I pay my respects to the traditional custodians of the land.\n*This is a zero tolerance event\, anti-social or disrespectful behaviour of any kind will not to tolerated and will be acted on immediately. Look after each other.
URL:https://www.settlerstavern.com/event/moonlighter/2022-05-21/
LOCATION:Settlers Tavern\, 114 Bussell Hwy\, Margaret River\, WA\, 6285\, Australia
CATEGORIES:Blues,Live Music Australia,Music,Rock
ATTACH;FMTTYPE=image/jpeg:https://www.settlerstavern.com/wp-content/uploads/2024/04/moonlighter-web-1.jpg
GEO:-33.9498;115.0736
X-APPLE-STRUCTURED-LOCATION;VALUE=URI;X-ADDRESS=Settlers Tavern 114 Bussell Hwy Margaret River WA 6285 Australia;X-APPLE-RADIUS=500;X-TITLE=114 Bussell Hwy:geo:115.0736,-33.9498
END:VEVENT
END:VCALENDAR