BEGIN:VCALENDAR
VERSION:2.0
PRODID:-//Settlers Tavern - ECPv6.15.18//NONSGML v1.0//EN
CALSCALE:GREGORIAN
METHOD:PUBLISH
X-ORIGINAL-URL:https://www.settlerstavern.com
X-WR-CALDESC:Events for Settlers Tavern
REFRESH-INTERVAL;VALUE=DURATION:PT1H
X-Robots-Tag:noindex
X-PUBLISHED-TTL:PT1H
BEGIN:VTIMEZONE
TZID:Australia/Perth
BEGIN:STANDARD
TZOFFSETFROM:+0800
TZOFFSETTO:+0800
TZNAME:AWST
DTSTART:20250101T000000
END:STANDARD
END:VTIMEZONE
BEGIN:VEVENT
DTSTART;TZID=Australia/Perth:20260502T210000
DTEND;TZID=Australia/Perth:20260502T233000
DTSTAMP:20260421T215712
CREATED:20260309T051525Z
LAST-MODIFIED:20260309T051525Z
UID:10001101-1777755600-1777764600@www.settlerstavern.com
SUMMARY:SOL MISTIC
DESCRIPTION:Solmistic blends Psychedelic rock\, blues\, funk and soul to collide with hypnotic guitar riffs\, groovy basslines\, and soulful vocals. Nostalgic yet fresh\, our music moves the body\, sparks the mind and gets you lost deep danceable moves.
URL:https://www.settlerstavern.com/event/sol-mistic/
LOCATION:Settlers Tavern\, 114 Bussell Hwy\, Margaret River\, WA\, 6285\, Australia
CATEGORIES:Blues,Funk,Live Music,Live Music Australia,Psychedelic,Soul
ATTACH;FMTTYPE=image/png:https://www.settlerstavern.com/wp-content/uploads/2026/03/Website-banner-template-30.png
GEO:-33.9498;115.0736
X-APPLE-STRUCTURED-LOCATION;VALUE=URI;X-ADDRESS=Settlers Tavern 114 Bussell Hwy Margaret River WA 6285 Australia;X-APPLE-RADIUS=500;X-TITLE=114 Bussell Hwy:geo:115.0736,-33.9498
END:VEVENT
BEGIN:VEVENT
DTSTART;TZID=Australia/Perth:20260503T150000
DTEND;TZID=Australia/Perth:20260503T180000
DTSTAMP:20260421T215712
CREATED:20260122T123424Z
LAST-MODIFIED:20260122T123728Z
UID:10001086-1777820400-1777831200@www.settlerstavern.com
SUMMARY:Matt Cal
DESCRIPTION:WA’s hardest working Blues and Roots musician is back after a HUGE 2025 performing Nannup Music Festival\, supporting Tijuana Cartel\, touring WA solo and touring with Ash Grunwald\, armed with his new EP Magic Potion. \nAt his heart Matt is a story teller through song – crafting lyrics of truth\, fable and fiction to accompany his excellent acoustic guitar skills and live looping. \nOriginal songs with acoustic guitar\, dobro slide guitar\, cigar box blues guitar\, stomp box\, live looping and storytelling combine for a thoughtful\, unique musical experience that’ll have your ears\, hearts and souls warm and toasty. \nMatt describes music as like breathing\, something he has always known yet remains a mystery.
URL:https://www.settlerstavern.com/event/matt-cal-2/
LOCATION:Settlers Tavern\, 114 Bussell Hwy\, Margaret River\, WA\, 6285\, Australia
CATEGORIES:Blues,Live Music,Live Music Australia,Roots
ATTACH;FMTTYPE=image/png:https://www.settlerstavern.com/wp-content/uploads/2026/01/Website-banner-template-19.png
GEO:-33.9498;115.0736
X-APPLE-STRUCTURED-LOCATION;VALUE=URI;X-ADDRESS=Settlers Tavern 114 Bussell Hwy Margaret River WA 6285 Australia;X-APPLE-RADIUS=500;X-TITLE=114 Bussell Hwy:geo:115.0736,-33.9498
END:VEVENT
BEGIN:VEVENT
DTSTART;TZID=Australia/Perth:20260509T210000
DTEND;TZID=Australia/Perth:20260509T233000
DTSTAMP:20260421T215712
CREATED:20260407T044230Z
LAST-MODIFIED:20260407T044230Z
UID:10001114-1778360400-1778369400@www.settlerstavern.com
SUMMARY:The Fat Wallet Blues Band
DESCRIPTION:Lauralee Faith & The Fat Wallet Blues Band \nLauralee Faith and The Fat Wallet Blues Band bring a vibrant new edge to the blues\, blending soulful originals with hand-picked covers from legendary artists rarely heard on the WA scene. The band delivers a sound that is both steeped in tradition yet refreshingly contemporary. \nAt the heart of the band is powerhouse vocalist Lauralee Faith\, whose dynamic range and magnetic stage presence never fail to captivate\, backed by a lineup of seasoned musicians: \n• Dennis Thal on guitar\, delivering decades of pure blues authenticity.\n• Danny Smedley\, driving the rhythm with explosive drums\, rich vocals\, and undeniable stage charisma.\n• Peter Altmeier-Mort on bass\, an award-winning songwriter with a career highlighted by iconic performances and recordings.\n• Geoff Sedgwick on keyboards\, weaving in warm textures and Hammond organ grooves that complete the band’s signature sound. \nTogether\, we create a blues experience that is at once familiar\, surprising\, and unmissable . . . \nFrom a respected musician in our audience . . . . \n“Fabulous professional\, tight band. Very nice selection and variety of songs. Strong rhythm section with the drummer’s vox a nice addition to the powerful lead female’s. Keys and lead guitar blended and dovetailed beautifully. A very enjoyable set indeed!”\nCraig L – 16th December 2025
URL:https://www.settlerstavern.com/event/the-fat-wallet-blues-band/
LOCATION:Settlers Tavern\, 114 Bussell Hwy\, Margaret River\, WA\, 6285\, Australia
CATEGORIES:Blues,Live Music,Live Music Australia
ATTACH;FMTTYPE=image/png:https://www.settlerstavern.com/wp-content/uploads/2026/04/Website-banner-template-40.png
GEO:-33.9498;115.0736
X-APPLE-STRUCTURED-LOCATION;VALUE=URI;X-ADDRESS=Settlers Tavern 114 Bussell Hwy Margaret River WA 6285 Australia;X-APPLE-RADIUS=500;X-TITLE=114 Bussell Hwy:geo:115.0736,-33.9498
END:VEVENT
END:VCALENDAR