BEGIN:VCALENDAR
VERSION:2.0
PRODID:-//Settlers Tavern - ECPv6.15.18//NONSGML v1.0//EN
CALSCALE:GREGORIAN
METHOD:PUBLISH
X-WR-CALNAME:Settlers Tavern
X-ORIGINAL-URL:https://www.settlerstavern.com
X-WR-CALDESC:Events for Settlers Tavern
REFRESH-INTERVAL;VALUE=DURATION:PT1H
X-Robots-Tag:noindex
X-PUBLISHED-TTL:PT1H
BEGIN:VTIMEZONE
TZID:Australia/Perth
BEGIN:STANDARD
TZOFFSETFROM:+0800
TZOFFSETTO:+0800
TZNAME:AWST
DTSTART:20250101T000000
END:STANDARD
END:VTIMEZONE
BEGIN:VEVENT
DTSTART;TZID=Australia/Perth:20260301T153000
DTEND;TZID=Australia/Perth:20260301T183000
DTSTAMP:20260421T215515
CREATED:20251124T120100Z
LAST-MODIFIED:20251124T120100Z
UID:10001058-1772379000-1772389800@www.settlerstavern.com
SUMMARY:TURIN ROBINSON
DESCRIPTION:Rhyming words adjectives nouns and verbs\, transform this troubadours travels into verse\, blending acoustic stylings with hip hop\, r&b\, blues and folk.
URL:https://www.settlerstavern.com/event/turin-robinson-3/
LOCATION:Settlers Tavern\, 114 Bussell Hwy\, Margaret River\, WA\, 6285\, Australia
CATEGORIES:Acoustic,Blues,Folk,Live Music,Live Music Australia,RnB
ATTACH;FMTTYPE=image/jpeg:https://www.settlerstavern.com/wp-content/uploads/2025/11/turin.jpeg
GEO:-33.9498;115.0736
X-APPLE-STRUCTURED-LOCATION;VALUE=URI;X-ADDRESS=Settlers Tavern 114 Bussell Hwy Margaret River WA 6285 Australia;X-APPLE-RADIUS=500;X-TITLE=114 Bussell Hwy:geo:115.0736,-33.9498
END:VEVENT
BEGIN:VEVENT
DTSTART;TZID=Australia/Perth:20260308T153000
DTEND;TZID=Australia/Perth:20260308T183000
DTSTAMP:20260421T215515
CREATED:20260110T050105Z
LAST-MODIFIED:20260110T050105Z
UID:10001078-1772983800-1772994600@www.settlerstavern.com
SUMMARY:Beth Chia
DESCRIPTION:Beth Chia blends ethereal and edgy in a unique mix of electronics\, guitar\, vocals and an indefinable mix of exotic roots rhythms. The intrigue in her songs comes from moody folk lyricism\, a touch of grunge\, and an ever present dance between fragility and power. \nHailing from remote south western Australia\, Beth is influenced by the land\, forests and wisdom of ancient cultures. She weaves a narrative of old and new through her blues\, roots\, dub and folk inspired songs. \nBeth has also recently teamed up with South West NRM\, a local organisation that works to address the issues of climate change\, biodiversity loss & ecosystem degradation. She donates a portion of her gigging profits to help them continue doing their incredible work.
URL:https://www.settlerstavern.com/event/beth-chia/
LOCATION:Settlers Tavern\, 114 Bussell Hwy\, Margaret River\, WA\, 6285\, Australia
CATEGORIES:Blues,Live Music,Live Music Australia,Roots
ATTACH;FMTTYPE=image/png:https://www.settlerstavern.com/wp-content/uploads/2026/01/Website-banner-template-13.png
GEO:-33.9498;115.0736
X-APPLE-STRUCTURED-LOCATION;VALUE=URI;X-ADDRESS=Settlers Tavern 114 Bussell Hwy Margaret River WA 6285 Australia;X-APPLE-RADIUS=500;X-TITLE=114 Bussell Hwy:geo:115.0736,-33.9498
END:VEVENT
BEGIN:VEVENT
DTSTART;TZID=Australia/Perth:20260321T210000
DTEND;TZID=Australia/Perth:20260321T223000
DTSTAMP:20260421T215515
CREATED:20260203T050646Z
LAST-MODIFIED:20260203T050646Z
UID:10001092-1774126800-1774132200@www.settlerstavern.com
SUMMARY:BEN CATLEY
DESCRIPTION:Right before heading over to perform at BLUESFEST Byron Bay (featuring Earth Wind & Fire\, Split Enz\, Counting Crows\, Xavier Rudd…)\, don’t miss Ben Catley’s high-energy\, virtuoso guitar show at Settlers Tavern\, Margaret River! \nWith mesmerising acoustic guitar playing\, big bluesy vocals and an ecstatic stage presence\, Ben Catley pours every ounce of his soul into his live show. Having toured all across Australia\, New Zealand and the UK many times over\, he captivates audiences like few other solo artists. \nHis live show has become renowned for its finger-tapping guitar style\, blistering riffs and driving grooves. With flavours of blues/roots/rock/folk\, Ben weaves between both atmospheric soundscapes and huge upbeat energy\, creating a diverse show of guitar craftsmanship. \nHe has performed on many huge international festival lineups across the world featuring the likes of The Doobie Brothers\, Crowded House\, Hilltop Hoods\, John Butler\, Groove Armada and many more. He has also released tracks featuring Wim Hof\, Ash Grunwald & Tijuana Cartel\, and recently had his music used in a worldwide Ford campaign. \n“A virtuoso guitarist… Captivating skills both vocally and on guitar.” Xpress Mag
URL:https://www.settlerstavern.com/event/ben-catley/
LOCATION:Settlers Tavern\, 114 Bussell Hwy\, Margaret River\, WA\, 6285\, Australia
CATEGORIES:Blues,Live Music,Live Music Australia,Rock,Roots
ATTACH;FMTTYPE=image/png:https://www.settlerstavern.com/wp-content/uploads/2026/02/Website-banner-template-24.png
GEO:-33.9498;115.0736
X-APPLE-STRUCTURED-LOCATION;VALUE=URI;X-ADDRESS=Settlers Tavern 114 Bussell Hwy Margaret River WA 6285 Australia;X-APPLE-RADIUS=500;X-TITLE=114 Bussell Hwy:geo:115.0736,-33.9498
END:VEVENT
BEGIN:VEVENT
DTSTART;TZID=Australia/Perth:20260329T153000
DTEND;TZID=Australia/Perth:20260329T183000
DTSTAMP:20260421T215515
CREATED:20260109T033235Z
LAST-MODIFIED:20260109T033235Z
UID:10001077-1774798200-1774809000@www.settlerstavern.com
SUMMARY:QYNN
DESCRIPTION:“Qynn is a unique and highly talented artist. He combines great song writing and vocal skills with an amazing guitar technique in a process which is redefining how acoustic guitar performance is done. I am honoured to have worked with him.”  SCOTT WISE – LUTHIER\n“Very few soloists can come close to the passion and force that Qynn combines into a unique experience of roots influenced contemporary tunes. His live show and guitar dexterity place him in the new breed of gunslinger songwriters\, making his mark on the Australian musical landscape.”   – RICHARD LANE- (the Stems)\n“A fire cracker of pace and dexterity… Knows his way around a guitar like few others…. Inspired songsmithery”  – DRUM MEDIA\n“Qynn is a unique\, experimental and at times sublime guitarist who is fast becoming an icon of the Margaret River region. His rock guitar playing\, combined with a clear jazz/ blues influence and his vocals give richness to the effect\, creating a blanket of sound that can at times attack and other times caress. For guitar music lovers\, there is no denying that Qynn is an essential part of the Margaret River live music scene”. – THE MARGARET RIVER GUIDE\nin his new solo show\, Qynn plays the music of people he respects and have influenced his journey as a guitarist. He will be sharing his connection to the music and also a selection of his own songs\, with v-drums\, guitar and vocals.\nAs a guitarist\, Qynn has played both live and on record with many great Australian and international artists\, Bernard Fanning\, Paul McDermott\, Alan Pigram\, Jon English\, the Bushman Brothers\, Scott Wise\, Ro\, Lloyd Spiegal\, Jae Laffer\, Paul Dempsey\, Animosity\, Vdelli\, Adam Harvey\, Aimee Chapman\, Tyson Mowarin\, Alex Gow\, Mike Elrington\, Men and their sheds\, The Healys\, Cat Beach\, the Few\, Rather large Betty…..\nHe has\, in the past\, when touring to the tune of around 200 plus shows a year\, been endorsed by Cole Clark guitars\, Tokai Electric guitars and Strauss Amplifiers.\nHe Currently plays a Scott wise custom Baritone Acoustic.\nif you love guitar\, you will enjoy one of Qynn’s shows.\nA splendid time is guaranteed for all!
URL:https://www.settlerstavern.com/event/qynn-4/
LOCATION:Settlers Tavern\, 114 Bussell Hwy\, Margaret River\, WA\, 6285\, Australia
CATEGORIES:Acoustic,Blues,Rock
ATTACH;FMTTYPE=image/png:https://www.settlerstavern.com/wp-content/uploads/2026/01/Website-banner-template-12.png
GEO:-33.9498;115.0736
X-APPLE-STRUCTURED-LOCATION;VALUE=URI;X-ADDRESS=Settlers Tavern 114 Bussell Hwy Margaret River WA 6285 Australia;X-APPLE-RADIUS=500;X-TITLE=114 Bussell Hwy:geo:115.0736,-33.9498
END:VEVENT
END:VCALENDAR