BEGIN:VCALENDAR
VERSION:2.0
PRODID:-//Settlers Tavern - ECPv6.15.18//NONSGML v1.0//EN
CALSCALE:GREGORIAN
METHOD:PUBLISH
X-ORIGINAL-URL:https://www.settlerstavern.com
X-WR-CALDESC:Events for Settlers Tavern
REFRESH-INTERVAL;VALUE=DURATION:PT1H
X-Robots-Tag:noindex
X-PUBLISHED-TTL:PT1H
BEGIN:VTIMEZONE
TZID:Australia/Perth
BEGIN:STANDARD
TZOFFSETFROM:+0800
TZOFFSETTO:+0800
TZNAME:AWST
DTSTART:20240101T000000
END:STANDARD
END:VTIMEZONE
BEGIN:VEVENT
DTSTART;TZID=Australia/Perth:20250706T150000
DTEND;TZID=Australia/Perth:20250706T180000
DTSTAMP:20260422T111814
CREATED:20250526T053144Z
LAST-MODIFIED:20250526T053144Z
UID:10000971-1751814000-1751824800@www.settlerstavern.com
SUMMARY:CHILALI & CHIEF
DESCRIPTION:Fremantle based duo Chilali and the Chief fuse contemporary Alternative Indie pop with blues and world flavours. Featuring fiery guitar flourishes and lilting vocal harmonies\, this duo are a must see live whether they are doing covers with a special twist or their sophisticated soundscape of original music that pulls at the heartstrings. You hear something different every time. \nFREE ENTRY \n 
URL:https://www.settlerstavern.com/event/chilali-chief-4/
LOCATION:Settlers Tavern\, 114 Bussell Hwy\, Margaret River\, WA\, 6285\, Australia
CATEGORIES:Blues,Indie Pop,Jazz,Live Music,Live Music Australia,Music,World
ATTACH;FMTTYPE=image/jpeg:https://www.settlerstavern.com/wp-content/uploads/2024/05/Chilali-and-the-Chief-promo-pic.jpg
GEO:-33.9498;115.0736
X-APPLE-STRUCTURED-LOCATION;VALUE=URI;X-ADDRESS=Settlers Tavern 114 Bussell Hwy Margaret River WA 6285 Australia;X-APPLE-RADIUS=500;X-TITLE=114 Bussell Hwy:geo:115.0736,-33.9498
END:VEVENT
BEGIN:VEVENT
DTSTART;TZID=Australia/Perth:20250713T150000
DTEND;TZID=Australia/Perth:20250713T180000
DTSTAMP:20260422T111814
CREATED:20250526T061052Z
LAST-MODIFIED:20250529T080124Z
UID:10000973-1752418800-1752429600@www.settlerstavern.com
SUMMARY:QYNN
DESCRIPTION:Kick back this Sunday with Qynn\, an acclaimed local artist known for his soul-stirring acoustic blues and rock. While you may recognize Qynn from his influential role in projects like the Grass Roots Music Foundation\, it’s his powerful live performances that truly captivate audiences. Join us to experience the vibrant energy and raw emotion that Qynn brings to the stage.
URL:https://www.settlerstavern.com/event/qynn-2/
LOCATION:Settlers Tavern\, 114 Bussell Hwy\, Margaret River\, WA\, 6285\, Australia
CATEGORIES:Acoustic,Blues,Live Music,Live Music Australia,Rock
ATTACH;FMTTYPE=image/jpeg:https://www.settlerstavern.com/wp-content/uploads/2024/10/46281409_10156150273921731_483041081856884736_n.jpg
GEO:-33.9498;115.0736
X-APPLE-STRUCTURED-LOCATION;VALUE=URI;X-ADDRESS=Settlers Tavern 114 Bussell Hwy Margaret River WA 6285 Australia;X-APPLE-RADIUS=500;X-TITLE=114 Bussell Hwy:geo:115.0736,-33.9498
END:VEVENT
END:VCALENDAR