BEGIN:VCALENDAR
VERSION:2.0
PRODID:-//Settlers Tavern - ECPv6.15.20//NONSGML v1.0//EN
CALSCALE:GREGORIAN
METHOD:PUBLISH
X-WR-CALNAME:Settlers Tavern
X-ORIGINAL-URL:https://www.settlerstavern.com
X-WR-CALDESC:Events for Settlers Tavern
REFRESH-INTERVAL;VALUE=DURATION:PT1H
X-Robots-Tag:noindex
X-PUBLISHED-TTL:PT1H
BEGIN:VTIMEZONE
TZID:Australia/Perth
BEGIN:STANDARD
TZOFFSETFROM:+0800
TZOFFSETTO:+0800
TZNAME:AWST
DTSTART:20230101T000000
END:STANDARD
END:VTIMEZONE
BEGIN:VEVENT
DTSTART;TZID=Australia/Perth:20241201T153000
DTEND;TZID=Australia/Perth:20241201T183000
DTSTAMP:20260423T105557
CREATED:20241102T005740Z
LAST-MODIFIED:20241122T041514Z
UID:10000887-1733067000-1733077800@www.settlerstavern.com
SUMMARY:DAVE LAWRENCE
DESCRIPTION:Celebrate the first day of summer this Sunday\, December 1st\, with the soulful sounds of Dave Lawrence on our verandah. From 3.30PM\, experience a unique musical journey as Dave brings his deluxe loop rig to life\, masterfully blending a variety of instruments and tunes. Whether you’re a fan of smooth soul or upbeat rhythms\, Dave’s set promises something for everyone. \nJoin us for an afternoon of great music\, free entry\, and the perfect vibe to welcome summer. Don’t miss out on this exceptional start to the season at Settlers Tavern!
URL:https://www.settlerstavern.com/event/dave-lawrence/
LOCATION:Settlers Tavern\, 114 Bussell Hwy\, Margaret River\, WA\, 6285\, Australia
CATEGORIES:Blues,Live Music,Live Music Australia,Loop
ATTACH;FMTTYPE=application/pdf:https://www.settlerstavern.com/wp-content/uploads/2024/11/SettlersPoster.pdf
GEO:-33.9498;115.0736
X-APPLE-STRUCTURED-LOCATION;VALUE=URI;X-ADDRESS=Settlers Tavern 114 Bussell Hwy Margaret River WA 6285 Australia;X-APPLE-RADIUS=500;X-TITLE=114 Bussell Hwy:geo:115.0736,-33.9498
END:VEVENT
BEGIN:VEVENT
DTSTART;TZID=Australia/Perth:20241228T210000
DTEND;TZID=Australia/Perth:20241228T233000
DTSTAMP:20260423T105557
CREATED:20241125T091415Z
LAST-MODIFIED:20241125T091415Z
UID:10000898-1735419600-1735428600@www.settlerstavern.com
SUMMARY:BIG TOWN PLAYERS
DESCRIPTION:The Big Town Players have emerged in the last seven years as the wild card on the local Perth blues circuit with the international sound. Part Muddy Waters\, part Billy Thorpe\, the old school R & B\, pub rock\, soul and blues influences are undeniable. This is energetic\, Chicago style harmonica driven rock and roll that is perfect to dance to. Sporting a big fat\, raucous\, electric bar room sound and great songwriting\, the Big Town Players have carved out a following that enjoy a lusty live delivery and traditional blues sound with a rock and roll edge. Following appearances at the Bridgetown Blues festivals in 2017 & 2018\, the band released its first album “BIG TOWN” in January of 2019 at the Perth Blues Club to some acclaim. Subsequently the album debuted at #8 on the Australian Blues and Roots Airplay charts (ABARAC) and stayed for a mighty 6 mths. In 2021 BTPs released their second album ‘OTHER SIDE OF TOWN’ that reached #3 on the (ABARAC) charts.
URL:https://www.settlerstavern.com/event/big-town-players-3/
LOCATION:Settlers Tavern\, 114 Bussell Hwy\, Margaret River\, WA\, 6285\, Australia
CATEGORIES:Blues,Live Music,Live Music Australia,Rock
ATTACH;FMTTYPE=image/png:https://www.settlerstavern.com/wp-content/uploads/2024/11/Screenshot-2024-11-25-at-5.09.44 PM.png
GEO:-33.9498;115.0736
X-APPLE-STRUCTURED-LOCATION;VALUE=URI;X-ADDRESS=Settlers Tavern 114 Bussell Hwy Margaret River WA 6285 Australia;X-APPLE-RADIUS=500;X-TITLE=114 Bussell Hwy:geo:115.0736,-33.9498
END:VEVENT
BEGIN:VEVENT
DTSTART;TZID=Australia/Perth:20241229T153000
DTEND;TZID=Australia/Perth:20241229T183000
DTSTAMP:20260423T105557
CREATED:20241125T092422Z
LAST-MODIFIED:20241125T092422Z
UID:10000899-1735486200-1735497000@www.settlerstavern.com
SUMMARY:BIG AL & THE WOLF PACK
DESCRIPTION:Join the Big Al & Wolf Pack for a soulful Sunday session in the beer garden at Settlers Tavern\, Margaret River\, on 29 December. Paying homage to the great blues artists of the 1950s\, Wolf Pack brings the raw sounds of Chicago juke joints and the swamp blues of Baton Rouge to life. Enjoy classic songs from legends like Muddy Waters\, Slim Harpo\, Jimmy Reed\, Magic Sam\, Little Walter\, and more\, delivered with authenticity and passion.
URL:https://www.settlerstavern.com/event/big-al-the-wolf-pack-2/
LOCATION:Settlers Tavern\, 114 Bussell Hwy\, Margaret River\, WA\, 6285\, Australia
CATEGORIES:Blues,Live Music,Live Music Australia,Music
ATTACH;FMTTYPE=image/jpeg:https://www.settlerstavern.com/wp-content/uploads/2024/05/IMG_6433-e1732526648841.jpg
GEO:-33.9498;115.0736
X-APPLE-STRUCTURED-LOCATION;VALUE=URI;X-ADDRESS=Settlers Tavern 114 Bussell Hwy Margaret River WA 6285 Australia;X-APPLE-RADIUS=500;X-TITLE=114 Bussell Hwy:geo:115.0736,-33.9498
END:VEVENT
END:VCALENDAR