BEGIN:VCALENDAR
VERSION:2.0
PRODID:-//Settlers Tavern - ECPv6.15.20//NONSGML v1.0//EN
CALSCALE:GREGORIAN
METHOD:PUBLISH
X-ORIGINAL-URL:https://www.settlerstavern.com
X-WR-CALDESC:Events for Settlers Tavern
REFRESH-INTERVAL;VALUE=DURATION:PT1H
X-Robots-Tag:noindex
X-PUBLISHED-TTL:PT1H
BEGIN:VTIMEZONE
TZID:Australia/Perth
BEGIN:STANDARD
TZOFFSETFROM:+0800
TZOFFSETTO:+0800
TZNAME:AWST
DTSTART:20230101T000000
END:STANDARD
END:VTIMEZONE
BEGIN:VEVENT
DTSTART;TZID=Australia/Perth:20241103T153000
DTEND;TZID=Australia/Perth:20241103T183000
DTSTAMP:20260423T122640
CREATED:20241002T054341Z
LAST-MODIFIED:20241002T054341Z
UID:10000876-1730647800-1730658600@www.settlerstavern.com
SUMMARY:EXP Unplugged Acoustic Session
DESCRIPTION:EXP “Unplugged”; Hear sounds ranging from psychedelic acoustic classics to blues’n’roots on the Settlers Tavern verandah on Sunday 3rd of November.\n\nEXP step outside their usual territory of the wailing electric guitars of Cream\, Hendrix and Led Zeppelin\, to bring you the acoustic side of the rocking 60s and 70s and more. You’ll hear some beautiful acoustic classics by Led Zeppelin\, as well as some of the blues songs this supergroup drew from. You’ll hear and sing a long to the acoustic side of Jimi Hendrix\, classics by The Rolling Stones\, Credence Clearwater Revival\, Eric Clapton\, Cream and The Beatles\, as well as a few more modern unplugged classics. EXP’s “Unplugged” acoustic special features the sounds of acoustic guitar\, 12-string guitar\, semi-acoustic bass\, percussion\, mandolin\, banjo and more. You can hear EXP’s “Unplugged” acoustic special live in the Settlers Tavern beer garden from 3.30pm on Sunday 3rd of November 2024.
URL:https://www.settlerstavern.com/event/exp-unplugged-acoustic-session/
LOCATION:Settlers Tavern\, 114 Bussell Hwy\, Margaret River\, WA\, 6285\, Australia
CATEGORIES:Acoustic,Blues,Live Music,Live Music Australia,Roots
ATTACH;FMTTYPE=image/jpeg:https://www.settlerstavern.com/wp-content/uploads/2024/10/461747802_27656365223962023_2954122295622298471_n-e1750403239973.jpg
GEO:-33.9498;115.0736
X-APPLE-STRUCTURED-LOCATION;VALUE=URI;X-ADDRESS=Settlers Tavern 114 Bussell Hwy Margaret River WA 6285 Australia;X-APPLE-RADIUS=500;X-TITLE=114 Bussell Hwy:geo:115.0736,-33.9498
END:VEVENT
BEGIN:VEVENT
DTSTART;TZID=Australia/Perth:20241124T153000
DTEND;TZID=Australia/Perth:20241124T183000
DTSTAMP:20260423T122640
CREATED:20240509T174216Z
LAST-MODIFIED:20241023T023542Z
UID:10000815-1732462200-1732473000@www.settlerstavern.com
SUMMARY:CHILALI & CHIEF
DESCRIPTION:Fremantle based duo Chilali and the Chief fuse contemporary Alternative Indie pop with blues and world flavours. Featuring fiery guitar flourishes and lilting vocal harmonies\, this duo are a must see live whether they are doing covers with a special twist or their sophisticated soundscape of original music that pulls at the heartstrings. You hear something different every time. \nFREE ENTRY \n 
URL:https://www.settlerstavern.com/event/chilali-chief-nov24/
LOCATION:Settlers Tavern\, 114 Bussell Hwy\, Margaret River\, WA\, 6285\, Australia
CATEGORIES:Blues,Indie Pop,Jazz,Live Music,Live Music Australia,Music,World
ATTACH;FMTTYPE=image/jpeg:https://www.settlerstavern.com/wp-content/uploads/2024/05/Chilali-and-the-Chief-promo-pic.jpg
GEO:-33.9498;115.0736
X-APPLE-STRUCTURED-LOCATION;VALUE=URI;X-ADDRESS=Settlers Tavern 114 Bussell Hwy Margaret River WA 6285 Australia;X-APPLE-RADIUS=500;X-TITLE=114 Bussell Hwy:geo:115.0736,-33.9498
END:VEVENT
BEGIN:VEVENT
DTSTART;TZID=Australia/Perth:20241130T210000
DTEND;TZID=Australia/Perth:20241130T233000
DTSTAMP:20260423T122640
CREATED:20241101T073956Z
LAST-MODIFIED:20241101T074101Z
UID:10000885-1733000400-1733009400@www.settlerstavern.com
SUMMARY:BLACK RIVER RANSOM
DESCRIPTION:The blues driven\, fuzz drenched\, two carriage wrecking train that is\, Black River Ransom are back on the tracks and heading into the South-West for one debaucherous night of Blues\, Rock n Roll.\n\nLIVE at The Settlers Tavern\, Margaret River\, WA\n\nThe band delivers a high-energy\, well-versed performance with thunderous drums\, crunchy guitar tones amid swampy yet haunting vocal melodies.\nBoasting comparisons to artists such as BRMC\, The White Stripes\, Royal Blood\, Black Sabbath and even T-Rex.\n\nThe two-piece collaboration of minds brought to life by Ben Patterson (Drums) and Scott James (Guitar and Vocal) have held their own amongst and alongside some local and international greats to feel more than at home on the stage and next to any artist promoting the genre.\n\nIf you like your guitars HOT and drums you can feel with your face\, then this one might just be for you.\n\nJoined in support on the evening by the legendary troubadour and Bluesman\, Lightnin Jack who was quite literally born and raised on a diet of Lynyrd Skynyrd\, Creadence\, Leadbelly and the local bluesman of his youth. An upbringing that undoubtably reflects in his evocative and soulful musical presence while adding a discernible touch of authenticity to everything he does.\n\nLightning Jack is largely undenied as one of the greatest Bluesman in the business and puts on a performance that is most certainly not to be missed.\nEntry if Free. The stage is set.
URL:https://www.settlerstavern.com/event/black-river-ransom/
LOCATION:Settlers Tavern\, 114 Bussell Hwy\, Margaret River\, WA\, 6285\, Australia
CATEGORIES:Blues,Live Music,Live Music Australia,Rock'n'Roll
ATTACH;FMTTYPE=image/png:https://www.settlerstavern.com/wp-content/uploads/2024/11/Screenshot-2024-11-01-at-3.40.12 PM.png
GEO:-33.9498;115.0736
X-APPLE-STRUCTURED-LOCATION;VALUE=URI;X-ADDRESS=Settlers Tavern 114 Bussell Hwy Margaret River WA 6285 Australia;X-APPLE-RADIUS=500;X-TITLE=114 Bussell Hwy:geo:115.0736,-33.9498
END:VEVENT
END:VCALENDAR