BEGIN:VCALENDAR
VERSION:2.0
PRODID:-//Settlers Tavern - ECPv6.15.20//NONSGML v1.0//EN
CALSCALE:GREGORIAN
METHOD:PUBLISH
X-ORIGINAL-URL:https://www.settlerstavern.com
X-WR-CALDESC:Events for Settlers Tavern
REFRESH-INTERVAL;VALUE=DURATION:PT1H
X-Robots-Tag:noindex
X-PUBLISHED-TTL:PT1H
BEGIN:VTIMEZONE
TZID:Australia/Perth
BEGIN:STANDARD
TZOFFSETFROM:+0800
TZOFFSETTO:+0800
TZNAME:AWST
DTSTART:20230101T000000
END:STANDARD
END:VTIMEZONE
BEGIN:VEVENT
DTSTART;TZID=Australia/Perth:20240901T150000
DTEND;TZID=Australia/Perth:20240901T180000
DTSTAMP:20260424T001731
CREATED:20240626T064415Z
LAST-MODIFIED:20240626T064431Z
UID:10000835-1725202800-1725213600@www.settlerstavern.com
SUMMARY:TOBY UNPLUGGED
DESCRIPTION:Toby Beard\, a renowned blues\, roots\, and folk artist\, is set to grace Settlers Tavern in Margaret River with her four-piece band for two exclusive shows. Celebrating the launch of their latest album “Here With Me\,” these performances mark the album’s debut in the South West region.\n\nThe Saturday show promises a lively atmosphere with a rocky\, pumping vibe\, guaranteed to pack the dance floor.\nOn Sunday\, the mood shifts to a more intimate setting on the balcony\, featuring acoustic renditions and showcasing a different selection of songs.\nBoth shows are free to attend\, offering a unique opportunity to experience Toby Beard’s music up close. Don’t miss out on this chance to enjoy a weekend of diverse musical expressions from Toby Beard and her band.
URL:https://www.settlerstavern.com/event/toby-unplugged2024/
LOCATION:Settlers Tavern\, 114 Bussell Hwy\, Margaret River\, WA\, 6285\, Australia
CATEGORIES:Blues,Folk,Live Music,Live Music Australia,Roots
ATTACH;FMTTYPE=image/jpeg:https://www.settlerstavern.com/wp-content/uploads/2024/06/422140986_408464301582128_7427120811264314337_n.jpg
GEO:-33.9498;115.0736
X-APPLE-STRUCTURED-LOCATION;VALUE=URI;X-ADDRESS=Settlers Tavern 114 Bussell Hwy Margaret River WA 6285 Australia;X-APPLE-RADIUS=500;X-TITLE=114 Bussell Hwy:geo:115.0736,-33.9498
END:VEVENT
BEGIN:VEVENT
DTSTART;TZID=Australia/Perth:20240908T150000
DTEND;TZID=Australia/Perth:20240908T180000
DTSTAMP:20260424T001731
CREATED:20231127T031424Z
LAST-MODIFIED:20240726T044535Z
UID:10000845-1725807600-1725818400@www.settlerstavern.com
SUMMARY:TANYA RANSOM
DESCRIPTION:Tanya Ransom delivers her signature sound of folk blues and alt country\, painting a vivid narrative amongst ornate melodies. Her powerful vocals inhabit the sweet spot between tough and tender\, effortlessly accompanied by her laid-back rhythm guitar.  \nA regular to the Australian touring circuit\, Tanya has performed at Cygnet Folk Festival\, Nannup Music Festival\, Blues at Bridgetown\, Fairbridge Festival\, North West Fest and supported the likes of Kate Miller-Heidke\, Missy Higgins\, Boy and Bear\, Tim Rogers and John Butler. \nA product of her musical upbringing\, having lived 20 years in the remote northwest town of Broome\, Ransom’s ability to connect with audiences is undeniable\, bringing a deep emotion to her already cavernous feelings carried within her stories and songs. \n\n \n \n \n \n 
URL:https://www.settlerstavern.com/event/tanya-ransom-08sep/
LOCATION:Settlers Tavern\, 114 Bussell Hwy\, Margaret River\, WA\, 6285\, Australia
CATEGORIES:Blues,Country,Folk,Live Music,Live Music Australia,Music
ATTACH;FMTTYPE=image/jpeg:https://www.settlerstavern.com/wp-content/uploads/2024/04/Tanya-Ransom-Promo_Credit_-Tashi-Hall.jpg
GEO:-33.9498;115.0736
X-APPLE-STRUCTURED-LOCATION;VALUE=URI;X-ADDRESS=Settlers Tavern 114 Bussell Hwy Margaret River WA 6285 Australia;X-APPLE-RADIUS=500;X-TITLE=114 Bussell Hwy:geo:115.0736,-33.9498
END:VEVENT
BEGIN:VEVENT
DTSTART;TZID=Australia/Perth:20240929T150000
DTEND;TZID=Australia/Perth:20240929T180000
DTSTAMP:20260424T001731
CREATED:20240913T015339Z
LAST-MODIFIED:20240913T021023Z
UID:10000870-1727622000-1727632800@www.settlerstavern.com
SUMMARY:MEGAN CORE
DESCRIPTION:Megan is a vibrant soloist singer-songwriter originally from rural Northern NSW\, and now living in South West WA. Drawing on her upbringing of folk and blues\, Megan uses acoustic guitar\, vocals\, harmonica and percussion to create a warm and fun atmosphere. Megan performs her own folk rock originals\, as well as a range of covers from artists she is inspired by. With years of experience playing live music\, Megan is a dynamic performer who can adapt to a variety of occasions.
URL:https://www.settlerstavern.com/event/megan-core/
LOCATION:Settlers Tavern\, 114 Bussell Hwy\, Margaret River\, WA\, 6285\, Australia
CATEGORIES:Acoustic,Blues,Folk,Live Music,Live Music Australia
ATTACH;FMTTYPE=image/jpeg:https://www.settlerstavern.com/wp-content/uploads/2024/09/TM1_5484-scaled.jpg
GEO:-33.9498;115.0736
X-APPLE-STRUCTURED-LOCATION;VALUE=URI;X-ADDRESS=Settlers Tavern 114 Bussell Hwy Margaret River WA 6285 Australia;X-APPLE-RADIUS=500;X-TITLE=114 Bussell Hwy:geo:115.0736,-33.9498
END:VEVENT
END:VCALENDAR