BEGIN:VCALENDAR
VERSION:2.0
PRODID:-//Settlers Tavern - ECPv6.15.20//NONSGML v1.0//EN
CALSCALE:GREGORIAN
METHOD:PUBLISH
X-ORIGINAL-URL:https://www.settlerstavern.com
X-WR-CALDESC:Events for Settlers Tavern
REFRESH-INTERVAL;VALUE=DURATION:PT1H
X-Robots-Tag:noindex
X-PUBLISHED-TTL:PT1H
BEGIN:VTIMEZONE
TZID:Australia/Perth
BEGIN:STANDARD
TZOFFSETFROM:+0800
TZOFFSETTO:+0800
TZNAME:AWST
DTSTART:20230101T000000
END:STANDARD
END:VTIMEZONE
BEGIN:VEVENT
DTSTART;TZID=Australia/Perth:20240503T210000
DTEND;TZID=Australia/Perth:20240503T233000
DTSTAMP:20260424T064403
CREATED:20240404T231254Z
LAST-MODIFIED:20240530T052508Z
UID:10000489-1714770000-1714779000@www.settlerstavern.com
SUMMARY:EXP's Led Zeppelin Tribute
DESCRIPTION:EXP bring their Led Zeppelin tribute to Settlers Tavern on Saturday night 4th of May! \nLed Zeppelin were one of the most influential rock supergroups to emerge in the late 60s\, and into the 70s. EXP pay tribute to this iconic act with their re-vamped Led Zeppelin tribute. \nEXP play masterpiece Led Zeppelin IV in its entirety\, including classics such as Black Dog\, Rock and Roll\, and the Stairway to Heaven\, then other rocking iconic Zeppelin songs like Babe I’m Gonna Leave Away\, Dazed and Confused\, Immigrant Song\, Ramble On and Heartbreaker. \nEXP are Great Southern WA’s premier exponents of psychedelic blues rock. EXP debuted in 2019\, with tribute sets to Cream\, Jimi Hendrix and Led Zeppelin. Over the next two years these sets each developed into their own full shows. In 2021\, EXP launched their Led Zeppelin IV tribute\, 50 years after the epic album was released. \nEXP will feature:\nPaul Meyers – drums\nRoss Dwyer – guitar\nRusty Lynch – vocals\nDavid Rastrick – bass\, vocals\, mandolin\, keyboard\, flugelhorn\, harmonica… \nYou may have seen EXP’s Rolling Stones tribute at Settlers in November 2023. A great night was had by all! You can experience EXP’s Led Zeppelin tribute at Settlers Tavern from 9:30 p.m. on Saturday night 4th of May 2024 (May the fourth be with you!).
URL:https://www.settlerstavern.com/event/exps-led-zeppelin-tribute/
LOCATION:Settlers Tavern\, 114 Bussell Hwy\, Margaret River\, WA\, 6285\, Australia
CATEGORIES:Blues,Live Music,Live Music Australia,Music,Psychedelic,Rock
ATTACH;FMTTYPE=image/png:https://www.settlerstavern.com/wp-content/uploads/2024/04/Screen-Shot-2024-04-05-at-3.11.54-pm.png
GEO:-33.9498;115.0736
X-APPLE-STRUCTURED-LOCATION;VALUE=URI;X-ADDRESS=Settlers Tavern 114 Bussell Hwy Margaret River WA 6285 Australia;X-APPLE-RADIUS=500;X-TITLE=114 Bussell Hwy:geo:115.0736,-33.9498
END:VEVENT
BEGIN:VEVENT
DTSTART;TZID=Australia/Perth:20240505T150000
DTEND;TZID=Australia/Perth:20240505T180000
DTSTAMP:20260424T064403
CREATED:20240404T231531Z
LAST-MODIFIED:20240530T052508Z
UID:10000488-1714921200-1714932000@www.settlerstavern.com
SUMMARY:EXP Unplugged Acoustic Special
DESCRIPTION:EXP “Unplugged”; Hear sounds ranging from psychedelic acoustic classics to blues’n’roots on the Settlers Tavern verandah on Sunday 5th of May. \nEXP step outside their usual territory of the wailing electric guitars of Cream\, Hendrix and Led Zeppelin\, to bring you the acoustic side of the rocking 60s and 70s and more. You’ll hear some beautiful acoustic classics by Led Zeppelin\, as well as some of the blues songs this supergroup drew from. You’ll hear the acoustic side of Jimi Hendrix\, classics by The Beatles\, as well as more modern unplugged classics from Red Hot Chilli Peppers\, Soundgarden\, Nirvana and Eric Clapton. \nEXP’s “Unplugged” acoustic special features the sounds of acoustic guitar\, 12-string guitar\, semi-acoustic bass\, percussion\, mandolin\, banjo and more. \nYou can hear EXP’s “Unplugged” acoustic special live in the Settlers Tavern beer garden from 3 to 6 p.m. on Sunday 5th of May 2024.
URL:https://www.settlerstavern.com/event/exp-unplugged-acoustic-special/
LOCATION:Settlers Tavern\, 114 Bussell Hwy\, Margaret River\, WA\, 6285\, Australia
CATEGORIES:Acoustic,Blues,Live Music,Live Music Australia,Music,Psychedelic,Rock
ATTACH;FMTTYPE=image/png:https://www.settlerstavern.com/wp-content/uploads/2024/04/Screen-Shot-2024-04-05-at-3.11.54-pm.png
GEO:-33.9498;115.0736
X-APPLE-STRUCTURED-LOCATION;VALUE=URI;X-ADDRESS=Settlers Tavern 114 Bussell Hwy Margaret River WA 6285 Australia;X-APPLE-RADIUS=500;X-TITLE=114 Bussell Hwy:geo:115.0736,-33.9498
END:VEVENT
BEGIN:VEVENT
DTSTART;TZID=Australia/Perth:20240531T210000
DTEND;TZID=Australia/Perth:20240601T000000
DTSTAMP:20260424T064403
CREATED:20240307T180554Z
LAST-MODIFIED:20240530T060810Z
UID:10000484-1717189200-1717200000@www.settlerstavern.com
SUMMARY:SMOKE STACK RHINO
DESCRIPTION:Hailed as ‘Australia’s hottest up-and-coming blues and roots rockers’ by Beat Mag\, Smoke Stack Rhino are bringing their first ever headline show to Margaret River! They’ve been tearing it up around Australia. Their album ‘The Mojo Funk’ hit #2 on the ARIA Blues chart and they’ve delivered their high-energy\, feel good live show at leading festivals like Bridgetown Blues Festival\, Echuca Winter Blues\, Grampians Grape Escape\, and many more. Now they’re in WA to bring the mojo back\, launching their new EP at Settler’s Tavern on Friday 31st May. ‘Love the stomping blues sound…’ – Triple J ‘Catchy\, rootsy rock…’ – Triple M \n  \n  \nlearn more… \nSmoke Stack Rhino have been hailed as ‘Australia’s most exciting up-and-coming blues and roots rockers’ (Beat Mag). Featuring a band-name that’s just one heavy animal away from the blues (just ask Howlin’ Wolf)\, this trio from the Yarra Valley near Melbourne are wowing crowds around Australia. In the last 12 months they’ve appeared at festivals like Blues at Bridgetown\, Moruya Blues and Roots\, St Kilda Blues Festival\, Healesville Music Festival\, Echuca Winter Blues and more. They’ve found airplay on triple J and Triple M\, ran Rock The Valley Music Festival and placed on Spotify playlists. \n\n\n\nNew album The Mojo Funk sees the group claim a sound of their own which they call… ‘The Mojo Funk’. Mixed by Ocean Alley’s producer Callum Howell\, the record debuted at #2 on the ARIA Blues/Jazz Albums Chart and is “a high energy\, semi-psychedelic montage of funky blues rock that’s sure to get your mojo back”. \nOn stage the band’s electric live show reaches new heights. Singer-guitarist Ash King is a whirlwind with resonator guitar in hand\, his earthy vocals reaching from deep baritone low notes to high screams\, drummer Matt Berg pushes the band forward from behind the kit and bassist Shane Andison stays rock solid\, holding the whole thing together with an infectious\, catchy groove. \nSmoke Stack Rhino are on the rise and are well and truly here to bring the mojo back. \n‘Love the stompin’ blues sound…’ – Triple J \n‘Catchy\, rootsy rock’ – Triple M
URL:https://www.settlerstavern.com/event/smoke-stack-rhino/
LOCATION:Settlers Tavern\, 114 Bussell Hwy\, Margaret River\, WA\, 6285\, Australia
CATEGORIES:Blues,Live Music,Live Music Australia,Music,Party,Rock,Roots
ATTACH;FMTTYPE=image/jpeg:https://www.settlerstavern.com/wp-content/uploads/2024/04/Smoke-Stack-Rhino-Promo-Photo-1-scaled-1.jpg
GEO:-33.9498;115.0736
X-APPLE-STRUCTURED-LOCATION;VALUE=URI;X-ADDRESS=Settlers Tavern 114 Bussell Hwy Margaret River WA 6285 Australia;X-APPLE-RADIUS=500;X-TITLE=114 Bussell Hwy:geo:115.0736,-33.9498
END:VEVENT
END:VCALENDAR