BEGIN:VCALENDAR
VERSION:2.0
PRODID:-//Settlers Tavern - ECPv6.15.20//NONSGML v1.0//EN
CALSCALE:GREGORIAN
METHOD:PUBLISH
X-ORIGINAL-URL:https://www.settlerstavern.com
X-WR-CALDESC:Events for Settlers Tavern
REFRESH-INTERVAL;VALUE=DURATION:PT1H
X-Robots-Tag:noindex
X-PUBLISHED-TTL:PT1H
BEGIN:VTIMEZONE
TZID:Australia/Perth
BEGIN:STANDARD
TZOFFSETFROM:+0800
TZOFFSETTO:+0800
TZNAME:AWST
DTSTART:20210101T000000
END:STANDARD
END:VTIMEZONE
BEGIN:VEVENT
DTSTART;TZID=Australia/Perth:20220904T150000
DTEND;TZID=Australia/Perth:20220904T150000
DTSTAMP:20260426T001307
CREATED:20220818T223023Z
LAST-MODIFIED:20240530T054711Z
UID:10000686-1662303600-1662303600@www.settlerstavern.com
SUMMARY:Chilali and the Chief
DESCRIPTION:FREE ENTRY\nFacebook event: facebook.com/events/826519008713301 \nIrresistible lilting vocals soaring above fiery guitar flourishes\, punctuated by driving stomping rhythms painted amidst the ambience of electronica textures – this best describes “Chilali And The Chief”. However\, the style of this singer songwriter duo defies rigid categorisation. Most would call them Adult Contemporary Indi Folk\, yet one can still hear the influences of Latin\, Jazz\, Blues\, Pop & World music. Come and join them on the balcony for some magic this fathers day as they put their characteristic twist on old favourites and new.
URL:https://www.settlerstavern.com/event/chilali-and-the-chief-3-3/
LOCATION:Settlers Tavern\, 114 Bussell Hwy\, Margaret River\, WA\, 6285\, Australia
CATEGORIES:Blues,Indie Pop,Live Music Australia,Music
ATTACH;FMTTYPE=image/jpeg:https://www.settlerstavern.com/wp-content/uploads/2024/04/Alma_Sarhan-7027-1.jpg
GEO:-33.9498;115.0736
X-APPLE-STRUCTURED-LOCATION;VALUE=URI;X-ADDRESS=Settlers Tavern 114 Bussell Hwy Margaret River WA 6285 Australia;X-APPLE-RADIUS=500;X-TITLE=114 Bussell Hwy:geo:115.0736,-33.9498
END:VEVENT
BEGIN:VEVENT
DTSTART;TZID=Australia/Perth:20220910T210000
DTEND;TZID=Australia/Perth:20220910T210000
DTSTAMP:20260426T001307
CREATED:20220817T215755Z
LAST-MODIFIED:20240530T054708Z
UID:10000650-1662843600-1662843600@www.settlerstavern.com
SUMMARY:Mister and Sunbird
DESCRIPTION:FREE ENTRY\nFacebook event: facebook.com/events/2380846378720318/ \nMister and Sunbird bring their rollicking\, adventurous sets of rock and roots and roll to Margaret River for a Saturday night at Settlers Tavern with the full band in tow. Raw blues\, luscious Latin and loose-ass live electro coil together; wild rhythms and sublime solos will be flowing like the wine from the vines\, come on down and boogie! \nCheck them out here: facebook.com/misterandsunbird
URL:https://www.settlerstavern.com/event/mister-and-sunbird-3-3/
LOCATION:Settlers Tavern\, 114 Bussell Hwy\, Margaret River\, WA\, 6285\, Australia
CATEGORIES:Blues,Latin,Music,Rock,Roots
ATTACH;FMTTYPE=image/jpeg:https://www.settlerstavern.com/wp-content/uploads/2024/04/Mister-and-Sunbird-Sttlers-web-1.jpg
GEO:-33.9498;115.0736
X-APPLE-STRUCTURED-LOCATION;VALUE=URI;X-ADDRESS=Settlers Tavern 114 Bussell Hwy Margaret River WA 6285 Australia;X-APPLE-RADIUS=500;X-TITLE=114 Bussell Hwy:geo:115.0736,-33.9498
END:VEVENT
END:VCALENDAR