BEGIN:VCALENDAR
VERSION:2.0
PRODID:-//Settlers Tavern - ECPv6.15.18//NONSGML v1.0//EN
CALSCALE:GREGORIAN
METHOD:PUBLISH
X-ORIGINAL-URL:https://www.settlerstavern.com
X-WR-CALDESC:Events for Settlers Tavern
REFRESH-INTERVAL;VALUE=DURATION:PT1H
X-Robots-Tag:noindex
X-PUBLISHED-TTL:PT1H
BEGIN:VTIMEZONE
TZID:Australia/Perth
BEGIN:STANDARD
TZOFFSETFROM:+0800
TZOFFSETTO:+0800
TZNAME:AWST
DTSTART:20210101T000000
END:STANDARD
END:VTIMEZONE
BEGIN:VEVENT
DTSTART;TZID=Australia/Perth:20260327T210000
DTEND;TZID=Australia/Perth:20260327T233000
DTSTAMP:20260419T042118
CREATED:20260129T045036Z
LAST-MODIFIED:20260129T045036Z
UID:10001088-1774645200-1774654200@www.settlerstavern.com
SUMMARY:DJ JP
DESCRIPTION:DJ JP is an open-format DJ based in Margaret River\, known for creating relaxed yet energetic sets that adapt to the crowd and the venue. His sound blends house\, tech house\, afro-influenced grooves and party-ready tracks\, making it perfect for social sessions\, sunsets and lively beer garden atmospheres. \nWith experience playing locally and on radio in Margaret River\, Joaquin focuses on reading the room and building a smooth musical journey that keeps people engaged from start to finish.
URL:https://www.settlerstavern.com/event/dj-jp/
CATEGORIES:Afro,Afrobeat,DJ,House,Latin,Techouse
ATTACH;FMTTYPE=image/png:https://www.settlerstavern.com/wp-content/uploads/2026/01/Website-banner-template-21.png
END:VEVENT
BEGIN:VEVENT
DTSTART;TZID=Australia/Perth:20260307T210000
DTEND;TZID=Australia/Perth:20260307T233000
DTSTAMP:20260419T042118
CREATED:20260115T113906Z
LAST-MODIFIED:20260115T113906Z
UID:10001084-1772917200-1772926200@www.settlerstavern.com
SUMMARY:SHANGARA JIVE
DESCRIPTION:Shangarajive bring their vibrant Afro-fusion sound to the stage on 9 January\, led by Zimbabwean-born singer George Joe. Formed in 2002\, this Perth-based band blends traditional African rhythms with modern grooves\, featuring mbira\, rich percussion\, and songs in English and Shona that celebrate African life\, culture\, and joy. Multiple WA Music Award winners\, Shangarajive have supported legendary artists including Thomas Mapfumo and Oliver Mtukudzi.\nJoining them is Rumbie Tavaziva\, a powerful Zimbabwean singer-songwriter who has toured internationally with the late Chiwoniso Maraire and performed at festivals across Europe\, Mauritius\, and South Africa. Newly arrived in Australia\, Rumbie now performs live with the authentic Shangara Jive\, making this a special night of world-class African music and energy
URL:https://www.settlerstavern.com/event/shangara-jive-3/
LOCATION:Settlers Tavern\, 114 Bussell Hwy\, Margaret River\, WA\, 6285\, Australia
CATEGORIES:Afro,Afro fusion,Afrobeat,Live Music,Live Music Australia
ATTACH;FMTTYPE=image/png:https://www.settlerstavern.com/wp-content/uploads/2026/01/Website-banner-template-16.png
GEO:-33.9498;115.0736
X-APPLE-STRUCTURED-LOCATION;VALUE=URI;X-ADDRESS=Settlers Tavern 114 Bussell Hwy Margaret River WA 6285 Australia;X-APPLE-RADIUS=500;X-TITLE=114 Bussell Hwy:geo:115.0736,-33.9498
END:VEVENT
BEGIN:VEVENT
DTSTART;TZID=Australia/Perth:20251218T180000
DTEND;TZID=Australia/Perth:20251218T210000
DTSTAMP:20260419T042118
CREATED:20251202T114320Z
LAST-MODIFIED:20251205T042636Z
UID:10001062-1766080800-1766091600@www.settlerstavern.com
SUMMARY:DJ JP - Love Christmas Love Margaret River Street Party
DESCRIPTION:Hailing from Chile and now based in Margaret River\, JP spins Afrohouse\, Funky House\, and Latin Tech House into lively\, groove driven sets. His music is all about energy and connection\, blending rhythmic beats with melodic flows to create a party atmosphere that keeps people moving from start to finish. \nWhether performing at sunset beach gatherings\, local clubs\, or community events\, JP’s open format approach allows him to adapt to any crowd and setting. With a knack for reading the vibe and bringing fresh sounds to every event\, he delivers memorable musical experiences that make every moment feel alive and full of joy.
URL:https://www.settlerstavern.com/event/dj-jp-love-christmas-love-margaret-river-street-party/
CATEGORIES:Afro,Afrobeat,DJ,House,Latin,Techouse
ATTACH;FMTTYPE=image/jpeg:https://www.settlerstavern.com/wp-content/uploads/2025/12/Website-banner-template-5.jpg
END:VEVENT
BEGIN:VEVENT
DTSTART;TZID=Australia/Perth:20250829T210000
DTEND;TZID=Australia/Perth:20250829T233000
DTSTAMP:20260419T042118
CREATED:20240312T203847Z
LAST-MODIFIED:20250705T020801Z
UID:10000923-1756501200-1756510200@www.settlerstavern.com
SUMMARY:CiCi
DESCRIPTION:known primarily around her hometown of Margaret River as acoustic roots/ pop musician\, Emjay Angeni; Emjay’s DJ project ‘CiCi’ is a foray into the vast libraries of music which have shaped her memories and been the soundtrack to adventures\, parties and travels over the past decade. \nHaving grown up in NZ with a strong Polynesian Hip Hop\, RnB and Reggae influence and later being deeply affected by the Soca\, Dancehal and Afrobeat tunes she heard while spending time in South Africa\, CiCi’s sets have something of tropical islands\, sensual dance encounters and sweet nostalgia about them. \n“I dig music that makes me feel good\, that causes me to move almost involuntarily. Its such a sweet feeling when the beat takes over. That’s where I like to take us – out of our heads and into our bodies.” \nCiCi returns to Settlers Tavern on Friday\, August 29th for a follow-up to her latest lauded set – bringing Old School Hip-Hop\, Afrobeat\, Trop House and Nu-Disco vibes to elevate your mood and facilitate your groove.
URL:https://www.settlerstavern.com/event/cici/
LOCATION:Settlers Tavern\, 114 Bussell Hwy\, Margaret River\, WA\, 6285\, Australia
CATEGORIES:Afrobeat,Dance,Hip Hop,Music,RnB
ATTACH;FMTTYPE=image/jpeg:https://www.settlerstavern.com/wp-content/uploads/2024/03/CiCi-Poster-Aug-2025-WEB-scaled-e1751681273637.jpg
GEO:-33.9498;115.0736
X-APPLE-STRUCTURED-LOCATION;VALUE=URI;X-ADDRESS=Settlers Tavern 114 Bussell Hwy Margaret River WA 6285 Australia;X-APPLE-RADIUS=500;X-TITLE=114 Bussell Hwy:geo:115.0736,-33.9498
END:VEVENT
BEGIN:VEVENT
DTSTART;TZID=Australia/Perth:20241207T210000
DTEND;TZID=Australia/Perth:20241207T233000
DTSTAMP:20260419T042118
CREATED:20241125T062730Z
LAST-MODIFIED:20241125T062831Z
UID:10000890-1733605200-1733614200@www.settlerstavern.com
SUMMARY:SHANGARA JIVE
DESCRIPTION:DOORS 9 PM / MUSIC 9.30PM \nFREE ENTRY \nAFRO ROOTS MUSIC \nSinger –songwriter\, talented drum-kit player and percussionist\, George Joe arrived in Australia in 1998 as a musical ambassador of Zimbabwe bringing with him the contemporary mix of Zimbabwean traditional mbira music (Chimurenga)\, Sungura\, Soca Beat\, Jit \, Kwassa Kwassa and Roots Reggae. \nShangara Jive music is written collaboratively on the foundations of Georges roots and culture\, the music takes its influences from traditional mbira (thumb piano)\, drumming and dancing troupes in Zimbabwe with musical flavours influenced from the Congo\, South Africa and Senegal . Songs are sung in English and Shona and reflect themes of day to day living in Africa\, African traditions and culture\, education for African youth\, political impacts on African societies\, and the joy of music. \nGeorge formed the band ‘African Music Congress’ shortly after arriving in Australia in 1998\, and this band went on to win ‘Best World Music Act’ in the Western Australian Music Industry Awards. for the four following years. \nGeorge formed Shangara Jive in 2002 and since then they have played hundreds of shows and supported many international acts such as Yousou ‘n’ Dour (Senegal)\, Thomas Mapfumo (Zimbabwe)\, Ozomatli (USA)\, Oliver Mtukudzi (Zimbabwe) and Malaika (South Africa). \nShangara Jive released the EP Play with Fire in 2004 and launched their latest full length album\, Melody\, in 2012 with sponsorship and support from Radio RTR 92.1 FM ‘s Fresh Blast program and Healthways Western Australia. \nThe band’s lively show is all about the heavy melodic grooves founded on the mbira and african percussion. This sets the stage for a very entertaining\, exciting and interactive experience which appeals to all ages\, backgrounds and cultures. \nAnd now joined with \nRumbie Tavaziva is a fantastic singer and songwriter from Zimbabwe. She has worked with many leading Zimbabwean artists including Chiwoniso Maraire\, with whom she toured to festivals across Europe\, Mauritius and South Africa. Rumbie recently arrived in Australia and is immediately playing live with the authentic Shangara Jive\, one of Perth’s premier Zimbabwean bands.
URL:https://www.settlerstavern.com/event/shangara-jive-2/
LOCATION:Settlers Tavern\, 114 Bussell Hwy\, Margaret River\, WA\, 6285\, Australia
CATEGORIES:Afro,Afrobeat,Live Music,Live Music Australia,Roots
ATTACH;FMTTYPE=image/png:https://www.settlerstavern.com/wp-content/uploads/2024/11/Screenshot-2024-11-13-at-11.27.17 AM-e1732516090185.png
GEO:-33.9498;115.0736
X-APPLE-STRUCTURED-LOCATION;VALUE=URI;X-ADDRESS=Settlers Tavern 114 Bussell Hwy Margaret River WA 6285 Australia;X-APPLE-RADIUS=500;X-TITLE=114 Bussell Hwy:geo:115.0736,-33.9498
END:VEVENT
BEGIN:VEVENT
DTSTART;TZID=Australia/Perth:20240706T210000
DTEND;TZID=Australia/Perth:20240706T233000
DTSTAMP:20260419T042118
CREATED:20240621T064717Z
LAST-MODIFIED:20240628T080344Z
UID:10000827-1720299600-1720308600@www.settlerstavern.com
SUMMARY:SHANGARA JIVE
DESCRIPTION:DOORS 9 PM / MUSIC 9.30PM \nFREE ENTRY \nAFRO ROOTS MUSIC \nSinger –songwriter\, talented drum-kit player and percussionist\, George Joe arrived in Australia in 1998 as a musical ambassador of Zimbabwe bringing with him the contemporary mix of Zimbabwean traditional mbira music (Chimurenga)\, Sungura\, Soca Beat\, Jit \, Kwassa Kwassa and Roots Reggae. \nShangara Jive music is written collaboratively on the foundations of Georges roots and culture\, the music takes its influences from traditional mbira (thumb piano)\, drumming and dancing troupes in Zimbabwe with musical flavours influenced from the Congo\, South Africa and Senegal . Songs are sung in English and Shona and reflect themes of day to day living in Africa\, African traditions and culture\, education for African youth\, political impacts on African societies\, and the joy of music. \nGeorge formed the band ‘African Music Congress’ shortly after arriving in Australia in 1998\, and this band went on to win ‘Best World Music Act’ in the Western Australian Music Industry Awards. for the four following years. \nGeorge formed Shangara Jive in 2002 and since then they have played hundreds of shows and supported many international acts such as Yousou ‘n’ Dour (Senegal)\, Thomas Mapfumo (Zimbabwe)\, Ozomatli (USA)\, Oliver Mtukudzi (Zimbabwe) and Malaika (South Africa). \nShangara Jive released the EP Play with Fire in 2004 and launched their latest full length album\, Melody\, in 2012 with sponsorship and support from Radio RTR 92.1 FM ‘s Fresh Blast program and Healthways Western Australia. \nThe band’s lively show is all about the heavy melodic grooves founded on the mbira and african percussion. This sets the stage for a very entertaining\, exciting and interactive experience which appeals to all ages\, backgrounds and cultures. \nAnd now joined with \nRumbie Tavaziva is a fantastic singer and songwriter from Zimbabwe. She has worked with many leading Zimbabwean artists including Chiwoniso Maraire\, with whom she toured to festivals across Europe\, Mauritius and South Africa. Rumbie recently arrived in Australia and is immediately playing live with the authentic Shangara Jive\, one of Perth’s premier Zimbabwean bands.
URL:https://www.settlerstavern.com/event/shangara-jive/
LOCATION:Settlers Tavern\, 114 Bussell Hwy\, Margaret River\, WA\, 6285\, Australia
CATEGORIES:Afro,Afrobeat,Live Music,Live Music Australia,Roots
ATTACH;FMTTYPE=image/png:https://www.settlerstavern.com/wp-content/uploads/2024/06/Shangara-Jive-Flyer.png
GEO:-33.9498;115.0736
X-APPLE-STRUCTURED-LOCATION;VALUE=URI;X-ADDRESS=Settlers Tavern 114 Bussell Hwy Margaret River WA 6285 Australia;X-APPLE-RADIUS=500;X-TITLE=114 Bussell Hwy:geo:115.0736,-33.9498
END:VEVENT
BEGIN:VEVENT
DTSTART;TZID=Australia/Perth:20240427T210000
DTEND;TZID=Australia/Perth:20240427T233000
DTSTAMP:20260419T042118
CREATED:20240404T202914Z
LAST-MODIFIED:20240530T052509Z
UID:10000492-1714251600-1714260600@www.settlerstavern.com
SUMMARY:TAB FAMILY
DESCRIPTION:Free Entry. Doors 9pm / Music 9.30pm \nTAB Family is a Boorloo/Perth-based unique rhythms and genre-blending music project founded by Nigerian-born Producer\, DJ and Percussionist Ayo Busari. \nTheir sound is predominantly Afro-Pop\, blending together Alt-Pop\, soulful RnB grooves\, contemporary Afro-beat influences\, and Hip-Hop genres to outstanding local and international acclaim.  \nTheir highly anticipated second EP – ‘With Love\, From TAB’ was released in May 2023 and has been getting lots of love and attention so far. They will be embarking on their debut national headline tour from mid February till April.
URL:https://www.settlerstavern.com/event/tab-family/
LOCATION:Settlers Tavern\, 114 Bussell Hwy\, Margaret River\, WA\, 6285\, Australia
CATEGORIES:Afro,Afrobeat,Dance,Hip Hop,Live Music,Live Music Australia,Music,Pop
ATTACH;FMTTYPE=image/png:https://www.settlerstavern.com/wp-content/uploads/2024/04/Screen-Shot-2024-04-05-at-12.28.46-pm.png
GEO:-33.9498;115.0736
X-APPLE-STRUCTURED-LOCATION;VALUE=URI;X-ADDRESS=Settlers Tavern 114 Bussell Hwy Margaret River WA 6285 Australia;X-APPLE-RADIUS=500;X-TITLE=114 Bussell Hwy:geo:115.0736,-33.9498
END:VEVENT
BEGIN:VEVENT
DTSTART;TZID=Australia/Perth:20220610T210000
DTEND;TZID=Australia/Perth:20220610T210000
DTSTAMP:20260419T042118
CREATED:20220505T195301Z
LAST-MODIFIED:20240530T054605Z
UID:10000714-1654894800-1654894800@www.settlerstavern.com
SUMMARY:Bambuseae Rythmn Section
DESCRIPTION:FREE ENTRY\nFacebook event: https://www.facebook.com/events/733210667678875/ \nMultiple WAM Award nominees The Bambuseae Rhythm Section bring their stylish brand of Psych infused Disco\, Rock\, Rhythm & Blues to Settlers Tavern\, Margaret River Friday June 10th.\nHaving supported national treasures such as The Waifs\, Dan Sultan and The Cat Empire in recent years this Fremantle based party band are all for the good vibes and centre their performance around dancing your worries into oblivion.\nBe moved by the ebb and flow of their dynamic and enthralling party grooves as you loose yourself to the music and forget all about your troubles.\nIt’s #THEPEOPLEMUSTDANCE from start to finish and TBRS are here to party with you into the late hours of the evening.\nFREE LOVE FREE ENTRY\nMUSIC FROM 9:30PM\nSETTLERS TAVERN\nMARGARET RIVER\nWWW.THEPEOPLEMUSTDANCE.COM
URL:https://www.settlerstavern.com/event/bambuseae-rythmn-section/
LOCATION:Settlers Tavern\, 114 Bussell Hwy\, Margaret River\, WA\, 6285\, Australia
CATEGORIES:Afrobeat,Blues,Funk,Jazz,Live Music Australia,Music,Reggae,World
ATTACH;FMTTYPE=image/jpeg:https://www.settlerstavern.com/wp-content/uploads/2024/04/web-settlers-A3.jpg
GEO:-33.9498;115.0736
X-APPLE-STRUCTURED-LOCATION;VALUE=URI;X-ADDRESS=Settlers Tavern 114 Bussell Hwy Margaret River WA 6285 Australia;X-APPLE-RADIUS=500;X-TITLE=114 Bussell Hwy:geo:115.0736,-33.9498
END:VEVENT
END:VCALENDAR