BEGIN:VCALENDAR
VERSION:2.0
PRODID:-//Settlers Tavern - ECPv6.15.18//NONSGML v1.0//EN
CALSCALE:GREGORIAN
METHOD:PUBLISH
X-ORIGINAL-URL:https://www.settlerstavern.com
X-WR-CALDESC:Events for Settlers Tavern
REFRESH-INTERVAL;VALUE=DURATION:PT1H
X-Robots-Tag:noindex
X-PUBLISHED-TTL:PT1H
BEGIN:VTIMEZONE
TZID:Australia/Perth
BEGIN:STANDARD
TZOFFSETFROM:+0800
TZOFFSETTO:+0800
TZNAME:AWST
DTSTART:20240101T000000
END:STANDARD
END:VTIMEZONE
BEGIN:VEVENT
DTSTART;TZID=Australia/Perth:20250126T153000
DTEND;TZID=Australia/Perth:20250126T183000
DTSTAMP:20260423T064506
CREATED:20241018T050922Z
LAST-MODIFIED:20250115T051242Z
UID:10000883-1737905400-1737916200@www.settlerstavern.com
SUMMARY:QYNN
DESCRIPTION:Kick back this Sunday with Qynn\, an acclaimed local artist known for his soul-stirring acoustic blues and rock. While you may recognize Qynn from his influential role in projects like the Grass Roots Music Foundation\, it’s his powerful live performances that truly captivate audiences. Join us to experience the vibrant energy and raw emotion that Qynn brings to the stage.
URL:https://www.settlerstavern.com/event/qynn/
LOCATION:Settlers Tavern\, 114 Bussell Hwy\, Margaret River\, WA\, 6285\, Australia
CATEGORIES:Acoustic,Blues,Live Music,Live Music Australia,Rock
ATTACH;FMTTYPE=image/jpeg:https://www.settlerstavern.com/wp-content/uploads/2024/10/46281409_10156150273921731_483041081856884736_n.jpg
GEO:-33.9498;115.0736
X-APPLE-STRUCTURED-LOCATION;VALUE=URI;X-ADDRESS=Settlers Tavern 114 Bussell Hwy Margaret River WA 6285 Australia;X-APPLE-RADIUS=500;X-TITLE=114 Bussell Hwy:geo:115.0736,-33.9498
END:VEVENT
END:VCALENDAR