BEGIN:VCALENDAR
VERSION:2.0
PRODID:-//Settlers Tavern - ECPv6.15.18//NONSGML v1.0//EN
CALSCALE:GREGORIAN
METHOD:PUBLISH
X-ORIGINAL-URL:https://www.settlerstavern.com
X-WR-CALDESC:Events for Settlers Tavern
REFRESH-INTERVAL;VALUE=DURATION:PT1H
X-Robots-Tag:noindex
X-PUBLISHED-TTL:PT1H
BEGIN:VTIMEZONE
TZID:Australia/Perth
BEGIN:STANDARD
TZOFFSETFROM:+0800
TZOFFSETTO:+0800
TZNAME:AWST
DTSTART:20240101T000000
END:STANDARD
END:VTIMEZONE
BEGIN:VEVENT
DTSTART;TZID=Australia/Perth:20250914T150000
DTEND;TZID=Australia/Perth:20250914T180000
DTSTAMP:20260422T074523
CREATED:20250803T041338Z
LAST-MODIFIED:20250803T041338Z
UID:10001001-1757862000-1757872800@www.settlerstavern.com
SUMMARY:TURIN ROBINSON
DESCRIPTION:To say Turin Robinson is a veteran of the Perth music scene is an understatement. Turin has made a name for himself with his Tom Waits inspired blues\, roots and hip hop vibes. Turin grooves and growls his way throughout WA and beyond turning heads wherever he goes.\nFronting original band Mossy Fogg and cover band Pimp Whiskers\, Turin brings a vast variety of unique versions of songs to the unsuspecting listener.
URL:https://www.settlerstavern.com/event/turin-robinson-2/
LOCATION:Settlers Tavern\, 114 Bussell Hwy\, Margaret River\, WA\, 6285\, Australia
CATEGORIES:Acoustic,Blues,Folk,Live Music,Live Music Australia,RnB
ATTACH;FMTTYPE=image/png:https://www.settlerstavern.com/wp-content/uploads/2025/04/Screenshot-2025-04-24-at-8.50.44 AM.png
GEO:-33.9498;115.0736
X-APPLE-STRUCTURED-LOCATION;VALUE=URI;X-ADDRESS=Settlers Tavern 114 Bussell Hwy Margaret River WA 6285 Australia;X-APPLE-RADIUS=500;X-TITLE=114 Bussell Hwy:geo:115.0736,-33.9498
END:VEVENT
BEGIN:VEVENT
DTSTART;TZID=Australia/Perth:20250921T150000
DTEND;TZID=Australia/Perth:20250921T180000
DTSTAMP:20260422T074523
CREATED:20250812T041455Z
LAST-MODIFIED:20250825T060608Z
UID:10001008-1758466800-1758477600@www.settlerstavern.com
SUMMARY:QYNN
DESCRIPTION:Kick back with Qynn\, an acclaimed local artist known for his soul-stirring acoustic blues and rock. While you may recognize Qynn from his influential role in projects like the Grass Roots Music Foundation\, it’s his powerful live performances that truly captivate audiences. Join us to experience the vibrant energy and raw emotion that Qynn brings to the stage.
URL:https://www.settlerstavern.com/event/qynn-3/
LOCATION:Settlers Tavern\, 114 Bussell Hwy\, Margaret River\, WA\, 6285\, Australia
CATEGORIES:Acoustic,Blues,Live Music,Live Music Australia,Rock
ATTACH;FMTTYPE=image/jpeg:https://www.settlerstavern.com/wp-content/uploads/2024/10/46281409_10156150273921731_483041081856884736_n.jpg
GEO:-33.9498;115.0736
X-APPLE-STRUCTURED-LOCATION;VALUE=URI;X-ADDRESS=Settlers Tavern 114 Bussell Hwy Margaret River WA 6285 Australia;X-APPLE-RADIUS=500;X-TITLE=114 Bussell Hwy:geo:115.0736,-33.9498
END:VEVENT
END:VCALENDAR