BEGIN:VCALENDAR
VERSION:2.0
PRODID:-//Settlers Tavern - ECPv6.15.18//NONSGML v1.0//EN
CALSCALE:GREGORIAN
METHOD:PUBLISH
X-WR-CALNAME:Settlers Tavern
X-ORIGINAL-URL:https://www.settlerstavern.com
X-WR-CALDESC:Events for Settlers Tavern
REFRESH-INTERVAL;VALUE=DURATION:PT1H
X-Robots-Tag:noindex
X-PUBLISHED-TTL:PT1H
BEGIN:VTIMEZONE
TZID:Australia/Perth
BEGIN:STANDARD
TZOFFSETFROM:+0800
TZOFFSETTO:+0800
TZNAME:AWST
DTSTART:20240101T000000
END:STANDARD
END:VTIMEZONE
BEGIN:VEVENT
DTSTART;TZID=Australia/Perth:20250105T153000
DTEND;TZID=Australia/Perth:20250105T183000
DTSTAMP:20260423T081833
CREATED:20241219T235646Z
LAST-MODIFIED:20241219T235646Z
UID:10000907-1736091000-1736101800@www.settlerstavern.com
SUMMARY:JAKE HOSKINS
DESCRIPTION:Jake Hoskins is a Cowaramup based singer/songwriter who mainly works as a solo performer. Jake has studied a diploma in contemporary music and has toured around Australia working with bands and as a solo artist.   \nAfter 7 years travelling and touring\, Jake is excited to be back in the southwest to play some shows with his new single release titled “Making dreams”.   \nJakes ability to write and express catchy songs about life and his journey make him a great entertainer.   \nAfter being the lead singer of a 5-piece Alternative rock band in 2011\, Jake decided his true path was writing his own songs and cutting his own track on the road.  \nHe released two EP’s from 2016-2017 in Perth at RADA studios titled “Heartleap lane” and Signs in the sky” which are playful in the way of songwriting showing mixes of indie\, folk\, blues and rock.   \nYears later he studied and got a band behind him in Brisbane where they recorded an album titled “Hoo Ha”. A more rock influenced album.   \nSince then\, Jake has lived in the Sunshine Coast & the Snowy mountains\, and also recorded another single “Uncle shoes” where he expressed a longing for coming back to home ground to be with his family – a more old school blues infused track.   \nJake loves to play his acoustic guitar and sing a whole range of styles and get the crowd dancing. His grooves and infectious melodies are a great addition to any setting.  
URL:https://www.settlerstavern.com/event/jake-hoskins/
LOCATION:Settlers Tavern\, 114 Bussell Hwy\, Margaret River\, WA\, 6285\, Australia
CATEGORIES:Acoustic,Live Music,Live Music Australia
ATTACH;FMTTYPE=image/png:https://www.settlerstavern.com/wp-content/uploads/2024/12/Screenshot-2024-12-20-at-7.50.23 AM.png
GEO:-33.9498;115.0736
X-APPLE-STRUCTURED-LOCATION;VALUE=URI;X-ADDRESS=Settlers Tavern 114 Bussell Hwy Margaret River WA 6285 Australia;X-APPLE-RADIUS=500;X-TITLE=114 Bussell Hwy:geo:115.0736,-33.9498
END:VEVENT
BEGIN:VEVENT
DTSTART;TZID=Australia/Perth:20250112T153000
DTEND;TZID=Australia/Perth:20250112T183000
DTSTAMP:20260423T081833
CREATED:20241220T000310Z
LAST-MODIFIED:20250106T044324Z
UID:10000908-1736695800-1736706600@www.settlerstavern.com
SUMMARY:WIL THOMAS
DESCRIPTION:A dusty blend of folk and rock\, with a nod towards the blues\, Wil Thomas is a journeyman and a storyteller\, a laconic troubadour and the kind of artist you yearn to have at your campfire… \nWith his tales of Bush Rangers and modern-day political gangsters\, he sings of redemption\, love and revolution. Weaving stories from a stormy Celtic coastline all the way to the blood-red dirt of the Kimberley. \nThomas’ quest for the story in song is passionate and single-minded. His sophomore album ‘Provenance ’was nominated for an Australian music prize\, while his 3rd album ‘The Riding Light’\, continues to build on the poetry of his debut\, ‘Fisherman’s Bend.’ \nHe has shared the stage with artists including\, Shane Howard\, Missy Higgins\, The Pigram Brothers and John Butler and Draws from a melting pot of influences. From Dylan Thomas to Led Zeppelin\, he epitomises all there is to love about raw and relevant Australian music
URL:https://www.settlerstavern.com/event/wil-thomas-4/
LOCATION:Settlers Tavern\, 114 Bussell Hwy\, Margaret River\, WA\, 6285\, Australia
CATEGORIES:Acoustic,Live Music,Live Music Australia
ATTACH;FMTTYPE=image/png:https://www.settlerstavern.com/wp-content/uploads/2024/12/Screenshot-2024-12-20-at-8.02.04 AM.png
GEO:-33.9498;115.0736
X-APPLE-STRUCTURED-LOCATION;VALUE=URI;X-ADDRESS=Settlers Tavern 114 Bussell Hwy Margaret River WA 6285 Australia;X-APPLE-RADIUS=500;X-TITLE=114 Bussell Hwy:geo:115.0736,-33.9498
END:VEVENT
BEGIN:VEVENT
DTSTART;TZID=Australia/Perth:20250119T153000
DTEND;TZID=Australia/Perth:20250119T183000
DTSTAMP:20260423T081833
CREATED:20250110T015722Z
LAST-MODIFIED:20250115T052406Z
UID:10000913-1737300600-1737311400@www.settlerstavern.com
SUMMARY:PETE MATTHEWS DUO
DESCRIPTION:Pete Matthews and Neal James are bringing back to the Settlers Tavern their brand of local\, original blues reggae and jammin grooves.Pete’s soulful vocals and self penned eclectic songs take the punter on a journey of love life and waves.Neal James melodic harp and jazz infused sax lifts the roof with a nod too Little Walter and the old bluesmen of the deep south.Covering classics from Marley\, Rory Gallagher to Neil Young with a twist\, and spiced with original tunes\, come along to the Original home of the Margies Sunday Session.
URL:https://www.settlerstavern.com/event/pete-matthews-duo/
LOCATION:Settlers Tavern\, 114 Bussell Hwy\, Margaret River\, WA\, 6285\, Australia
CATEGORIES:Acoustic,Live Music,Live Music Australia
ATTACH;FMTTYPE=image/jpeg:https://www.settlerstavern.com/wp-content/uploads/2025/01/473564604_3713156565497676_3277564436952325211_n.jpg
GEO:-33.9498;115.0736
X-APPLE-STRUCTURED-LOCATION;VALUE=URI;X-ADDRESS=Settlers Tavern 114 Bussell Hwy Margaret River WA 6285 Australia;X-APPLE-RADIUS=500;X-TITLE=114 Bussell Hwy:geo:115.0736,-33.9498
END:VEVENT
BEGIN:VEVENT
DTSTART;TZID=Australia/Perth:20250126T153000
DTEND;TZID=Australia/Perth:20250126T183000
DTSTAMP:20260423T081833
CREATED:20241018T050922Z
LAST-MODIFIED:20250115T051242Z
UID:10000883-1737905400-1737916200@www.settlerstavern.com
SUMMARY:QYNN
DESCRIPTION:Kick back this Sunday with Qynn\, an acclaimed local artist known for his soul-stirring acoustic blues and rock. While you may recognize Qynn from his influential role in projects like the Grass Roots Music Foundation\, it’s his powerful live performances that truly captivate audiences. Join us to experience the vibrant energy and raw emotion that Qynn brings to the stage.
URL:https://www.settlerstavern.com/event/qynn/
LOCATION:Settlers Tavern\, 114 Bussell Hwy\, Margaret River\, WA\, 6285\, Australia
CATEGORIES:Acoustic,Blues,Live Music,Live Music Australia,Rock
ATTACH;FMTTYPE=image/jpeg:https://www.settlerstavern.com/wp-content/uploads/2024/10/46281409_10156150273921731_483041081856884736_n.jpg
GEO:-33.9498;115.0736
X-APPLE-STRUCTURED-LOCATION;VALUE=URI;X-ADDRESS=Settlers Tavern 114 Bussell Hwy Margaret River WA 6285 Australia;X-APPLE-RADIUS=500;X-TITLE=114 Bussell Hwy:geo:115.0736,-33.9498
END:VEVENT
END:VCALENDAR