BEGIN:VCALENDAR
VERSION:2.0
PRODID:-//Settlers Tavern - ECPv6.15.20//NONSGML v1.0//EN
CALSCALE:GREGORIAN
METHOD:PUBLISH
X-WR-CALNAME:Settlers Tavern
X-ORIGINAL-URL:https://www.settlerstavern.com
X-WR-CALDESC:Events for Settlers Tavern
REFRESH-INTERVAL;VALUE=DURATION:PT1H
X-Robots-Tag:noindex
X-PUBLISHED-TTL:PT1H
BEGIN:VTIMEZONE
TZID:Australia/Perth
BEGIN:STANDARD
TZOFFSETFROM:+0800
TZOFFSETTO:+0800
TZNAME:AWST
DTSTART:20230101T000000
END:STANDARD
END:VTIMEZONE
BEGIN:VEVENT
DTSTART;TZID=Australia/Perth:20241103T153000
DTEND;TZID=Australia/Perth:20241103T183000
DTSTAMP:20260423T111726
CREATED:20241002T054341Z
LAST-MODIFIED:20241002T054341Z
UID:10000876-1730647800-1730658600@www.settlerstavern.com
SUMMARY:EXP Unplugged Acoustic Session
DESCRIPTION:EXP “Unplugged”; Hear sounds ranging from psychedelic acoustic classics to blues’n’roots on the Settlers Tavern verandah on Sunday 3rd of November.\n\nEXP step outside their usual territory of the wailing electric guitars of Cream\, Hendrix and Led Zeppelin\, to bring you the acoustic side of the rocking 60s and 70s and more. You’ll hear some beautiful acoustic classics by Led Zeppelin\, as well as some of the blues songs this supergroup drew from. You’ll hear and sing a long to the acoustic side of Jimi Hendrix\, classics by The Rolling Stones\, Credence Clearwater Revival\, Eric Clapton\, Cream and The Beatles\, as well as a few more modern unplugged classics. EXP’s “Unplugged” acoustic special features the sounds of acoustic guitar\, 12-string guitar\, semi-acoustic bass\, percussion\, mandolin\, banjo and more. You can hear EXP’s “Unplugged” acoustic special live in the Settlers Tavern beer garden from 3.30pm on Sunday 3rd of November 2024.
URL:https://www.settlerstavern.com/event/exp-unplugged-acoustic-session/
LOCATION:Settlers Tavern\, 114 Bussell Hwy\, Margaret River\, WA\, 6285\, Australia
CATEGORIES:Acoustic,Blues,Live Music,Live Music Australia,Roots
ATTACH;FMTTYPE=image/jpeg:https://www.settlerstavern.com/wp-content/uploads/2024/10/461747802_27656365223962023_2954122295622298471_n-e1750403239973.jpg
GEO:-33.9498;115.0736
X-APPLE-STRUCTURED-LOCATION;VALUE=URI;X-ADDRESS=Settlers Tavern 114 Bussell Hwy Margaret River WA 6285 Australia;X-APPLE-RADIUS=500;X-TITLE=114 Bussell Hwy:geo:115.0736,-33.9498
END:VEVENT
END:VCALENDAR