BEGIN:VCALENDAR
VERSION:2.0
PRODID:-//Settlers Tavern - ECPv6.15.18//NONSGML v1.0//EN
CALSCALE:GREGORIAN
METHOD:PUBLISH
X-WR-CALNAME:Settlers Tavern
X-ORIGINAL-URL:https://www.settlerstavern.com
X-WR-CALDESC:Events for Settlers Tavern
REFRESH-INTERVAL;VALUE=DURATION:PT1H
X-Robots-Tag:noindex
X-PUBLISHED-TTL:PT1H
BEGIN:VTIMEZONE
TZID:Australia/Perth
BEGIN:STANDARD
TZOFFSETFROM:+0800
TZOFFSETTO:+0800
TZNAME:AWST
DTSTART:20240101T000000
END:STANDARD
END:VTIMEZONE
BEGIN:VEVENT
DTSTART;TZID=Australia/Perth:20250905T210000
DTEND;TZID=Australia/Perth:20250905T233000
DTSTAMP:20260422T074902
CREATED:20241211T104916Z
LAST-MODIFIED:20250620T080719Z
UID:10000904-1757106000-1757115000@www.settlerstavern.com
SUMMARY:DJ BRIGHTSIDER
DESCRIPTION:DJ Brightsider Live at the Tav! \nGet ready for a night of epic vibes and non-stop dancing as Dan White (Brightsider) takes the decks at Settlers Tavern! Known for his infectious energy and impeccable taste\, Brightsider will be spinning a killer mix of House\, RnB\, Afro\, and Nu-Disco bangers that’ll keep you moving all night long. \nGrab your crew\, hit the dance floor\, and let the beats take over—this is one party you won’t want to miss!
URL:https://www.settlerstavern.com/event/dj-brightsider/
LOCATION:Settlers Tavern\, 114 Bussell Hwy\, Margaret River\, WA\, 6285\, Australia
CATEGORIES:Afro,DJ,RnB
ATTACH;FMTTYPE=image/png:https://www.settlerstavern.com/wp-content/uploads/2024/12/Screenshot-2024-12-11-at-6.42.31 PM.png
GEO:-33.9498;115.0736
X-APPLE-STRUCTURED-LOCATION;VALUE=URI;X-ADDRESS=Settlers Tavern 114 Bussell Hwy Margaret River WA 6285 Australia;X-APPLE-RADIUS=500;X-TITLE=114 Bussell Hwy:geo:115.0736,-33.9498
END:VEVENT
BEGIN:VEVENT
DTSTART;TZID=Australia/Perth:20250906T210000
DTEND;TZID=Australia/Perth:20250906T233000
DTSTAMP:20260422T074902
CREATED:20250812T062133Z
LAST-MODIFIED:20250825T005139Z
UID:10001009-1757192400-1757201400@www.settlerstavern.com
SUMMARY:SATISFACTION
DESCRIPTION:Fresh of their recent national tour\, The Satisfaction return to Settlers Tavern for a surprise show comprised of all of the electrifying (and somewhat chaotic) Rock n Roll one’s heart can handle.
URL:https://www.settlerstavern.com/event/satisfaction/
LOCATION:Settlers Tavern\, 114 Bussell Hwy\, Margaret River\, WA\, 6285\, Australia
CATEGORIES:Live Music,Live Music Australia,Pop,Rock
ATTACH;FMTTYPE=image/jpeg:https://www.settlerstavern.com/wp-content/uploads/2025/08/1000002838.jpeg
GEO:-33.9498;115.0736
X-APPLE-STRUCTURED-LOCATION;VALUE=URI;X-ADDRESS=Settlers Tavern 114 Bussell Hwy Margaret River WA 6285 Australia;X-APPLE-RADIUS=500;X-TITLE=114 Bussell Hwy:geo:115.0736,-33.9498
END:VEVENT
BEGIN:VEVENT
DTSTART;TZID=Australia/Perth:20250907T150000
DTEND;TZID=Australia/Perth:20250907T180000
DTSTAMP:20260422T074902
CREATED:20250620T081548Z
LAST-MODIFIED:20250805T120935Z
UID:10000988-1757257200-1757268000@www.settlerstavern.com
SUMMARY:EMPIRE BLUES
DESCRIPTION:Empire Blues – Duo an offshoot of the prominent Perth Blues band “Empire Blues” which formed in 2005. As the title suggests it is an unplugged duo version of the band with Andrew McIlroy on acoustic\, electric and dobro guitars/vocals and Alan Dawson on fretless bass\, upright stick bass and vocals. Andrew and Alan have performed hundreds of shows together with an infectious familiarity in their playing styles and in the past\, have supported countless interstate and overseas artists.  \nThe same principals of Empire Blues apply in that a considerable percentage of the songs focus on humour\, social comment and Western Australia. 
URL:https://www.settlerstavern.com/event/empire-blues-4/
LOCATION:Settlers Tavern\, 114 Bussell Hwy\, Margaret River\, WA\, 6285\, Australia
CATEGORIES:Blues,Live Music,Live Music Australia
ATTACH;FMTTYPE=image/jpeg:https://www.settlerstavern.com/wp-content/uploads/2025/06/empire-blues.jpg
GEO:-33.9498;115.0736
X-APPLE-STRUCTURED-LOCATION;VALUE=URI;X-ADDRESS=Settlers Tavern 114 Bussell Hwy Margaret River WA 6285 Australia;X-APPLE-RADIUS=500;X-TITLE=114 Bussell Hwy:geo:115.0736,-33.9498
END:VEVENT
BEGIN:VEVENT
DTSTART;TZID=Australia/Perth:20250912T210000
DTEND;TZID=Australia/Perth:20250912T233000
DTSTAMP:20260422T074902
CREATED:20250813T041429Z
LAST-MODIFIED:20250815T050318Z
UID:10001010-1757710800-1757719800@www.settlerstavern.com
SUMMARY:DJ B GROOVY
DESCRIPTION:Yes\, it’s all about the Groove!\nBruno aka DJ – B.Groovy has been collecting rare and unique tracks from all continents\, with the very best music played by musicians.\nThere are no what he calls « junk music » in B.Groovy’s sets.\nWith the best of Disco / Funk / Afrobeat tunes from the 1970s-80s-90s + Salsa / Reggae / Ska & Balkan tunes\, the groove is the core of each track and will make you shake everything you’ve got!\nYou are a music lover? You like having fun dancing?\nCome along to enjoy the Funky Night! \nBruno was born in Paris and has been influenced by cultural diversity in music and performing art. He is also a musician / songwriter and a physical actor / circus artist. He worked in the music & performing arts industry for about 30 years\, was co-creator of Cie.Anomalie in 1995\, touring modern circus shows worldwide and worked with various artistic directors in France and Europe. \nHe is a qualified sound engineer (SAE Institute graduate)\, with 16 years of experience in live music and festivals in Perth and Fremantle area.\nHe was the MC and creator of ‘Super-Groove Party’ for Fringe World Festival\, Perth 2015. He has been Djing in Fremantle and Perth suburbs for various events and weddings + performing with his band SOL-R\, between 2009 and 2018. \nHe currently live in Margaret River\, is a sound engineer at Margaret River Heart + Settlers Tavern and play music with Si&B duo.
URL:https://www.settlerstavern.com/event/dj-b-groovy-3/
LOCATION:Settlers Tavern\, 114 Bussell Hwy\, Margaret River\, WA\, 6285\, Australia
CATEGORIES:Disco,DJ,Funk
ATTACH;FMTTYPE=image/png:https://www.settlerstavern.com/wp-content/uploads/2025/05/Screenshot-2025-05-29-at-3.47.27 PM.png
GEO:-33.9498;115.0736
X-APPLE-STRUCTURED-LOCATION;VALUE=URI;X-ADDRESS=Settlers Tavern 114 Bussell Hwy Margaret River WA 6285 Australia;X-APPLE-RADIUS=500;X-TITLE=114 Bussell Hwy:geo:115.0736,-33.9498
END:VEVENT
BEGIN:VEVENT
DTSTART;TZID=Australia/Perth:20250913T210000
DTEND;TZID=Australia/Perth:20250913T233000
DTSTAMP:20260422T074902
CREATED:20250526T044634Z
LAST-MODIFIED:20250730T055335Z
UID:10000967-1757797200-1757806200@www.settlerstavern.com
SUMMARY:MOSSY FOG
DESCRIPTION:Perth swamp lords Mossy Fogg have been stomping down the hallways of the WA music scene and beyond since their formation in 2014. \n\n\nVocalist Turin Robinson was already something of an industry veteran by this time\, and the initial line-up came together to band up on his solo songs. They evolved\, however\, into a rusty mix of rock\, blues\, roots\, folk and scrap iron that is collectively known as Mossy Fogg. \n\n\nThere’s a damn big voice in that there Robinson’s throat. It’s been fuelled by whisky and a life told in song. His growl is underscored by Dom Barrett’s weaving\, stabbing guitar and the hell-broke-loose rumble of Callum Morrison’s bass and Andy Pearson’s drumset. \n\n\nThe results are real\, raw and thoroughly alluring. Triple j’s Dave Ruby Howe in a four-star review for Weeping Willow stated it was ‘so authentic it ought to come with its own moonshine’. ABC Country Music Programmer/Producer\, Kath Devaney was equally effusive\, proclaiming\, ‘… the swamp is missing an angel! This is smart psychedelic prog swamp blues rock and I had no idea Perth was harbouring the next great Australian band’. \n\n\nWeeping Willow was also nominated for a WAM Song Of The Year award in the ‘Blues & Roots’ category and featured on Mossy Fogg’s second EP Stagnant\, which they pulled from their ever-mutating swamp in 2021. At odds with its title\, the EP represented a rebirth of the band\, with an evolved line-up and a bigger sound to match. \n\nThey are influenced by – but not beholden to – Tom Waits\, Timber Timbre\, Hozier and Nick Cave & The Bad Seeds\, bringing elements of noiseful beauty and rough charm into their compelling live shows.
URL:https://www.settlerstavern.com/event/mossy-fog/
LOCATION:Settlers Tavern\, 114 Bussell Hwy\, Margaret River\, WA\, 6285\, Australia
CATEGORIES:Blues,Live Music,Live Music Australia,Progressive,Psychedelic
ATTACH;FMTTYPE=image/png:https://www.settlerstavern.com/wp-content/uploads/2025/05/Screenshot-2025-05-26-at-12.45.57 PM.png
GEO:-33.9498;115.0736
X-APPLE-STRUCTURED-LOCATION;VALUE=URI;X-ADDRESS=Settlers Tavern 114 Bussell Hwy Margaret River WA 6285 Australia;X-APPLE-RADIUS=500;X-TITLE=114 Bussell Hwy:geo:115.0736,-33.9498
END:VEVENT
BEGIN:VEVENT
DTSTART;TZID=Australia/Perth:20250914T150000
DTEND;TZID=Australia/Perth:20250914T180000
DTSTAMP:20260422T074902
CREATED:20250803T041338Z
LAST-MODIFIED:20250803T041338Z
UID:10001001-1757862000-1757872800@www.settlerstavern.com
SUMMARY:TURIN ROBINSON
DESCRIPTION:To say Turin Robinson is a veteran of the Perth music scene is an understatement. Turin has made a name for himself with his Tom Waits inspired blues\, roots and hip hop vibes. Turin grooves and growls his way throughout WA and beyond turning heads wherever he goes.\nFronting original band Mossy Fogg and cover band Pimp Whiskers\, Turin brings a vast variety of unique versions of songs to the unsuspecting listener.
URL:https://www.settlerstavern.com/event/turin-robinson-2/
LOCATION:Settlers Tavern\, 114 Bussell Hwy\, Margaret River\, WA\, 6285\, Australia
CATEGORIES:Acoustic,Blues,Folk,Live Music,Live Music Australia,RnB
ATTACH;FMTTYPE=image/png:https://www.settlerstavern.com/wp-content/uploads/2025/04/Screenshot-2025-04-24-at-8.50.44 AM.png
GEO:-33.9498;115.0736
X-APPLE-STRUCTURED-LOCATION;VALUE=URI;X-ADDRESS=Settlers Tavern 114 Bussell Hwy Margaret River WA 6285 Australia;X-APPLE-RADIUS=500;X-TITLE=114 Bussell Hwy:geo:115.0736,-33.9498
END:VEVENT
BEGIN:VEVENT
DTSTART;TZID=Australia/Perth:20250919T210000
DTEND;TZID=Australia/Perth:20250919T233000
DTSTAMP:20260422T074902
CREATED:20250816T054052Z
LAST-MODIFIED:20250912T123620Z
UID:10001011-1758315600-1758324600@www.settlerstavern.com
SUMMARY:CHILEAN INDEPENDENCE DAY
DESCRIPTION:Join us on Chile Independence Day for a BOOGIE! Pimp your money maker and bring your mama and nana to the dance floor. Settlers opens its doors for another volume of our proclaimed FUNKY SESSIONS. All-time grooves\, funky Latin rhythms and deep house return to the best pub in the South West by Diego de Camino. Connect with the music\, connect with yourself!
URL:https://www.settlerstavern.com/event/latin-party-w-diego-5/
LOCATION:Settlers Tavern\, 114 Bussell Hwy\, Margaret River\, WA\, 6285\, Australia
CATEGORIES:DJ,Latin
ATTACH;FMTTYPE=image/png:https://www.settlerstavern.com/wp-content/uploads/2025/08/Black-and-White-Holographic-Night-Party-Instagram-Story-3.png
GEO:-33.9498;115.0736
X-APPLE-STRUCTURED-LOCATION;VALUE=URI;X-ADDRESS=Settlers Tavern 114 Bussell Hwy Margaret River WA 6285 Australia;X-APPLE-RADIUS=500;X-TITLE=114 Bussell Hwy:geo:115.0736,-33.9498
END:VEVENT
BEGIN:VEVENT
DTSTART;TZID=Australia/Perth:20250920T210000
DTEND;TZID=Australia/Perth:20250920T233000
DTSTAMP:20260422T074902
CREATED:20250803T042436Z
LAST-MODIFIED:20250816T053126Z
UID:10001002-1758402000-1758411000@www.settlerstavern.com
SUMMARY:ART OF DYSFUNCTION
DESCRIPTION:Art Of Dysfunction are back at Settlers Tavern with a brand spanking new lineup\, and some brand spanking new songs. Fresh off their appearance at the Ravenswood Blues & Roots Festival\, supporting the likes of “The Black Sorrows” “19Twenty” and “Dave Hole” they’ll be celebrating the release of their third single with the new lineup\, “No Good” the third track released throughout 2025. The band have previously cut their teeth\, playing with Australian Rock mainstays\, “Electric Mary” and “The Radiators” to name a couple. Also completing a European tour in 2022\, supporting another Australian Blues Icon\, “Vdelli” There’s gonna be some serious jams going on\, who knows where they’ll go? 
URL:https://www.settlerstavern.com/event/art-of-dysfunction/
LOCATION:Settlers Tavern\, 114 Bussell Hwy\, Margaret River\, WA\, 6285\, Australia
CATEGORIES:Blues,Live Music,Live Music Australia,Rock'n'Roll
ATTACH;FMTTYPE=image/jpeg:https://www.settlerstavern.com/wp-content/uploads/2025/08/IMG_3782-scaled.jpg
GEO:-33.9498;115.0736
X-APPLE-STRUCTURED-LOCATION;VALUE=URI;X-ADDRESS=Settlers Tavern 114 Bussell Hwy Margaret River WA 6285 Australia;X-APPLE-RADIUS=500;X-TITLE=114 Bussell Hwy:geo:115.0736,-33.9498
END:VEVENT
BEGIN:VEVENT
DTSTART;TZID=Australia/Perth:20250921T150000
DTEND;TZID=Australia/Perth:20250921T180000
DTSTAMP:20260422T074902
CREATED:20250812T041455Z
LAST-MODIFIED:20250825T060608Z
UID:10001008-1758466800-1758477600@www.settlerstavern.com
SUMMARY:QYNN
DESCRIPTION:Kick back with Qynn\, an acclaimed local artist known for his soul-stirring acoustic blues and rock. While you may recognize Qynn from his influential role in projects like the Grass Roots Music Foundation\, it’s his powerful live performances that truly captivate audiences. Join us to experience the vibrant energy and raw emotion that Qynn brings to the stage.
URL:https://www.settlerstavern.com/event/qynn-3/
LOCATION:Settlers Tavern\, 114 Bussell Hwy\, Margaret River\, WA\, 6285\, Australia
CATEGORIES:Acoustic,Blues,Live Music,Live Music Australia,Rock
ATTACH;FMTTYPE=image/jpeg:https://www.settlerstavern.com/wp-content/uploads/2024/10/46281409_10156150273921731_483041081856884736_n.jpg
GEO:-33.9498;115.0736
X-APPLE-STRUCTURED-LOCATION;VALUE=URI;X-ADDRESS=Settlers Tavern 114 Bussell Hwy Margaret River WA 6285 Australia;X-APPLE-RADIUS=500;X-TITLE=114 Bussell Hwy:geo:115.0736,-33.9498
END:VEVENT
BEGIN:VEVENT
DTSTART;TZID=Australia/Perth:20250926T210000
DTEND;TZID=Australia/Perth:20250926T233000
DTSTAMP:20260422T074902
CREATED:20250803T043808Z
LAST-MODIFIED:20250901T040401Z
UID:10001003-1758920400-1758929400@www.settlerstavern.com
SUMMARY:NANA'S PIE X RODNEY STARFISH
DESCRIPTION:Indie rock with feelings. Sunshine Coast baked\, served loud. Sweaty singalongs for overthinkers\, heartbreakers and dance floor flakers. These road tripping\, van touring besties have no plan B.
URL:https://www.settlerstavern.com/event/nanas-pie/
LOCATION:Settlers Tavern\, 114 Bussell Hwy\, Margaret River\, WA\, 6285\, Australia
CATEGORIES:Folk,Indie,Live Music,Live Music Australia,Surf
ATTACH;FMTTYPE=image/jpeg:https://www.settlerstavern.com/wp-content/uploads/2025/08/1080x1080-Promo-Pic-scaled.jpg
GEO:-33.9498;115.0736
X-APPLE-STRUCTURED-LOCATION;VALUE=URI;X-ADDRESS=Settlers Tavern 114 Bussell Hwy Margaret River WA 6285 Australia;X-APPLE-RADIUS=500;X-TITLE=114 Bussell Hwy:geo:115.0736,-33.9498
END:VEVENT
BEGIN:VEVENT
DTSTART;TZID=Australia/Perth:20250927T210000
DTEND;TZID=Australia/Perth:20250927T233000
DTSTAMP:20260422T074902
CREATED:20250828T140917Z
LAST-MODIFIED:20250828T140917Z
UID:10001014-1759006800-1759015800@www.settlerstavern.com
SUMMARY:BOOTLEG RASCAL
DESCRIPTION:Off the back of a relentless release and touring schedule in 2025\, Bootleg Rascal will embark on an expansive Australian and New Zealand tour\, featuring a mix of free entry shows\, ticketed events\, and headlining festivals Oktoberfest at Polytech Stadium\, and Dunedin Beer Festival at Forsyth Barr Stadium. \n \n\n 
URL:https://www.settlerstavern.com/event/bootleg-rascal/
LOCATION:Settlers Tavern\, 114 Bussell Hwy\, Margaret River\, WA\, 6285\, Australia
CATEGORIES:Featured,Hip Hop,Indie,Live Music,Live Music Australia,Reggae,Tickets
ATTACH;FMTTYPE=image/jpeg:https://www.settlerstavern.com/wp-content/uploads/2025/08/Bootleg-Rascal-Main-Press-Shot-scaled.jpg
GEO:-33.9498;115.0736
X-APPLE-STRUCTURED-LOCATION;VALUE=URI;X-ADDRESS=Settlers Tavern 114 Bussell Hwy Margaret River WA 6285 Australia;X-APPLE-RADIUS=500;X-TITLE=114 Bussell Hwy:geo:115.0736,-33.9498
END:VEVENT
BEGIN:VEVENT
DTSTART;TZID=Australia/Perth:20250928T150000
DTEND;TZID=Australia/Perth:20250928T180000
DTSTAMP:20260422T074903
CREATED:20250803T050851Z
LAST-MODIFIED:20250803T051111Z
UID:10001005-1759071600-1759082400@www.settlerstavern.com
SUMMARY:BIG AL & THE WOLF PACK
DESCRIPTION:Join the Big Al & Wolf Pack for a soulful Sunday session in the beer garden at Settlers Tavern\, Margaret River\, on 28 September. Paying homage to the great blues artists of the 1950s\, Wolf Pack brings the raw sounds of Chicago juke joints and the swamp blues of Baton Rouge to life. Enjoy classic songs from legends like Muddy Waters\, Slim Harpo\, Jimmy Reed\, Magic Sam\, Little Walter\, and more\, delivered with authenticity and passion.
URL:https://www.settlerstavern.com/event/big-al-the-wolf-pack-3/
LOCATION:Settlers Tavern\, 114 Bussell Hwy\, Margaret River\, WA\, 6285\, Australia
CATEGORIES:Blues,Live Music,Live Music Australia,Music
ATTACH;FMTTYPE=image/jpeg:https://www.settlerstavern.com/wp-content/uploads/2025/08/big-al.jpg
GEO:-33.9498;115.0736
X-APPLE-STRUCTURED-LOCATION;VALUE=URI;X-ADDRESS=Settlers Tavern 114 Bussell Hwy Margaret River WA 6285 Australia;X-APPLE-RADIUS=500;X-TITLE=114 Bussell Hwy:geo:115.0736,-33.9498
END:VEVENT
END:VCALENDAR