BEGIN:VCALENDAR
VERSION:2.0
PRODID:-//Settlers Tavern - ECPv6.15.18//NONSGML v1.0//EN
CALSCALE:GREGORIAN
METHOD:PUBLISH
X-ORIGINAL-URL:https://www.settlerstavern.com
X-WR-CALDESC:Events for Settlers Tavern
REFRESH-INTERVAL;VALUE=DURATION:PT1H
X-Robots-Tag:noindex
X-PUBLISHED-TTL:PT1H
BEGIN:VTIMEZONE
TZID:Australia/Perth
BEGIN:STANDARD
TZOFFSETFROM:+0800
TZOFFSETTO:+0800
TZNAME:AWST
DTSTART:20230101T000000
END:STANDARD
END:VTIMEZONE
BEGIN:VEVENT
DTSTART;TZID=Australia/Perth:20241201T153000
DTEND;TZID=Australia/Perth:20241201T183000
DTSTAMP:20260423T073601
CREATED:20241102T005740Z
LAST-MODIFIED:20241122T041514Z
UID:10000887-1733067000-1733077800@www.settlerstavern.com
SUMMARY:DAVE LAWRENCE
DESCRIPTION:Celebrate the first day of summer this Sunday\, December 1st\, with the soulful sounds of Dave Lawrence on our verandah. From 3.30PM\, experience a unique musical journey as Dave brings his deluxe loop rig to life\, masterfully blending a variety of instruments and tunes. Whether you’re a fan of smooth soul or upbeat rhythms\, Dave’s set promises something for everyone. \nJoin us for an afternoon of great music\, free entry\, and the perfect vibe to welcome summer. Don’t miss out on this exceptional start to the season at Settlers Tavern!
URL:https://www.settlerstavern.com/event/dave-lawrence/
LOCATION:Settlers Tavern\, 114 Bussell Hwy\, Margaret River\, WA\, 6285\, Australia
CATEGORIES:Blues,Live Music,Live Music Australia,Loop
ATTACH;FMTTYPE=application/pdf:https://www.settlerstavern.com/wp-content/uploads/2024/11/SettlersPoster.pdf
GEO:-33.9498;115.0736
X-APPLE-STRUCTURED-LOCATION;VALUE=URI;X-ADDRESS=Settlers Tavern 114 Bussell Hwy Margaret River WA 6285 Australia;X-APPLE-RADIUS=500;X-TITLE=114 Bussell Hwy:geo:115.0736,-33.9498
END:VEVENT
BEGIN:VEVENT
DTSTART;TZID=Australia/Perth:20241207T210000
DTEND;TZID=Australia/Perth:20241207T233000
DTSTAMP:20260423T073601
CREATED:20241125T062730Z
LAST-MODIFIED:20241125T062831Z
UID:10000890-1733605200-1733614200@www.settlerstavern.com
SUMMARY:SHANGARA JIVE
DESCRIPTION:DOORS 9 PM / MUSIC 9.30PM \nFREE ENTRY \nAFRO ROOTS MUSIC \nSinger –songwriter\, talented drum-kit player and percussionist\, George Joe arrived in Australia in 1998 as a musical ambassador of Zimbabwe bringing with him the contemporary mix of Zimbabwean traditional mbira music (Chimurenga)\, Sungura\, Soca Beat\, Jit \, Kwassa Kwassa and Roots Reggae. \nShangara Jive music is written collaboratively on the foundations of Georges roots and culture\, the music takes its influences from traditional mbira (thumb piano)\, drumming and dancing troupes in Zimbabwe with musical flavours influenced from the Congo\, South Africa and Senegal . Songs are sung in English and Shona and reflect themes of day to day living in Africa\, African traditions and culture\, education for African youth\, political impacts on African societies\, and the joy of music. \nGeorge formed the band ‘African Music Congress’ shortly after arriving in Australia in 1998\, and this band went on to win ‘Best World Music Act’ in the Western Australian Music Industry Awards. for the four following years. \nGeorge formed Shangara Jive in 2002 and since then they have played hundreds of shows and supported many international acts such as Yousou ‘n’ Dour (Senegal)\, Thomas Mapfumo (Zimbabwe)\, Ozomatli (USA)\, Oliver Mtukudzi (Zimbabwe) and Malaika (South Africa). \nShangara Jive released the EP Play with Fire in 2004 and launched their latest full length album\, Melody\, in 2012 with sponsorship and support from Radio RTR 92.1 FM ‘s Fresh Blast program and Healthways Western Australia. \nThe band’s lively show is all about the heavy melodic grooves founded on the mbira and african percussion. This sets the stage for a very entertaining\, exciting and interactive experience which appeals to all ages\, backgrounds and cultures. \nAnd now joined with \nRumbie Tavaziva is a fantastic singer and songwriter from Zimbabwe. She has worked with many leading Zimbabwean artists including Chiwoniso Maraire\, with whom she toured to festivals across Europe\, Mauritius and South Africa. Rumbie recently arrived in Australia and is immediately playing live with the authentic Shangara Jive\, one of Perth’s premier Zimbabwean bands.
URL:https://www.settlerstavern.com/event/shangara-jive-2/
LOCATION:Settlers Tavern\, 114 Bussell Hwy\, Margaret River\, WA\, 6285\, Australia
CATEGORIES:Afro,Afrobeat,Live Music,Live Music Australia,Roots
ATTACH;FMTTYPE=image/png:https://www.settlerstavern.com/wp-content/uploads/2024/11/Screenshot-2024-11-13-at-11.27.17 AM-e1732516090185.png
GEO:-33.9498;115.0736
X-APPLE-STRUCTURED-LOCATION;VALUE=URI;X-ADDRESS=Settlers Tavern 114 Bussell Hwy Margaret River WA 6285 Australia;X-APPLE-RADIUS=500;X-TITLE=114 Bussell Hwy:geo:115.0736,-33.9498
END:VEVENT
BEGIN:VEVENT
DTSTART;TZID=Australia/Perth:20241208T153000
DTEND;TZID=Australia/Perth:20241208T183000
DTSTAMP:20260423T073601
CREATED:20241125T082639Z
LAST-MODIFIED:20241125T082639Z
UID:10000891-1733671800-1733682600@www.settlerstavern.com
SUMMARY:EMJAY
DESCRIPTION:Since embarking on a solo career in early 2018\, Emjay Angeni has melted hearts and captured imaginations throughout Australasia with her relaxed brand of coastal roots/pop and affable nature both on and off stage. \nInfluenced by the likes of Jack Johnson\, Ben Harper\, Donavon Frankenwrieter and Norah Jones; Emjay weaves a blend of her own original songs\, interpretations of crowd favourites and spontaneous stories which blend to casually invite her audiences to relax\, smile and engage with each other as well as her performance – and all with an ease you might feel if you were sat for a cup of tea in her living room. \nThis point of difference has seen her become a sought-after act by many West Australian venues of note\, including residencies playing six nights per week\, for months on end at famous locations such as El Questro Station and Lake Argyle Resort. \nEmjay has appeared at Nukara\, WAM Fest and Fluffstival music festivals as a solo artist\, supported acts the likes of Saritah\, Juzzie Smith\, Karin Page and Little Quirks\, and also performs as one half of folk duo “Moon & Honey” with her partner Dan White – who opened Good Day Sunshine Festival October 2020\, performing with the likes of John Butler\, Xavier Rudd\, Eskimo Joe\, and Vicki Thorne. \nIn addition to this Emjay appeared as a feature vocalist with Fluid Groove act “Blue Child Collective” who were awarded “Best Regional Act” at the 2019 West Australian Music Awards and were regulars on the festival and international touring circuit -recently playing NZ Spirit Fest\, Bendigo Blues and Roots\, Nannup Music Festival\, Nukara Music Festival and having supported such acts as Xavier Rudd\, Sticky Fingers and The Cat Empire.
URL:https://www.settlerstavern.com/event/emjay-3/
LOCATION:Settlers Tavern\, 114 Bussell Hwy\, Margaret River\, WA\, 6285\, Australia
CATEGORIES:Live Music,Live Music Australia,Pop,Roots
ATTACH;FMTTYPE=image/png:https://www.settlerstavern.com/wp-content/uploads/2024/11/Screenshot-2024-11-25-at-4.20.38 PM-e1734657049381.png
GEO:-33.9498;115.0736
X-APPLE-STRUCTURED-LOCATION;VALUE=URI;X-ADDRESS=Settlers Tavern 114 Bussell Hwy Margaret River WA 6285 Australia;X-APPLE-RADIUS=500;X-TITLE=114 Bussell Hwy:geo:115.0736,-33.9498
END:VEVENT
BEGIN:VEVENT
DTSTART;TZID=Australia/Perth:20241214T210000
DTEND;TZID=Australia/Perth:20241214T233000
DTSTAMP:20260423T073601
CREATED:20241102T014705Z
LAST-MODIFIED:20241102T014919Z
UID:10000888-1734210000-1734219000@www.settlerstavern.com
SUMMARY:SARITAH
DESCRIPTION:Celebrating the release of her 4th full-length album GIFTS\, singer/songwriter/musician Saritah returns to Margaret River for her first show in the area in several years. Devoted to the power of music and songs to uplift\, inspire and activate healing\, the Korean-born\, Perth/Boorloo-raised artist\, who has been based in Los Angeles for most of the last decade\, brings her uniquely feminine blend of evolutionary reggae\, acoustic soul flavours and conscious lyrics home. Saritah’s heartful songs illuminate truths\, singing in a better world and reminding us of our True Nature. Her live performances are a sincere and colourful celebration of life. She has graced the stages of some of the world’s most renowned musical gatherings including Glastonbury (UK)\, Rototom Sunsplash (Spain)\, Reggae Sun Ska (France)\, Cali Roots (USA)\, Sierra Nevada World Music Festival (USA)\, Afrika Tage (Austria)\, Woodford Folk Festival (Australia)\, Electric Forest (USA)\, Jarasum International Jazz Festival (South Korea)\, Bali Spirit Festival (Indonesia)\, Bielawa Reggae (Poland)\, Greenroom Festival (Japan)\, and many\, many more. Featuring collaborations with producers in Los Angeles and Santa Barbara\, California\, Portland\, Oregon as well as Finland\, Spain\, France\, Nigeria and Australia\, GIFTS is a vibrant\, fresh collection of songs to lift up our hearts and minds. Lyrically\, the album journeys on through themes of finding peace\, joy\, giving thanks for life\, slowing down\, having faith and cultivating a sense of self-trust along the way. GIFTS is a colourful body of work that will brighten your day\, leaving you feeling encouraged\, more hopeful\, and less alone. “A soulful and joyous triumph. I can hear the sun shining through my speakers.” -Alex Kortt\, The A&R Department Saritah plays a show with her band on Saturday December 14th at Settlers Tavern.
URL:https://www.settlerstavern.com/event/saritah/
LOCATION:Settlers Tavern\, 114 Bussell Hwy\, Margaret River\, WA\, 6285\, Australia
CATEGORIES:Live Music,Live Music Australia,Reggae,Soul
ATTACH;FMTTYPE=image/jpeg:https://www.settlerstavern.com/wp-content/uploads/2024/11/GIFTS-shoot-laughing-small-scaled-e1730512152284.jpg
GEO:-33.9498;115.0736
X-APPLE-STRUCTURED-LOCATION;VALUE=URI;X-ADDRESS=Settlers Tavern 114 Bussell Hwy Margaret River WA 6285 Australia;X-APPLE-RADIUS=500;X-TITLE=114 Bussell Hwy:geo:115.0736,-33.9498
END:VEVENT
BEGIN:VEVENT
DTSTART;TZID=Australia/Perth:20241215T153000
DTEND;TZID=Australia/Perth:20241215T183000
DTSTAMP:20260423T073601
CREATED:20241125T083534Z
LAST-MODIFIED:20241125T083534Z
UID:10000893-1734276600-1734287400@www.settlerstavern.com
SUMMARY:NATE PARSONS
DESCRIPTION:Nathan Parsons is an acoustic musician\, and part of the Salt Tree duo. Having picked the guitar up at 7 years of age\, he has spent many years honing his skills and writing accompanying lyrics with stories to tell. Nath’s love of the ocean and the mountains are a central theme throughout his music\, combining emotions\, nature and experiences from his life. 
URL:https://www.settlerstavern.com/event/nate-parsons-4/
LOCATION:Settlers Tavern\, 114 Bussell Hwy\, Margaret River\, WA\, 6285\, Australia
CATEGORIES:Acoustic,Live Music,Live Music Australia
ATTACH;FMTTYPE=image/jpeg:https://www.settlerstavern.com/wp-content/uploads/2024/11/IMG_5578-1.jpeg
GEO:-33.9498;115.0736
X-APPLE-STRUCTURED-LOCATION;VALUE=URI;X-ADDRESS=Settlers Tavern 114 Bussell Hwy Margaret River WA 6285 Australia;X-APPLE-RADIUS=500;X-TITLE=114 Bussell Hwy:geo:115.0736,-33.9498
END:VEVENT
BEGIN:VEVENT
DTSTART;TZID=Australia/Perth:20241221T210000
DTEND;TZID=Australia/Perth:20241221T233000
DTSTAMP:20260423T073601
CREATED:20241125T084930Z
LAST-MODIFIED:20241125T084930Z
UID:10000895-1734814800-1734823800@www.settlerstavern.com
SUMMARY:DOWNSYDE
DESCRIPTION:Aussie hip-hop pioneers Downsyde return to the stage at Settlers Tavern\, Margaret River\, on Saturday\, 21 December at 9pm\, as part of their first headline tour in years. Renowned for their groundbreaking energy and electrifying performances\, this tour celebrates their 30th anniversary and the release of their latest album\, Stereotypez. Expect a powerhouse show featuring local talent and SBX representatives.
URL:https://www.settlerstavern.com/event/downsyde/
LOCATION:Settlers Tavern\, 114 Bussell Hwy\, Margaret River\, WA\, 6285\, Australia
CATEGORIES:Hip Hop,Live Music,Live Music Australia
ATTACH;FMTTYPE=image/jpeg:https://www.settlerstavern.com/wp-content/uploads/2024/11/Downsyde-2024-scaled.jpg
GEO:-33.9498;115.0736
X-APPLE-STRUCTURED-LOCATION;VALUE=URI;X-ADDRESS=Settlers Tavern 114 Bussell Hwy Margaret River WA 6285 Australia;X-APPLE-RADIUS=500;X-TITLE=114 Bussell Hwy:geo:115.0736,-33.9498
END:VEVENT
BEGIN:VEVENT
DTSTART;TZID=Australia/Perth:20241222T153000
DTEND;TZID=Australia/Perth:20241222T183000
DTSTAMP:20260423T073601
CREATED:20241125T085757Z
LAST-MODIFIED:20241125T090247Z
UID:10000896-1734881400-1734892200@www.settlerstavern.com
SUMMARY:MICHELLE SPRIGGS & DAVE RASTRICK
DESCRIPTION:Local musicians Michelle Spriggs and David Rastrick will perform in the beer garden at Settlers Tavern on Sunday 22nd December.  \nThe duo have performed together in numerous outfits over the past 15 years throughout the Southwest. Regular performers at weddings\, corporate functions\, concerts and festivals. Their highlights are opening for Boz Skaggs + Michael McDonald\, Diana Krall and Carol King with David’s band ‘Jazztrix’ at Leeuwin Estate.  \nMichelle hails from NZ\, David from Denmark. Both are qualified\, Jazz trained musicians with a joint love of Swing\, Bossa Nova\, Soul and Pop and Reggae. They will intertwine these genres with a mix of covers and original material on guitar\, keyboard\, trumpet and double bass. 
URL:https://www.settlerstavern.com/event/michelle-spriggs-dave-rastrick-3/
LOCATION:Settlers Tavern\, 114 Bussell Hwy\, Margaret River\, WA\, 6285\, Australia
CATEGORIES:Jazz,Live Music,Live Music Australia,Reggae,Soul
ATTACH;FMTTYPE=image/png:https://www.settlerstavern.com/wp-content/uploads/2024/11/Screenshot-2024-11-25-at-4.50.08 PM.png
GEO:-33.9498;115.0736
X-APPLE-STRUCTURED-LOCATION;VALUE=URI;X-ADDRESS=Settlers Tavern 114 Bussell Hwy Margaret River WA 6285 Australia;X-APPLE-RADIUS=500;X-TITLE=114 Bussell Hwy:geo:115.0736,-33.9498
END:VEVENT
BEGIN:VEVENT
DTSTART;TZID=Australia/Perth:20241227T210000
DTEND;TZID=Australia/Perth:20241227T233000
DTSTAMP:20260423T073601
CREATED:20241125T090458Z
LAST-MODIFIED:20241125T090458Z
UID:10000897-1735333200-1735342200@www.settlerstavern.com
SUMMARY:DJ LAYERZ
DESCRIPTION:Get ready to move! Layerz brings the ultimate House Remix Party to Settlers Tavern on Friday\, 27 December. Experience an electrifying night of house remixes\, tech house\, and drum & bass beats that’ll keep the dancefloor alive. With good vibes and great times guaranteed\, it’s the perfect way to wrap up the year. Don’t miss this high-energy celebration!
URL:https://www.settlerstavern.com/event/dj-layerz-6/
LOCATION:Settlers Tavern\, 114 Bussell Hwy\, Margaret River\, WA\, 6285\, Australia
CATEGORIES:DJ
ATTACH;FMTTYPE=image/png:https://www.settlerstavern.com/wp-content/uploads/2024/11/Screenshot-2024-11-25-at-5.04.28 PM.png
GEO:-33.9498;115.0736
X-APPLE-STRUCTURED-LOCATION;VALUE=URI;X-ADDRESS=Settlers Tavern 114 Bussell Hwy Margaret River WA 6285 Australia;X-APPLE-RADIUS=500;X-TITLE=114 Bussell Hwy:geo:115.0736,-33.9498
END:VEVENT
BEGIN:VEVENT
DTSTART;TZID=Australia/Perth:20241228T210000
DTEND;TZID=Australia/Perth:20241228T233000
DTSTAMP:20260423T073601
CREATED:20241125T091415Z
LAST-MODIFIED:20241125T091415Z
UID:10000898-1735419600-1735428600@www.settlerstavern.com
SUMMARY:BIG TOWN PLAYERS
DESCRIPTION:The Big Town Players have emerged in the last seven years as the wild card on the local Perth blues circuit with the international sound. Part Muddy Waters\, part Billy Thorpe\, the old school R & B\, pub rock\, soul and blues influences are undeniable. This is energetic\, Chicago style harmonica driven rock and roll that is perfect to dance to. Sporting a big fat\, raucous\, electric bar room sound and great songwriting\, the Big Town Players have carved out a following that enjoy a lusty live delivery and traditional blues sound with a rock and roll edge. Following appearances at the Bridgetown Blues festivals in 2017 & 2018\, the band released its first album “BIG TOWN” in January of 2019 at the Perth Blues Club to some acclaim. Subsequently the album debuted at #8 on the Australian Blues and Roots Airplay charts (ABARAC) and stayed for a mighty 6 mths. In 2021 BTPs released their second album ‘OTHER SIDE OF TOWN’ that reached #3 on the (ABARAC) charts.
URL:https://www.settlerstavern.com/event/big-town-players-3/
LOCATION:Settlers Tavern\, 114 Bussell Hwy\, Margaret River\, WA\, 6285\, Australia
CATEGORIES:Blues,Live Music,Live Music Australia,Rock
ATTACH;FMTTYPE=image/png:https://www.settlerstavern.com/wp-content/uploads/2024/11/Screenshot-2024-11-25-at-5.09.44 PM.png
GEO:-33.9498;115.0736
X-APPLE-STRUCTURED-LOCATION;VALUE=URI;X-ADDRESS=Settlers Tavern 114 Bussell Hwy Margaret River WA 6285 Australia;X-APPLE-RADIUS=500;X-TITLE=114 Bussell Hwy:geo:115.0736,-33.9498
END:VEVENT
BEGIN:VEVENT
DTSTART;TZID=Australia/Perth:20241229T153000
DTEND;TZID=Australia/Perth:20241229T183000
DTSTAMP:20260423T073601
CREATED:20241125T092422Z
LAST-MODIFIED:20241125T092422Z
UID:10000899-1735486200-1735497000@www.settlerstavern.com
SUMMARY:BIG AL & THE WOLF PACK
DESCRIPTION:Join the Big Al & Wolf Pack for a soulful Sunday session in the beer garden at Settlers Tavern\, Margaret River\, on 29 December. Paying homage to the great blues artists of the 1950s\, Wolf Pack brings the raw sounds of Chicago juke joints and the swamp blues of Baton Rouge to life. Enjoy classic songs from legends like Muddy Waters\, Slim Harpo\, Jimmy Reed\, Magic Sam\, Little Walter\, and more\, delivered with authenticity and passion.
URL:https://www.settlerstavern.com/event/big-al-the-wolf-pack-2/
LOCATION:Settlers Tavern\, 114 Bussell Hwy\, Margaret River\, WA\, 6285\, Australia
CATEGORIES:Blues,Live Music,Live Music Australia,Music
ATTACH;FMTTYPE=image/jpeg:https://www.settlerstavern.com/wp-content/uploads/2024/05/IMG_6433-e1732526648841.jpg
GEO:-33.9498;115.0736
X-APPLE-STRUCTURED-LOCATION;VALUE=URI;X-ADDRESS=Settlers Tavern 114 Bussell Hwy Margaret River WA 6285 Australia;X-APPLE-RADIUS=500;X-TITLE=114 Bussell Hwy:geo:115.0736,-33.9498
END:VEVENT
BEGIN:VEVENT
DTSTART;TZID=Australia/Perth:20241231T190000
DTEND;TZID=Australia/Perth:20250101T010000
DTSTAMP:20260423T073601
CREATED:20231025T232042Z
LAST-MODIFIED:20241217T012019Z
UID:10000859-1735671600-1735693200@www.settlerstavern.com
SUMMARY:NEW YEARS EVE
DESCRIPTION:Ring in the New Year and get your groove on with the Tav’s favourite NYE rockers\n43 CAMBRIDGE!\n \nYOUR HEADLINER…. \n43 Cambridge are a four-piece rock band from Perth Western Australia and have been performing for over 20 years.  They have always played the songs they love as well as releasing four albums of their own material. They are currently performing a collection of songs from some of the great bands of the last 60 years specialising in high energy guitar rhythms\, powerful vocals and harmonica all driven along by Ben Lawrence’s rock-solid beats. Whether playing 60’s\, 70’s\, 80’s\, 90’s\, 21st century or blues\, 43 Cambridge have always been able to tailor a set list thanks to front man Ray’s keen ability to read a room. \n43 Cambridge have played across Australia… from singing for their supper at Eucla Roadhouse\, to shutting down production at Murrin Murrin mine. They’ve played at The Espy in St Kilda\, Settlers Tavern in Margaret River\, Broome\, Adelaide\, Fremantle\, Sydney Wagga Wagga\, Exmouth\, Kalgoorlie\, Albany\, and most places in between. Pubs\, clubs\, weddings\, parties\, corporate and festivals. They’ve played to crowds of ten to ten thousand. \nAlthough a rock ‘n roll act (described as Perth’s ‘Black Crowes’ by Jim from ‘Blue Shaddy’) they have been regulars at the Perth Blues Club\, recording a live album there\, “Too Fast For Blues” which led to appearances at The Bridge Town Blues Festival and West Coast Blues and Roots Festival. They have played with hundreds of acts over the years including Jimmy Barnes\, Mental as Anything\, The Sleepy Jackson\, Jon Butler\, Ed Kuepper and You Am I\, to name a few.  \nPerforming The Stones\, The Doors\, The Killers\, Bowie\, AC/DC\, The black Keys\, MGMT\, Creedence\,  and many more\, with a few of their own thrown in for those who want them! \nSTRICTLY 18 +\n  \nDinner Reservations Recommended
URL:https://www.settlerstavern.com/event/new-years-eve/
LOCATION:Settlers Tavern\, 114 Bussell Hwy\, Margaret River\, WA\, 6285\, Australia
CATEGORIES:Featured,Live Music,Live Music Australia,Music,Rock,Rock'n'Roll,Special Event,Tickets
ATTACH;FMTTYPE=image/jpeg:https://www.settlerstavern.com/wp-content/uploads/2023/10/Settlers-NYE-social-opt-2.jpg
GEO:-33.9498;115.0736
X-APPLE-STRUCTURED-LOCATION;VALUE=URI;X-ADDRESS=Settlers Tavern 114 Bussell Hwy Margaret River WA 6285 Australia;X-APPLE-RADIUS=500;X-TITLE=114 Bussell Hwy:geo:115.0736,-33.9498
END:VEVENT
END:VCALENDAR