BEGIN:VCALENDAR
VERSION:2.0
PRODID:-//Settlers Tavern - ECPv6.15.20//NONSGML v1.0//EN
CALSCALE:GREGORIAN
METHOD:PUBLISH
X-WR-CALNAME:Settlers Tavern
X-ORIGINAL-URL:https://www.settlerstavern.com
X-WR-CALDESC:Events for Settlers Tavern
REFRESH-INTERVAL;VALUE=DURATION:PT1H
X-Robots-Tag:noindex
X-PUBLISHED-TTL:PT1H
BEGIN:VTIMEZONE
TZID:Australia/Perth
BEGIN:STANDARD
TZOFFSETFROM:+0800
TZOFFSETTO:+0800
TZNAME:AWST
DTSTART:20220101T000000
END:STANDARD
END:VTIMEZONE
BEGIN:VEVENT
DTSTART;TZID=Australia/Perth:20230101T153000
DTEND;TZID=Australia/Perth:20230101T183000
DTSTAMP:20260426T082717
CREATED:20221128T205419Z
LAST-MODIFIED:20240530T054811Z
UID:10000790-1672587000-1672597800@www.settlerstavern.com
SUMMARY:New Years Day - Publicans & Sinners
DESCRIPTION:FREE ENTRY\nJoin us on New Year’s Day\, to celebrate and enjoy the Publicans & Sinners on the verandah!\nMike Goodwin is a familiar face of the music scene in his hometown of Margaret River. A regular on the local stages for some 25 years\, though it wasn’t till relatively recently that Mike began to record and play his own original songs.\nIn 2018/19 Mike was a WAM “Song of the Year” finalist in the country category for “I’ll Be Gone”\, then again in 2020 for “As if you were there”. In 2020 Mike was a finalist in the Male\, EP and Songwriter categories at the West Australian Country Music Awards\, where he won In the Songwriter category. In 2022 he was again a finalist in the best male and video clip categories where\, along with co-producer\, wife Ange\, they were successful in the video category.\nDrawn to sounds from the past\, Mike’s blends a unique baritone vocal with tight rhythms and retro flavoured pop\, folk and country music.\nJoined by Maestro Kev McDonald\, guitarist/bassist extraordinaire\, the duo looks forward to entertaining the crowd on the first day of a fresh new year.
URL:https://www.settlerstavern.com/event/new-years-day-publicans-sinners/
LOCATION:Settlers Tavern\, 114 Bussell Hwy\, Margaret River\, WA\, 6285\, Australia
CATEGORIES:Country,Folk,Live Music Australia,Music,Pop
ATTACH;FMTTYPE=image/jpeg:https://www.settlerstavern.com/wp-content/uploads/2024/04/Mike-and-Kev-Poster-1resized.jpg
GEO:-33.9498;115.0736
X-APPLE-STRUCTURED-LOCATION;VALUE=URI;X-ADDRESS=Settlers Tavern 114 Bussell Hwy Margaret River WA 6285 Australia;X-APPLE-RADIUS=500;X-TITLE=114 Bussell Hwy:geo:115.0736,-33.9498
END:VEVENT
BEGIN:VEVENT
DTSTART;TZID=Australia/Perth:20230106T210000
DTEND;TZID=Australia/Perth:20230106T210000
DTSTAMP:20260426T082717
CREATED:20221213T185347Z
LAST-MODIFIED:20240530T054828Z
UID:10000617-1673038800-1673038800@www.settlerstavern.com
SUMMARY:DJ ERIK
DESCRIPTION:FREE ENTRY
URL:https://www.settlerstavern.com/event/dj-erik-21-3/
LOCATION:Settlers Tavern\, 114 Bussell Hwy\, Margaret River\, WA\, 6285\, Australia
CATEGORIES:DJ,Music
ATTACH;FMTTYPE=image/jpeg:https://www.settlerstavern.com/wp-content/uploads/2024/03/dj-erik.jpg
GEO:-33.9498;115.0736
X-APPLE-STRUCTURED-LOCATION;VALUE=URI;X-ADDRESS=Settlers Tavern 114 Bussell Hwy Margaret River WA 6285 Australia;X-APPLE-RADIUS=500;X-TITLE=114 Bussell Hwy:geo:115.0736,-33.9498
END:VEVENT
BEGIN:VEVENT
DTSTART;TZID=Australia/Perth:20230107T210000
DTEND;TZID=Australia/Perth:20230107T210000
DTSTAMP:20260426T082717
CREATED:20221128T193830Z
LAST-MODIFIED:20240530T054810Z
UID:10000789-1673125200-1673125200@www.settlerstavern.com
SUMMARY:Junkadelic Brass Band
DESCRIPTION:FREE ENTRY\nFacebook event: facebook.com/events/453667823380915/ \nJunkadelic Play Settlers!\nA band like nothing else in the Southern Hemisphere! Blending Street rhythms with – New Orleans style jazz – Funk grooves – Latin flavours and hip-hop\, the Junkadelic Brass Band is full of surprises – not the least of which is the awesome beats and rhythms from the junk percussion section!\nLead Singer Tani Walker brings her soul future funk to the band\, blending elements of blues\, and raw powerhouse vocals with a commanding icy edge.
URL:https://www.settlerstavern.com/event/junkadelic-brass-band/
LOCATION:Settlers Tavern\, 114 Bussell Hwy\, Margaret River\, WA\, 6285\, Australia
CATEGORIES:Funk,Hip Hop,Jazz,Latin,Live Music Australia,Music
ATTACH;FMTTYPE=image/jpeg:https://www.settlerstavern.com/wp-content/uploads/2024/04/Junkadelic-Settlers-Jan-2023resize.jpg
GEO:-33.9498;115.0736
X-APPLE-STRUCTURED-LOCATION;VALUE=URI;X-ADDRESS=Settlers Tavern 114 Bussell Hwy Margaret River WA 6285 Australia;X-APPLE-RADIUS=500;X-TITLE=114 Bussell Hwy:geo:115.0736,-33.9498
END:VEVENT
BEGIN:VEVENT
DTSTART;TZID=Australia/Perth:20230108T153000
DTEND;TZID=Australia/Perth:20230108T183000
DTSTAMP:20260426T082717
CREATED:20221207T180941Z
LAST-MODIFIED:20240530T054825Z
UID:10000796-1673191800-1673202600@www.settlerstavern.com
SUMMARY:Sash Seabourne
DESCRIPTION:FREE ENTRY\nFacebook Event \nWest Australian singer/songwriter Sash Seabourne ushers in a new era of his musical work with a stripped back solo tour of WA to celebrate the release of his new single “Receiver” \n_________________________________________________________\nSash is quickly making a name for himself as one of Australia’s rising Indie artists. His debut single ‘Constant’ won hearts across the country in 2021\, garnering him a sold out launch at Mojos bar and airplay on Triple J. Followed by the striking piano ballad “Hourglass”\, he landed the artist spotlight on Unearthed and an extensive summer regional tour across the state.\nRaised on the pristine coast of the South West\, this emerging songwriter’s work speaks volumes beyond his years. This music digs deep\, conjuring up stories of love and loss\, joy and sorrow in songs that transcend one human soul’s experience. Playing in solo and 5-piece band format\, his live performances have quickly gained momentum. Sash has supported Riley Pearce\, Great Gable\, Michael Dunstan\, Kav Temperley and Paige Valentine.\nSash possesses a writing style that echoes the disarming poignancy of Maggie Rogers and Sam Fender\, laced with timeless inspiration drawn from Bruce Springsteen and Stevie Nicks. Combining his rough-hewn vocals\, intricate compositions and bare-faced lyricism\, Sash is on the path to cementing himself as one of the most exciting songwriters and performers of the West Australian Scene.\n_________________________________________________________\n*I acknowledge this event is taking place on stolen land – Whadjuk Noongar Boodja. This was\, is and always will be Aboriginal land. I pay my respects to the traditional custodians of the land.\n*This is a zero tolerance event\, anti-social or disrespectful behaviour of any kind will not to tolerated and will be acted on immediately. Look after each other.
URL:https://www.settlerstavern.com/event/sash-seabourne-3-3/
LOCATION:Settlers Tavern\, 114 Bussell Hwy\, Margaret River\, WA\, 6285\, Australia
CATEGORIES:Blues,Live Music Australia,Music,Roots
ATTACH;FMTTYPE=image/jpeg:https://www.settlerstavern.com/wp-content/uploads/2024/04/sash-seabourne.jpeg
GEO:-33.9498;115.0736
X-APPLE-STRUCTURED-LOCATION;VALUE=URI;X-ADDRESS=Settlers Tavern 114 Bussell Hwy Margaret River WA 6285 Australia;X-APPLE-RADIUS=500;X-TITLE=114 Bussell Hwy:geo:115.0736,-33.9498
END:VEVENT
BEGIN:VEVENT
DTSTART;TZID=Australia/Perth:20230113T210000
DTEND;TZID=Australia/Perth:20230113T210000
DTSTAMP:20260426T082717
CREATED:20221213T185845Z
LAST-MODIFIED:20240530T054829Z
UID:10000799-1673643600-1673643600@www.settlerstavern.com
SUMMARY:DJ KIYOSHI
DESCRIPTION:FREE ENTRY
URL:https://www.settlerstavern.com/event/dj-kiyoshi-6-3/
LOCATION:Settlers Tavern\, 114 Bussell Hwy\, Margaret River\, WA\, 6285\, Australia
CATEGORIES:DJ,Music
ATTACH;FMTTYPE=image/jpeg:https://www.settlerstavern.com/wp-content/uploads/2024/04/dj-kiyoshi.jpeg
GEO:-33.9498;115.0736
X-APPLE-STRUCTURED-LOCATION;VALUE=URI;X-ADDRESS=Settlers Tavern 114 Bussell Hwy Margaret River WA 6285 Australia;X-APPLE-RADIUS=500;X-TITLE=114 Bussell Hwy:geo:115.0736,-33.9498
END:VEVENT
BEGIN:VEVENT
DTSTART;TZID=Australia/Perth:20230121T210000
DTEND;TZID=Australia/Perth:20230121T210000
DTSTAMP:20260426T082717
CREATED:20221109T190324Z
LAST-MODIFIED:20240530T054751Z
UID:10000779-1674334800-1674334800@www.settlerstavern.com
SUMMARY:Sky Eater
DESCRIPTION:FREE ENTRY\nFacebook event: facebook.com/events/1368001910668526/ \nEast coast powerhouse Sky Eater are bringing their inimitable brand of soul infused trip-hop dub n’ jungle to Settlers Tavern for a fat Sat session. Sax\, bass\, beats\, dubs\, loops n’ rhymes to get the weekend pumpin!\nAfter many years touring Australia\, NZ and the UK with performances at Boomtown Fair\, Earth Frequency\, Glastonbury\, Island Vibe\, Rainbow Serpent\, Woodford\, Queenscliff and Luminate festivals this high calibre\, multi-instrumental live looping duo are finally hitting WA to reclaim the tour that got locked down in 2020.
URL:https://www.settlerstavern.com/event/sky-eater/
LOCATION:Settlers Tavern\, 114 Bussell Hwy\, Margaret River\, WA\, 6285\, Australia
CATEGORIES:Dub,Live Music Australia,Music,Soul,Trip Hop
ATTACH;FMTTYPE=image/jpeg:https://www.settlerstavern.com/wp-content/uploads/2024/04/webskyeater.jpg
GEO:-33.9498;115.0736
X-APPLE-STRUCTURED-LOCATION;VALUE=URI;X-ADDRESS=Settlers Tavern 114 Bussell Hwy Margaret River WA 6285 Australia;X-APPLE-RADIUS=500;X-TITLE=114 Bussell Hwy:geo:115.0736,-33.9498
END:VEVENT
BEGIN:VEVENT
DTSTART;TZID=Australia/Perth:20230128T210000
DTEND;TZID=Australia/Perth:20230128T210000
DTSTAMP:20260426T082717
CREATED:20221207T181535Z
LAST-MODIFIED:20240530T054825Z
UID:10000797-1674939600-1674939600@www.settlerstavern.com
SUMMARY:Grant Haua
DESCRIPTION:FREE ENTRY\nResiding in Tauranga New Zealand\, Grant Haua picked up the guitar at age 13\, and in his own words\, “I am still learning that guitar today”. Singer/Songwriter/Guitarist on 7 studio albums Grant’s latest album AWA Blues was a top 25 Album of the year in Rolling Stone Magazine France in 2021. ‘This is the Place’ track on the album debuted at No.1 on New Zealand’s iTunes Blues charts. \nGrant is no stranger to WA\, touring annually in the West between 2015 and 2019 with New Zealand’s most infuential duo; ‘Swamp Thing” including mesmerising performances at Nannup and Bridgetown Music Festivals. Following his own path and love of Soul/Blues songwriting and performing\, Grant departed Swamp Thing in 2019 pursuing his own solo career. Europe has embraced Grant Haua’s unique sound with his powerful vocals and blistering fingers on the guitar\, leading onto the signing by French label\, Dixie Frog records followed by a tour through Europe in 2022. Grant’s highlight of the Europe tour; performing a full set on iconic German Music TV Show Rockpalast. \nThis ‘Salt of the Earth’ humble guy leaves nothing behind on stage after every performance. Grant Haua delivers diversity in Soul and Blues/Rock like no other\, from acoustic ballads to riff grinding foot stomping make ya heels burn music. If you only do one live music gig per year\, this is the one for you not to miss!
URL:https://www.settlerstavern.com/event/grant-haua/
LOCATION:Settlers Tavern\, 114 Bussell Hwy\, Margaret River\, WA\, 6285\, Australia
CATEGORIES:Blues,Live Music Australia,Music,Soul
ATTACH;FMTTYPE=image/jpeg:https://www.settlerstavern.com/wp-content/uploads/2024/04/Grant-Haua-A3-Grant-Haua-Instagram-Tile.jpg
GEO:-33.9498;115.0736
X-APPLE-STRUCTURED-LOCATION;VALUE=URI;X-ADDRESS=Settlers Tavern 114 Bussell Hwy Margaret River WA 6285 Australia;X-APPLE-RADIUS=500;X-TITLE=114 Bussell Hwy:geo:115.0736,-33.9498
END:VEVENT
BEGIN:VEVENT
DTSTART;TZID=Australia/Perth:20230129T153000
DTEND;TZID=Australia/Perth:20230129T183000
DTSTAMP:20260426T082717
CREATED:20221207T181742Z
LAST-MODIFIED:20240530T054826Z
UID:10000798-1675006200-1675017000@www.settlerstavern.com
SUMMARY:Grant Haua - Sunday Session
DESCRIPTION:FREE ENTRY\nResiding in Tauranga New Zealand\, Grant Haua picked up the guitar at age 13\, and in his own words\, “I am still learning that guitar today”. Singer/Songwriter/Guitarist on 7 studio albums Grant’s latest album AWA Blues was a top 25 Album of the year in Rolling Stone Magazine France in 2021. ‘This is the Place’ track on the album debuted at No.1 on New Zealand’s iTunes Blues charts. \nGrant is no stranger to WA\, touring annually in the West between 2015 and 2019 with New Zealand’s most infuential duo; ‘Swamp Thing” including mesmerising performances at Nannup and Bridgetown Music Festivals. Following his own path and love of Soul/Blues songwriting and performing\, Grant departed Swamp Thing in 2019 pursuing his own solo career. Europe has embraced Grant Haua’s unique sound with his powerful vocals and blistering fingers on the guitar\, leading onto the signing by French label\, Dixie Frog records followed by a tour through Europe in 2022. Grant’s highlight of the Europe tour; performing a full set on iconic German Music TV Show Rockpalast. \nThis ‘Salt of the Earth’ humble guy leaves nothing behind on stage after every performance. Grant Haua delivers diversity in Soul and Blues/Rock like no other\, from acoustic ballads to riff grinding foot stomping make ya heels burn music. If you only do one live music gig per year\, this is the one for you not to miss!
URL:https://www.settlerstavern.com/event/grant-haua-sunday-session/
LOCATION:Settlers Tavern\, 114 Bussell Hwy\, Margaret River\, WA\, 6285\, Australia
CATEGORIES:Blues,Live Music Australia,Music,Soul
ATTACH;FMTTYPE=image/jpeg:https://www.settlerstavern.com/wp-content/uploads/2024/04/Grant-Haua-A3-Grant-Haua-Instagram-Tile.jpg
GEO:-33.9498;115.0736
X-APPLE-STRUCTURED-LOCATION;VALUE=URI;X-ADDRESS=Settlers Tavern 114 Bussell Hwy Margaret River WA 6285 Australia;X-APPLE-RADIUS=500;X-TITLE=114 Bussell Hwy:geo:115.0736,-33.9498
END:VEVENT
END:VCALENDAR