BEGIN:VCALENDAR
VERSION:2.0
PRODID:-//Settlers Tavern - ECPv6.15.20//NONSGML v1.0//EN
CALSCALE:GREGORIAN
METHOD:PUBLISH
X-ORIGINAL-URL:https://www.settlerstavern.com
X-WR-CALDESC:Events for Settlers Tavern
REFRESH-INTERVAL;VALUE=DURATION:PT1H
X-Robots-Tag:noindex
X-PUBLISHED-TTL:PT1H
BEGIN:VTIMEZONE
TZID:Australia/Perth
BEGIN:STANDARD
TZOFFSETFROM:+0800
TZOFFSETTO:+0800
TZNAME:AWST
DTSTART:20250101T000000
END:STANDARD
END:VTIMEZONE
BEGIN:VEVENT
DTSTART;TZID=Australia/Perth:20260508T210000
DTEND;TZID=Australia/Perth:20260508T233000
DTSTAMP:20260423T170011
CREATED:20260320T100506Z
LAST-MODIFIED:20260320T100506Z
UID:10001108-1778274000-1778283000@www.settlerstavern.com
SUMMARY:Belu Casas
DESCRIPTION:Belu Casas\, born as María Belén Casas in Buenos Aires\, Argentina\, is a music producer and electronic music DJ whose love for music began at an early age. Raised in a family where music was always present\, surrounded by relatives who played instruments\, sang\, and shared a rich musical tradition\, Belu grew up surrounded by notes and melodies. Her formal music training began when she was a child\, and over the years\, she refined her skills\, eventually becoming a teacher of various musical instruments. \nAt the age of 27\, Belu was drawn to the world of electronic music\, which marked a significant turning point in her career. She began to explore this genre more deeply and immerse herself in the electronic culture by attending events and acquiring her own equipment to mix. During the pandemic\, she found space to develop her craft\, while also experimenting with new sounds. Today\, she continues to refine her technique\, dedicating time to studying synthesizers and other tools that allow her to expand her knowledge and explore different subgenres of electronic music. \nAt 32 years old\, Belu has had the opportunity to travel through Italy\, an experience that inspired her to continue expanding her career. She currently resides Australia\, where she enjoys the landscape and the tranquility the place offers\, while continuing to share her music and talent at various locations in the region. Her passion for electronic music\, along with her constant search for new sounds\, has solidified her as an emerging artist in the international electronic music scene.
URL:https://www.settlerstavern.com/event/belu-casas-4/
LOCATION:Settlers Tavern\, 114 Bussell Hwy\, Margaret River\, WA\, 6285\, Australia
CATEGORIES:House,Live Music,Live Music Australia,Techno,Techouse
ATTACH;FMTTYPE=image/png:https://www.settlerstavern.com/wp-content/uploads/2026/03/Website-banner-template-36.png
GEO:-33.9498;115.0736
X-APPLE-STRUCTURED-LOCATION;VALUE=URI;X-ADDRESS=Settlers Tavern 114 Bussell Hwy Margaret River WA 6285 Australia;X-APPLE-RADIUS=500;X-TITLE=114 Bussell Hwy:geo:115.0736,-33.9498
END:VEVENT
BEGIN:VEVENT
DTSTART;TZID=Australia/Perth:20260524T150000
DTEND;TZID=Australia/Perth:20260524T180000
DTSTAMP:20260423T170011
CREATED:20260403T050103Z
LAST-MODIFIED:20260403T050103Z
UID:10001111-1779634800-1779645600@www.settlerstavern.com
SUMMARY:Cael McLeish
DESCRIPTION:With a voice that can awaken the ancients and rhythmic\, thumping guitar vibes\, Bunbury-based singer-songwriter Cael McLeish has been carving his name across Perth\, WA’s South West\, and beyond. Born and raised in Bunbury\, Cael has been performing since a young age. From school assemblies and theatre shows to music tuition recitals\, he learned to hone both his voice and stage presence into his ultimate tool. \nSince 2015\, Cael has only pushed further into music\, studying Certs III and IV at the Southern College of Music\, recording his first solo album at just 16 with James Newhouse\, and cutting his teeth in WA’s hard rock scene with Volatus. Today\, he balances his solo career with drumming for Busselton heavy-hitters Lines of Conviction — a journey that has shaped a dynamic identity rooted in acoustic rock but sharpened by the energy of heavier sounds. \nHis latest EP\, Everywhere But Anywhere (released July 21st\, 2025)\, marks not just a second chapter\, but a leap forward — transforming raw acoustic sketches into expansive rock-driven statements that capture both grit and vulnerability. \nDo not miss Cael McLeish bringing his unmistakable voice and thundering acoustic energy to Margaret River in May 24th\, 2026!
URL:https://www.settlerstavern.com/event/cael-mcleish/
LOCATION:Settlers Tavern\, 114 Bussell Hwy\, Margaret River\, WA\, 6285\, Australia
CATEGORIES:Acoustic,Live Music,Live Music Australia,Rock
ATTACH;FMTTYPE=image/png:https://www.settlerstavern.com/wp-content/uploads/2026/04/Website-banner-template-37.png
GEO:-33.9498;115.0736
X-APPLE-STRUCTURED-LOCATION;VALUE=URI;X-ADDRESS=Settlers Tavern 114 Bussell Hwy Margaret River WA 6285 Australia;X-APPLE-RADIUS=500;X-TITLE=114 Bussell Hwy:geo:115.0736,-33.9498
END:VEVENT
END:VCALENDAR